Felt | Verdi |
AlreadyApplied | True |
Aperture | 9.0 |
ApertureValue | 9.0 |
Artist | Dalibor Jovic |
BitsPerSample | 8 |
BlueHue | 0 |
BlueSaturation | 0 |
Brightness | +50 |
By-line | Dalibor Jovic |
CameraProfile | Adobe Standard |
ChromaticAberrationB | 0 |
ChromaticAberrationR | 0 |
CircleOfConfusion | 0.019 mm |
Clarity | +15 |
ColorComponents | 3 |
ColorNoiseReduction | 25 |
ColorNoiseReductionDetail | 50 |
ColorTemperature | 6943 |
Contrast | +25 |
ConvertToGrayscale | False |
Copyright | Copyright Owner = Copyright (c) 2011 by Dalibor Jovic. All rights reserved. |
CopyrightFlag | True |
CopyrightNotice | Copyright Owner = Copyright (c) 2011 by Dalibor Jovic. All rights reserved. |
CreateDate (1) | 2012:01:08 11:59:28+01:00 |
CreateDate | 2012:01:08 11:59:28 |
Creator | Dalibor Jovic |
CreatorTool | Adobe Photoshop Lightroom |
CropAngle | 0 |
CropBottom | 0.989444 |
CropConstrainToWarp | 0 |
CropHeight | 533 |
CropLeft | 0.036666 |
CropRight | 0.972222 |
CropTop | 0.053889 |
CropUnit | pixels |
CropWidth | 800 |
CustomRendered | Normal |
DateTimeDigitized | 2012:01:08 11:59:28+01:00 |
DateTimeOriginal (1) | 2012:01:08 11:59:28+01:00 |
DateTimeOriginal | 2012:01:08 11:59:28 |
Defringe | 0 |
ExifImageHeight | 533 |
ExifImageWidth | 800 |
Exposure | +0.70 |
ExposureCompensation | -2/3 |
ExposureMode | Auto bracket |
ExposureProgram | Aperture-priority AE |
ExposureTime | 1/40 |
FillLight | 21 |
Firmware | 1.1.1 |
Flash | Off, Did not fire |
FlashCompensation | 0 |
FlashFired | False |
FlashFunction | False |
FlashMode | Off |
FlashRedEyeMode | False |
FlashReturn | No return detection |
FNumber | 9.0 |
FocalLength | 26.0 mm |
FocalLength35efl | 26.0 mm (35 mm equivalent: 42.1 mm) |
FOV | 46.3 deg |
GradientBasedCorrActive | true |
GradientBasedCorrAmount | 1.000000 |
GradientBasedCorrBrightness (1) | -0.122000 |
GradientBasedCorrBrightness | -0.073000 |
GradientBasedCorrClarity | 0.000000 |
GradientBasedCorrContrast | 0.000000 |
GradientBasedCorrExposure | -0.049000 |
GradientBasedCorrHue | 230.000000 |
GradientBasedCorrMaskFullX (1) | 0.509642 |
GradientBasedCorrMaskFullX | 0.486772 |
GradientBasedCorrMaskFullY (1) | 0.258152 |
GradientBasedCorrMaskFullY | 0.847551 |
GradientBasedCorrMaskValue | 1.000000 |
GradientBasedCorrMaskWhat | Mask/Gradient |
GradientBasedCorrMaskZeroX (1) | 0.506523 |
GradientBasedCorrMaskZeroX | 0.483654 |
GradientBasedCorrMaskZeroY (1) | 0.482685 |
GradientBasedCorrMaskZeroY | 0.549733 |
GradientBasedCorrSaturation (1) | 0.098000 |
GradientBasedCorrSaturation | 0.500000 |
GradientBasedCorrSharpness | 0.000000 |
GradientBasedCorrWhat | Correction |
GrainAmount | 0 |
GreenHue | 0 |
GreenSaturation | 0 |
HasCrop | True |
HasSettings | True |
HighlightRecovery | 7 |
HueAdjustmentAqua | 0 |
HueAdjustmentBlue | 0 |
HueAdjustmentGreen | 0 |
HueAdjustmentMagenta | 0 |
HueAdjustmentOrange | 0 |
HueAdjustmentPurple | 0 |
HueAdjustmentRed | 0 |
HueAdjustmentYellow | 0 |
HyperfocalDistance | 4.05 m |
ImageHeight | 533 |
ImageNumber | 160 |
ImageSize | 800x533 |
ImageWidth | 800 |
ISO | 100 |
Lens | EF-S17-85mm f/4-5.6 IS USM |
LensID (1) | 234 |
LensID | Canon EF-S 17-85mm f/4-5.6 IS USM |
LensInfo | 17-85mm f/? |
LensManualDistortionAmount | 0 |
LensProfileEnable | 0 |
LensProfileSetup | LensDefaults |
LightValue | 11.7 |
LuminanceAdjustmentAqua | 0 |
LuminanceAdjustmentBlue | 0 |
LuminanceAdjustmentGreen | 0 |
LuminanceAdjustmentMagenta | 0 |
LuminanceAdjustmentOrange | 0 |
LuminanceAdjustmentPurple | 0 |
LuminanceAdjustmentRed | 0 |
LuminanceAdjustmentYellow | 0 |
LuminanceSmoothing | 0 |
Make | Canon |
Marked | True |
MaxApertureValue | 4.0 |
Megapixels | 0.426 |
MeteringMode | Multi-segment |
Model | Canon EOS 400D DIGITAL |
ModifyDate (1) | 2012:01:30 22:54:06+01:00 |
ModifyDate | 2012:01:30 22:54:06 |
OwnerName | Dalibor Jovic |
PaintCorrectionActive | true |
PaintCorrectionAmount | 1.000000 |
PaintCorrectionBrightness | 0.000000 |
PaintCorrectionClarity | 0.655172 |
PaintCorrectionContrast | 0.000000 |
PaintCorrectionExposure | 0.172414 |
PaintCorrectionHue | 240.000000 |
PaintCorrectionMaskCenterWeight | 0.000000 |
PaintCorrectionMaskFlow | 1.000000 |
PaintCorrectionMaskRadius | 0.089605 |
PaintCorrectionMaskValue | 0.226000 |
PaintCorrectionMaskWhat | Mask/Paint |
PaintCorrectionSaturation (1) | 0.701149 |
PaintCorrectionSaturation | 0.000000 |
PaintCorrectionSharpness | 0.000000 |
PaintCorrectionWhat | Correction |
ParametricDarks | +16 |
ParametricHighlights | -43 |
ParametricHighlightSplit | 75 |
ParametricLights | -7 |
ParametricMidtoneSplit | 50 |
ParametricShadows | -5 |
ParametricShadowSplit | 25 |
PerspectiveHorizontal | 0 |
PerspectiveRotate | 0.0 |
PerspectiveScale | 100 |
PerspectiveVertical | 0 |
PostCropVignetteAmount | 0 |
ProcessVersion | 5.7 |
ProfileDescription | sRGB IEC61966-2.1 |
Rating | 5 |
RedHue | 0 |
RedSaturation | 0 |
Rights | Copyright Owner = Copyright (c) 2011 by Dalibor Jovic. All rights reserved. |
Saturation | 0 |
SaturationAdjustmentAqua | 0 |
SaturationAdjustmentBlue | 0 |
SaturationAdjustmentGreen | 0 |
SaturationAdjustmentMagenta | 0 |
SaturationAdjustmentOrange | 0 |
SaturationAdjustmentPurple | 0 |
SaturationAdjustmentRed | 0 |
SaturationAdjustmentYellow | 0 |
ScaleFactor35efl | 1.6 |
SceneCaptureType | Standard |
SerialNumber | 1831117261 |
Shadows | 9 |
ShadowTint | 0 |
SharpenDetail | 25 |
SharpenEdgeMasking | 0 |
SharpenRadius | +1.0 |
Sharpness | 25 |
ShutterSpeed | 1/40 |
ShutterSpeedValue | 1/40 |
SplitToningBalance | 0 |
SplitToningHighlightHue | 0 |
SplitToningHighlightSaturation | 0 |
SplitToningShadowHue | 0 |
SplitToningShadowSaturation | 0 |
Tint | +30 |
ToneCurve | 0, 0, 32, 16, 64, 50, 128, 128, 192, 202, 255, 255 |
ToneCurveName | Strong Contrast |
Version | 6.1 |
Vibrance | +5 |
VignetteAmount | 0 |
WhiteBalance (2) | Custom |
WhiteBalance | Auto |