Felt | Verdi |
AlreadyApplied | True |
Aperture | 10.0 |
ApertureValue | 10.0 |
ApproximateFocusDistance | 4294967295 |
AutoLateralCA | 0 |
BitsPerSample | 8 |
BlackClip | 0.000000 |
Blacks2012 | 0 |
BlueHue | 0 |
BlueSaturation | 0 |
Brightness | -6.0 |
CameraProfile | Adobe Standard |
Clarity2012 | 0 |
ColorComponents | 1 |
ColorNoiseReduction | 25 |
ColorNoiseReductionDetail | 50 |
ColorTemperature | 0.0 |
Contrast | 3.0 |
Contrast2012 | 0 |
ConvertToGrayscale | True |
CreateDate (1) | 2012:06:12 08:54:39.00 |
CreateDate | 2012:06:12 08:54:39 |
CreatorTool | Adobe Photoshop Lightroom 4.1 (Macintosh) |
DateCreated (1) | 2012:06:12 |
DateCreated | 2012:06:12 08:54:39.00 |
DateTimeOriginal | 2012:06:12 08:54:39 |
Exposure2012 | 0.00 |
ExposureTime | 1/250 |
FNumber | 10.0 |
FocalLength | 85.0 mm |
FocalLength35efl | 85.0 mm |
Format | image/jpeg |
GradientBasedCorrActive | true |
GradientBasedCorrAmount | 1.000000 |
GradientBasedCorrBrightness | 0.000000 |
GradientBasedCorrClarity2012 | 0.028033 |
GradientBasedCorrContrast2012 | 0.000000 |
GradientBasedCorrDefringe | 0.000000 |
GradientBasedCorrExposure2012 | -0.279963 |
GradientBasedCorrHighlights2012 | 0.000000 |
GradientBasedCorrHue | 233.000000 |
GradientBasedCorrLuminanceNoise | 0.000000 |
GradientBasedCorrMaskFullX | 0.581160 |
GradientBasedCorrMaskFullY | 0.254735 |
GradientBasedCorrMaskValue | 1.000000 |
GradientBasedCorrMaskWhat | Mask/Gradient |
GradientBasedCorrMaskZeroX | 0.526276 |
GradientBasedCorrMaskZeroY | 0.762424 |
GradientBasedCorrMoire | 0.000000 |
GradientBasedCorrSaturation (1) | 0.021415 |
GradientBasedCorrSaturation | 0.000000 |
GradientBasedCorrShadows2012 | 0.000000 |
GradientBasedCorrSharpness | 0.000000 |
GradientBasedCorrTemperature | 0.000000 |
GradientBasedCorrTint | 0.000000 |
GradientBasedCorrWhat | Correction |
GrainAmount | 0 |
GrayMixerAqua | +25 |
GrayMixerBlue | 0 |
GrayMixerGreen | -5 |
GrayMixerMagenta | -40 |
GrayMixerOrange | +38 |
GrayMixerPurple | -30 |
GrayMixerRed | +50 |
GrayMixerYellow | +36 |
GreenHue | 0 |
GreenSaturation | 0 |
HasCrop | False |
HasSettings | True |
Highlights2012 | 0 |
ImageHeight | 848 |
ImageNumber | 17420 |
ImageSize | 1280x848 |
ImageWidth | 1280 |
IncrementalTemperature | 0 |
IncrementalTint | 0 |
ISO | 500 |
Lens | 70.0-300.0 mm f/4.5-5.6 |
LensID | 141 |
LensInfo | 70-300mm f/4.5-5.6 |
LensManualDistortionAmount | 0 |
LensModel | 70.0-300.0 mm f/4.5-5.6 |
LensProfileEnable | 0 |
LensProfileSetup | LensDefaults |
LightValue | 12.3 |
LuminanceSmoothing | 0 |
Megapixels | 1.1 |
Method | Tone Compressor |
Model | NIKON D90 |
ModifyDate (1) | 2012:06:17 16:51:24+02:00 |
ModifyDate | 2012:06:17 16:51:24 |
ParametricDarks | +18 |
ParametricHighlights | +50 |
ParametricHighlightSplit | 75 |
ParametricLights | +40 |
ParametricMidtoneSplit | 50 |
ParametricShadows | 0 |
ParametricShadowSplit | 25 |
PerspectiveHorizontal | 0 |
PerspectiveRotate | 0.0 |
PerspectiveScale | 100 |
PerspectiveVertical | 0 |
PostCropVignetteAmount | -23 |
PostCropVignetteFeather | 50 |
PostCropVignetteHighlightContrast | 0 |
PostCropVignetteMidpoint | 50 |
PostCropVignetteRoundness | 0 |
PostCropVignetteStyle | 1 |
ProcessVersion | 6.7 |
ProfileDescription | sRGB IEC61966-2.1 |
RedHue | 0 |
RedSaturation | 0 |
Saturation | 0.0 |
SerialNumber | 6177193 |
Shadows2012 | 0 |
ShadowTint | 0 |
SharpenDetail | 25 |
SharpenEdgeMasking | 0 |
SharpenRadius | +1.0 |
Sharpness | 25 |
ShutterSpeed | 1/250 |
ShutterSpeedValue | 1/250 |
Software | Adobe Photoshop Lightroom 4.1 (Macintosh) |
SplitToningBalance | 0 |
SplitToningHighlightHue | 0 |
SplitToningHighlightSaturation | 0 |
SplitToningShadowHue | 0 |
SplitToningShadowSaturation | 0 |
ToneCurveName2012 | Strong Contrast |
ToneCurvePV2012 | 0, 0, 32, 16, 64, 50, 128, 128, 192, 202, 255, 255 |
ToneCurvePV2012Blue | 0, 0, 255, 255 |
ToneCurvePV2012Green | 0, 0, 255, 255 |
ToneCurvePV2012Red | 0, 0, 255, 255 |
Version (1) | 4.1 |
Version | 7.1 |
VignetteAmount | 0 |
WhiteBalance | As Shot |
WhiteClip | 0.000000 |
Whites2012 | 0 |