Felt | Verdi |
AlreadyApplied | True |
Aperture | 4.0 |
ApertureValue | 4.0 |
ApproximateFocusDistance | 29.9 |
BitsPerSample (1) | 8 8 8 |
BitsPerSample | 8 |
BlueHue | 0 |
BlueSaturation | 0 |
Brightness | +50 |
CameraProfile | Adobe Standard |
CFAPattern | [Red,Green][Green,Blue] |
ChromaticAberrationB | 0 |
ChromaticAberrationR | 0 |
CircleOfConfusion | 0.030 mm |
Clarity | +33 |
ColorComponents | 3 |
ColorMode | RGB |
ColorNoiseReduction | 25 |
ColorNoiseReductionDetail | 50 |
ColorSpace | sRGB |
ColorTemperature | 7140 |
Contrast (1) | +36 |
Contrast | Normal |
ConvertToGrayscale | False |
CreateDate (1) | 2012:06:21 22:14:00.06 |
CreateDate | 2012:06:21 22:14:00 |
CreatorTool | Adobe Photoshop Lightroom 3.6 (Windows) |
CropAngle | 0 |
CropBottom | 0.884765 |
CropConstrainToWarp | 0 |
CropHeight | 1773 |
CropLeft | 0.175837 |
CropRight | 0.801981 |
CropTop | 0.258621 |
CropUnit | pixels |
CropWidth | 2665 |
CustomRendered | Normal |
DateCreated (1) | 2012:06:21 |
DateCreated | 2012:06:21 22:14:00.006 |
DateTimeOriginal | 2012:06:21 22:14:00 |
Defringe | 0 |
DigitalZoomRatio | 1 |
DOF | 1.33 m (29.25 - 30.58 m) |
ExifImageHeight | 798 |
ExifImageWidth | 1200 |
Exposure | -0.34 |
ExposureCompensation | +1 |
ExposureMode | Manual |
ExposureProgram | Manual |
ExposureTime | 1/1250 |
FillLight | 32 |
Flash | No Flash |
FNumber | 4.0 |
FocalLength | 400.0 mm |
FocalLength35efl | 400.0 mm (35 mm equivalent: 400.0 mm) |
FocalLengthIn35mmFormat | 400 mm |
Format | image/jpeg |
FOV | 5.2 deg |
GainControl | High gain up |
GrainAmount | 0 |
GreenHue | 0 |
GreenSaturation | 0 |
HasCrop | True |
HasSettings | True |
HighlightRecovery | 71 |
HueAdjustmentAqua | 0 |
HueAdjustmentBlue | 0 |
HueAdjustmentGreen | 0 |
HueAdjustmentMagenta | 0 |
HueAdjustmentOrange | 0 |
HueAdjustmentPurple | 0 |
HueAdjustmentRed | 0 |
HueAdjustmentYellow | 0 |
HyperfocalDistance | 1331.28 m |
ICCProfileName | sRGB IEC61966-2.1 |
ImageHeight (1) | 1773 |
ImageHeight | 798 |
ImageNumber | 3442 |
ImageSize | 1200x798 |
ImageWidth (1) | 2665 |
ImageWidth | 1200 |
ISO | 1600 |
Lens | 200.0-400.0 mm f/4.0 |
LensID (1) | 168 |
LensID | AF-S Zoom-Nikkor 200-400mm f/4G IF-ED VR II |
LensInfo | 200-400mm f/4 |
LensManualDistortionAmount | 0 |
LensModel | 200.0-400.0 mm f/4.0 |
LensProfileChromaticAberrationScale | 100 |
LensProfileDistortionScale | 100 |
LensProfileEnable | 1 |
LensProfileFilename | NIKON D3X (Nikon AF-S NIKKOR 200-400mm f4G ED VR II) - RAW.lcp |
LensProfileName | Adobe (Nikon AF-S NIKKOR 200-400mm f/4G ED VR II) |
LensProfileSetup | LensDefaults |
LensProfileVignettingScale | 100 |
LightSource | Unknown |
LightValue | 10.3 |
LuminanceAdjustmentAqua | 0 |
LuminanceAdjustmentBlue | 0 |
LuminanceAdjustmentGreen | 0 |
LuminanceAdjustmentMagenta | 0 |
LuminanceAdjustmentOrange | 0 |
LuminanceAdjustmentPurple | 0 |
LuminanceAdjustmentRed | 0 |
LuminanceAdjustmentYellow | 0 |
LuminanceNoiseReductionContrast | 0 |
LuminanceNoiseReductionDetail | 100 |
LuminanceSmoothing | 12 |
Make | NIKON CORPORATION |
MaxApertureValue | 4.0 |
Megapixels | 0.958 |
MeteringMode | Multi-segment |
Model | NIKON D3S |
ModifyDate (1) | 2012:06:22 17:36:31+02:00 |
ModifyDate | 2012:06:22 17:36:31 |
Orientation | Horizontal (normal) |
ParametricDarks | 0 |
ParametricHighlights | 0 |
ParametricHighlightSplit | 75 |
ParametricLights | 0 |
ParametricMidtoneSplit | 50 |
ParametricShadows | 0 |
ParametricShadowSplit | 25 |
PerspectiveHorizontal | 0 |
PerspectiveRotate | 0.0 |
PerspectiveScale | 100 |
PerspectiveVertical | 0 |
PhotometricInterpretation | RGB |
PostCropVignetteAmount | 0 |
ProcessVersion | 5.7 |
ProfileDescription | sRGB IEC61966-2.1 |
RedHue | 0 |
RedSaturation | 0 |
Saturation (1) | 0 |
Saturation | Normal |
SaturationAdjustmentAqua | 0 |
SaturationAdjustmentBlue | 0 |
SaturationAdjustmentGreen | 0 |
SaturationAdjustmentMagenta | 0 |
SaturationAdjustmentOrange | 0 |
SaturationAdjustmentPurple | 0 |
SaturationAdjustmentRed | 0 |
SaturationAdjustmentYellow | 0 |
ScaleFactor35efl | 1.0 |
SceneCaptureType | Standard |
SceneType | Directly photographed |
SensingMethod | One-chip color area |
SerialNumber | 2007197 |
Shadows | 5 |
ShadowTint | 0 |
SharpenDetail | 25 |
SharpenEdgeMasking | 18 |
SharpenRadius | +1.0 |
Sharpness (1) | 100 |
Sharpness | Hard |
ShutterSpeed | 1/1250 |
ShutterSpeedValue | 1/1250 |
Software | Adobe Photoshop CS5 Windows |
SplitToningBalance | 0 |
SplitToningHighlightHue | 0 |
SplitToningHighlightSaturation | 0 |
SplitToningShadowHue | 0 |
SplitToningShadowSaturation | 0 |
SubjectDistance | 29.9 m |
SubjectDistanceRange | Unknown |
Tint | +19 |
ToneCurve | 0, 0, 32, 22, 64, 56, 128, 128, 192, 196, 255, 255 |
ToneCurveName | Medium Contrast |
URL_List | |
Version | 6.6 |
Vibrance | +14 |
VignetteAmount | 0 |
WhiteBalance (1) | Custom |
WhiteBalance | Auto |