Felt | Verdi |
AlreadyApplied | True |
Aperture | 6.3 |
ApertureValue | 6.3 |
ApproximateFocusDistance | 29.9 |
BitsPerSample (1) | 8 8 8 |
BitsPerSample | 8 |
BlueHue | 0 |
BlueSaturation | 0 |
Brightness | +50 |
CameraProfile | Adobe Standard |
CFAPattern | [Red,Green][Green,Blue] |
ChromaticAberrationB | 0 |
ChromaticAberrationR | 0 |
CircleOfConfusion | 0.030 mm |
Clarity | +36 |
ColorComponents | 3 |
ColorMode | RGB |
ColorNoiseReduction | 25 |
ColorNoiseReductionDetail | 50 |
ColorSpace | sRGB |
ColorTemperature | 7350 |
Contrast (1) | +43 |
Contrast | Normal |
ConvertToGrayscale | False |
CreateDate (1) | 2012:06:21 19:41:05.97 |
CreateDate | 2012:06:21 19:41:05 |
CreatorTool | Adobe Photoshop CS5 Windows |
CropAngle | 0 |
CropBottom | 1 |
CropConstrainToWarp | 0 |
CropHeight | 1908 |
CropLeft | 0.085366 |
CropRight | 0.759072 |
CropTop | 0.326294 |
CropUnit | pixels |
CropWidth | 2867 |
CustomRendered | Normal |
DateCreated (1) | 2012:06:21 |
DateCreated | 2012:06:21 19:41:05.097 |
DateTimeOriginal | 2012:06:21 19:41:05 |
Defringe | 0 |
DigitalZoomRatio | 1 |
DOF | 1.10 m (29.36 - 30.46 m) |
ExifImageHeight | 799 |
ExifImageWidth | 1200 |
Exposure | 0.00 |
ExposureCompensation | -2/3 |
ExposureMode | Manual |
ExposureProgram | Manual |
ExposureTime | 1/1000 |
FillLight | 38 |
Flash | No Flash |
FNumber | 6.3 |
FocalLength | 550.0 mm |
FocalLength35efl | 550.0 mm (35 mm equivalent: 550.0 mm) |
FocalLengthIn35mmFormat | 550 mm |
Format | image/jpeg |
FOV | 3.7 deg |
GainControl | Low gain up |
GrainAmount | 0 |
GreenHue | 0 |
GreenSaturation | 0 |
HasCrop | True |
HasSettings | True |
HighlightRecovery | 43 |
HueAdjustmentAqua | 0 |
HueAdjustmentBlue | 0 |
HueAdjustmentGreen | 0 |
HueAdjustmentMagenta | 0 |
HueAdjustmentOrange | 0 |
HueAdjustmentPurple | 0 |
HueAdjustmentRed | 0 |
HueAdjustmentYellow | 0 |
HyperfocalDistance | 1598.06 m |
ICCProfileName | sRGB IEC61966-2.1 |
ImageHeight (1) | 1908 |
ImageHeight | 799 |
ImageNumber | 3254 |
ImageSize | 1200x799 |
ImageWidth (1) | 2867 |
ImageWidth | 1200 |
ISO | 450 |
Lens | 200.0-400.0 mm f/4.0 |
LensID (1) | 168 |
LensID | AF-S Zoom-Nikkor 200-400mm f/4G IF-ED VR II |
LensInfo | 200-400mm f/4 |
LensManualDistortionAmount | 0 |
LensModel | 200.0-400.0 mm f/4.0 |
LensProfileEnable | 0 |
LensProfileSetup | LensDefaults |
LightSource | Unknown |
LightValue | 13.1 |
LuminanceAdjustmentAqua | 0 |
LuminanceAdjustmentBlue | 0 |
LuminanceAdjustmentGreen | 0 |
LuminanceAdjustmentMagenta | 0 |
LuminanceAdjustmentOrange | 0 |
LuminanceAdjustmentPurple | 0 |
LuminanceAdjustmentRed | 0 |
LuminanceAdjustmentYellow | 0 |
LuminanceNoiseReductionContrast | 0 |
LuminanceNoiseReductionDetail | 50 |
LuminanceSmoothing | 14 |
Make | NIKON CORPORATION |
MaxApertureValue | 5.7 |
Megapixels | 0.959 |
MeteringMode | Multi-segment |
Model | NIKON D3S |
ModifyDate (1) | 2012:06:25 21:30:59+02:00 |
ModifyDate | 2012:06:25 21:30:59 |
Orientation | Horizontal (normal) |
ParametricDarks | 0 |
ParametricHighlights | 0 |
ParametricHighlightSplit | 75 |
ParametricLights | 0 |
ParametricMidtoneSplit | 50 |
ParametricShadows | 0 |
ParametricShadowSplit | 25 |
PerspectiveHorizontal | 0 |
PerspectiveRotate | 0.0 |
PerspectiveScale | 100 |
PerspectiveVertical | 0 |
PhotometricInterpretation | RGB |
PostCropVignetteAmount | 0 |
ProcessVersion | 5.7 |
ProfileDescription | sRGB IEC61966-2.1 |
RedHue | 0 |
RedSaturation | 0 |
Saturation (1) | 0 |
Saturation | Normal |
SaturationAdjustmentAqua | 0 |
SaturationAdjustmentBlue | 0 |
SaturationAdjustmentGreen | 0 |
SaturationAdjustmentMagenta | 0 |
SaturationAdjustmentOrange | 0 |
SaturationAdjustmentPurple | 0 |
SaturationAdjustmentRed | 0 |
SaturationAdjustmentYellow | 0 |
ScaleFactor35efl | 1.0 |
SceneCaptureType | Standard |
SceneType | Directly photographed |
SensingMethod | One-chip color area |
SerialNumber | 2007197 |
Shadows | 5 |
ShadowTint | 0 |
SharpenDetail | 25 |
SharpenEdgeMasking | 25 |
SharpenRadius | +1.0 |
Sharpness (1) | 93 |
Sharpness | Hard |
ShutterSpeed | 1/1000 |
ShutterSpeedValue | 1/1000 |
Software | Adobe Photoshop CS5 Windows |
SplitToningBalance | 0 |
SplitToningHighlightHue | 0 |
SplitToningHighlightSaturation | 0 |
SplitToningShadowHue | 0 |
SplitToningShadowSaturation | 0 |
SubjectDistance | 29.9 m |
SubjectDistanceRange | Unknown |
Tint | +35 |
ToneCurve | 0, 0, 32, 22, 64, 56, 128, 128, 192, 196, 255, 255 |
ToneCurveName | Medium Contrast |
URL_List | |
Version | 6.6 |
Vibrance | +31 |
VignetteAmount | 0 |
WhiteBalance (1) | Custom |
WhiteBalance | Auto |