Felt | Verdi |
AlreadyApplied | True |
Aperture | 9.0 |
ApertureValue | 9.0 |
ApproximateFocusDistance | 4294967295 |
AutoLateralCA | 1 |
BitsPerSample | 8 |
Blacks2012 | -16 |
BlueHue | 0 |
BlueSaturation | 0 |
CameraProfile | Camera Vivid |
CFAPattern | [Green,Blue][Red,Green] |
CircleOfConfusion | 0.020 mm |
Clarity2012 | +31 |
ColorComponents | 3 |
ColorNoiseReduction | 25 |
ColorNoiseReductionDetail | 50 |
ColorTemperature | 4850 |
Contrast | Normal |
Contrast2012 | +28 |
ConvertToGrayscale | False |
CreateDate (1) | 2012:06:10 21:26:33.00 |
CreateDate | 2012:06:10 21:26:33 |
CreatorTool | Adobe Photoshop Lightroom 4.1 (Macintosh) |
CropAngle | 0 |
CropBottom | 0.993892 |
CropConstrainToWarp | 1 |
CropHeight | 850 |
CropLeft | 0.004584 |
CropRight | 0.998185 |
CropTop | 0.000291 |
CropUnit | pixels |
CropWidth | 1280 |
CustomRendered | Normal |
DateCreated (1) | 2012:06:10 |
DateCreated | 2012:06:10 21:26:33.00 |
DateTimeOriginal | 2012:06:10 21:26:33 |
DefringeGreenAmount | 0 |
DefringeGreenHueHi | 60 |
DefringeGreenHueLo | 40 |
DefringePurpleAmount | 0 |
DefringePurpleHueHi | 70 |
DefringePurpleHueLo | 30 |
DigitalZoomRatio | 1 |
DOF | inf (27.18 m - inf) |
Exposure2012 | -0.35 |
ExposureCompensation | +2 |
ExposureMode | Manual |
ExposureProgram | Manual |
ExposureTime | 1/60 |
Flash | No Flash |
FNumber | 9.0 |
FocalLength | 70.0 mm |
FocalLength35efl | 70.0 mm (35 mm equivalent: 105.0 mm) |
FocalLengthIn35mmFormat | 105 mm |
Format | image/jpeg |
FOV | 19.5 deg |
GainControl | None |
GradientBasedCorrActive | true |
GradientBasedCorrAmount | 1.000000 |
GradientBasedCorrBrightness | 0.000000 |
GradientBasedCorrClarity2012 | 0.000000 |
GradientBasedCorrContrast2012 | 0.000000 |
GradientBasedCorrDefringe | 0.000000 |
GradientBasedCorrExposure2012 | -0.215257 |
GradientBasedCorrHighlights2012 | 0.000000 |
GradientBasedCorrHue | 228.050995 |
GradientBasedCorrLuminanceNoise | 0.000000 |
GradientBasedCorrMaskFullX | 0.369947 |
GradientBasedCorrMaskFullY | 0.654604 |
GradientBasedCorrMaskValue | 1.000000 |
GradientBasedCorrMaskWhat | Mask/Gradient |
GradientBasedCorrMaskZeroX | 0.370763 |
GradientBasedCorrMaskZeroY | 0.772999 |
GradientBasedCorrMoire | 0.000000 |
GradientBasedCorrSaturation | 0.000000 |
GradientBasedCorrShadows2012 | 0.000000 |
GradientBasedCorrSharpness | 0.000000 |
GradientBasedCorrTemperature | 0.000000 |
GradientBasedCorrTint | 0.000000 |
GradientBasedCorrWhat | Correction |
GrainAmount | 0 |
GreenHue | 0 |
GreenSaturation | 0 |
HasCrop | True |
HasSettings | True |
Highlights2012 | -75 |
HueAdjustmentAqua | 0 |
HueAdjustmentBlue | 0 |
HueAdjustmentGreen | 0 |
HueAdjustmentMagenta | 0 |
HueAdjustmentOrange | 0 |
HueAdjustmentPurple | 0 |
HueAdjustmentRed | 0 |
HueAdjustmentYellow | 0 |
HyperfocalDistance | 27.18 m |
ImageHeight | 850 |
ImageNumber | 17341 |
ImageSize | 1280x850 |
ImageWidth | 1280 |
ISO | 200 |
Lens | 70.0-300.0 mm f/4.5-5.6 |
LensID (1) | 141 |
LensID | AF-S VR Zoom-Nikkor 70-300mm f/4.5-5.6G IF-ED |
LensInfo | 70-300mm f/4.5-5.6 |
LensManualDistortionAmount | 0 |
LensModel | 70.0-300.0 mm f/4.5-5.6 |
LensProfileChromaticAberrationScale | 100 |
LensProfileDistortionScale | 100 |
LensProfileEnable | 1 |
LensProfileFilename | NIKON D700 (Nikon FX 70-300mm f4.5-5.6 G IF-ED VR) - RAW.lcp |
LensProfileName | Adobe (Nikon AF-S VR Zoom-Nikkor 70-300mm f/4.5-5.6G IF-ED) |
LensProfileSetup | LensDefaults |
LensProfileVignettingScale | 100 |
LightSource | Unknown |
LightValue | 11.2 |
LuminanceAdjustmentAqua | 0 |
LuminanceAdjustmentBlue | 0 |
LuminanceAdjustmentGreen | 0 |
LuminanceAdjustmentMagenta | 0 |
LuminanceAdjustmentOrange | 0 |
LuminanceAdjustmentPurple | 0 |
LuminanceAdjustmentRed | 0 |
LuminanceAdjustmentYellow | 0 |
LuminanceNoiseReductionContrast | 0 |
LuminanceNoiseReductionDetail | 50 |
LuminanceSmoothing | 25 |
Make | NIKON CORPORATION |
MaxApertureValue | 4.4 |
Megapixels | 1.1 |
MeteringMode | Spot |
Model | NIKON D90 |
ModifyDate (1) | 2012:06:25 23:07:15+02:00 |
ModifyDate | 2012:06:25 23:07:15 |
PaintCorrectionActive | true |
PaintCorrectionAmount | 1.000000 |
PaintCorrectionBrightness | 0.000000 |
PaintCorrectionClarity2012 | 0.000000 |
PaintCorrectionContrast2012 | 0.000000 |
PaintCorrectionDefringe | 0.000000 |
PaintCorrectionExposure2012 | 0.232537 |
PaintCorrectionHighlights2012 | 0.000000 |
PaintCorrectionHue | 228.050995 |
PaintCorrectionLuminanceNoise | 0.000000 |
PaintCorrectionMaskCenterWeight | 0.000000 |
PaintCorrectionMaskFlow | 1.000000 |
PaintCorrectionMaskRadius (1) | 0.041841 |
PaintCorrectionMaskRadius (2) | 0.045519 |
PaintCorrectionMaskRadius (3) | 0.045425 |
PaintCorrectionMaskRadius | 0.052072 |
PaintCorrectionMaskValue | 1.000000 |
PaintCorrectionMaskWhat | Mask/Paint |
PaintCorrectionMoire | 0.000000 |
PaintCorrectionSaturation | 0.000000 |
PaintCorrectionShadows2012 | 0.000000 |
PaintCorrectionSharpness | 0.000000 |
PaintCorrectionTemperature | 0.000000 |
PaintCorrectionTint | 0.000000 |
PaintCorrectionWhat | Correction |
ParametricDarks | 0 |
ParametricHighlights | 0 |
ParametricHighlightSplit | 75 |
ParametricLights | 0 |
ParametricMidtoneSplit | 50 |
ParametricShadows | 0 |
ParametricShadowSplit | 25 |
PerspectiveHorizontal | 0 |
PerspectiveRotate | +0.6 |
PerspectiveScale | 100 |
PerspectiveVertical | 0 |
PostCropVignetteAmount | -16 |
PostCropVignetteFeather | 61 |
PostCropVignetteHighlightContrast | 0 |
PostCropVignetteMidpoint | 47 |
PostCropVignetteRoundness | 0 |
PostCropVignetteStyle | 1 |
ProcessVersion | 6.7 |
ProfileDescription | sRGB IEC61966-2.1 |
RedHue | 0 |
RedSaturation | 0 |
Saturation (1) | +30 |
Saturation | Normal |
SaturationAdjustmentAqua | 0 |
SaturationAdjustmentBlue | 0 |
SaturationAdjustmentGreen | 0 |
SaturationAdjustmentMagenta | 0 |
SaturationAdjustmentOrange | 0 |
SaturationAdjustmentPurple | 0 |
SaturationAdjustmentRed | 0 |
SaturationAdjustmentYellow | 0 |
ScaleFactor35efl | 1.5 |
SceneCaptureType | Standard |
SceneType | Directly photographed |
SensingMethod | One-chip color area |
SerialNumber | 6177193 |
Shadows2012 | +76 |
ShadowTint | 0 |
SharpenDetail | 70 |
SharpenEdgeMasking | 0 |
SharpenRadius | +0.7 |
Sharpness (1) | 60 |
Sharpness | Normal |
ShutterSpeed | 1/60 |
ShutterSpeedValue | 1/60 |
Software | Adobe Photoshop Lightroom 4.1 (Macintosh) |
SplitToningBalance | 0 |
SplitToningHighlightHue | 0 |
SplitToningHighlightSaturation | 0 |
SplitToningShadowHue | 0 |
SplitToningShadowSaturation | 0 |
SubjectDistanceRange | Unknown |
Tint | 0 |
ToneCurveName2012 | Medium Contrast |
ToneCurvePV2012 | 0, 0, 32, 22, 64, 56, 128, 128, 192, 196, 255, 255 |
ToneCurvePV2012Blue | 0, 0, 255, 255 |
ToneCurvePV2012Green | 0, 0, 255, 255 |
ToneCurvePV2012Red | 0, 0, 255, 255 |
Version | 7.1 |
Vibrance | 0 |
VignetteAmount | 0 |
WhiteBalance | Auto |
Whites2012 | +17 |