Felt | Verdi |
AlreadyApplied | True |
Aperture | 18.0 |
ApertureValue | 18.0 |
ApproximateFocusDistance | 4294967295 |
BitsPerSample (1) | 8 8 8 |
BitsPerSample | 8 |
BlueHue | 0 |
BlueSaturation | 0 |
Brightness | +50 |
CameraProfile | Adobe Standard |
CFAPattern | [Red,Green][Green,Blue] |
ChromaticAberrationB | 0 |
ChromaticAberrationR | 0 |
CircleOfConfusion | 0.030 mm |
Clarity | +27 |
ColorComponents | 3 |
ColorMode | RGB |
ColorNoiseReduction | 25 |
ColorNoiseReductionDetail | 50 |
ColorSpace | sRGB |
ColorTemperature | 4450 |
Contrast (1) | +41 |
Contrast | Normal |
ConvertToGrayscale | False |
CreateDate (1) | 2012:06:26 16:51:04.65 |
CreateDate | 2012:06:26 16:51:04 |
CreatorTool | Adobe Photoshop CS5 Windows |
CropAngle | 0 |
CropBottom | 0.822656 |
CropConstrainToWarp | 0 |
CropHeight | 1293 |
CropLeft | 0.292665 |
CropRight | 0.749273 |
CropTop | 0.366048 |
CropUnit | pixels |
CropWidth | 1943 |
CustomRendered | Normal |
DateCreated (1) | 2012:06:26 |
DateCreated | 2012:06:26 16:51:04.065 |
DateTimeOriginal | 2012:06:26 16:51:04 |
Defringe | 0 |
DigitalZoomRatio | 1 |
DOF | inf (14.98 m - inf) |
ExifImageHeight | 799 |
ExifImageWidth | 1200 |
Exposure | 0.00 |
ExposureCompensation | 0 |
ExposureMode | Manual |
ExposureProgram | Manual |
ExposureTime | 1/160 |
FillLight | 17 |
Flash | No Flash |
FNumber | 18.0 |
FocalLength | 90.0 mm |
FocalLength35efl | 90.0 mm (35 mm equivalent: 90.0 mm) |
FocalLengthIn35mmFormat | 90 mm |
Format | image/jpeg |
FOV | 22.6 deg |
GainControl | High gain up |
GrainAmount | 0 |
GreenHue | 0 |
GreenSaturation | 0 |
HasCrop | True |
HasSettings | True |
HighlightRecovery | 0 |
HueAdjustmentAqua | 0 |
HueAdjustmentBlue | 0 |
HueAdjustmentGreen | 0 |
HueAdjustmentMagenta | 0 |
HueAdjustmentOrange | 0 |
HueAdjustmentPurple | 0 |
HueAdjustmentRed | 0 |
HueAdjustmentYellow | 0 |
HyperfocalDistance | 14.98 m |
ICCProfileName | sRGB IEC61966-2.1 |
ImageHeight (1) | 1293 |
ImageHeight | 799 |
ImageNumber | 3590 |
ImageSize | 1200x799 |
ImageWidth (1) | 1943 |
ImageWidth | 1200 |
ISO | 1400 |
Lens | 90.0 mm f/2.8 |
LensID (1) | 248 |
LensID | Tamron SP AF 90mm f/2.8 Di Macro 1:1 (272NII) |
LensInfo | 90mm f/2.8 |
LensManualDistortionAmount | 0 |
LensModel | 90.0 mm f/2.8 |
LensProfileEnable | 0 |
LensProfileSetup | LensDefaults |
LightSource | Unknown |
LightValue | 11.9 |
LuminanceAdjustmentAqua | 0 |
LuminanceAdjustmentBlue | 0 |
LuminanceAdjustmentGreen | 0 |
LuminanceAdjustmentMagenta | 0 |
LuminanceAdjustmentOrange | 0 |
LuminanceAdjustmentPurple | 0 |
LuminanceAdjustmentRed | 0 |
LuminanceAdjustmentYellow | 0 |
LuminanceNoiseReductionContrast | 0 |
LuminanceNoiseReductionDetail | 88 |
LuminanceSmoothing | 28 |
Make | NIKON CORPORATION |
MaxApertureValue | 5.7 |
Megapixels | 0.959 |
MeteringMode | Multi-segment |
Model | NIKON D3S |
ModifyDate (1) | 2012:06:26 21:25:36+02:00 |
ModifyDate | 2012:06:26 21:25:36 |
Orientation | Horizontal (normal) |
ParametricDarks | 0 |
ParametricHighlights | 0 |
ParametricHighlightSplit | 75 |
ParametricLights | 0 |
ParametricMidtoneSplit | 50 |
ParametricShadows | 0 |
ParametricShadowSplit | 25 |
PerspectiveHorizontal | 0 |
PerspectiveRotate | 0.0 |
PerspectiveScale | 100 |
PerspectiveVertical | 0 |
PhotometricInterpretation | RGB |
PostCropVignetteAmount | 0 |
ProcessVersion | 5.7 |
ProfileDescription | sRGB IEC61966-2.1 |
RedHue | 0 |
RedSaturation | 0 |
Saturation (1) | 0 |
Saturation | Normal |
SaturationAdjustmentAqua | 0 |
SaturationAdjustmentBlue | 0 |
SaturationAdjustmentGreen | 0 |
SaturationAdjustmentMagenta | 0 |
SaturationAdjustmentOrange | 0 |
SaturationAdjustmentPurple | 0 |
SaturationAdjustmentRed | 0 |
SaturationAdjustmentYellow | 0 |
ScaleFactor35efl | 1.0 |
SceneCaptureType | Standard |
SceneType | Directly photographed |
SensingMethod | One-chip color area |
SerialNumber | 2007197 |
Shadows | 5 |
ShadowTint | 0 |
SharpenDetail | 25 |
SharpenEdgeMasking | 23 |
SharpenRadius | +1.0 |
Sharpness (1) | 97 |
Sharpness | Hard |
ShutterSpeed | 1/160 |
ShutterSpeedValue | 1/160 |
Software | Adobe Photoshop CS5 Windows |
SplitToningBalance | 0 |
SplitToningHighlightHue | 0 |
SplitToningHighlightSaturation | 0 |
SplitToningShadowHue | 0 |
SplitToningShadowSaturation | 0 |
SubjectDistance | 4294967295 m |
SubjectDistanceRange | Unknown |
Tint | +3 |
ToneCurve | 0, 0, 32, 22, 64, 56, 128, 128, 192, 196, 255, 255 |
ToneCurveName | Medium Contrast |
URL_List | |
Version | 6.6 |
Vibrance | +27 |
VignetteAmount | 0 |
WhiteBalance (1) | As Shot |
WhiteBalance | Auto |