Felt | Verdi |
AlreadyApplied | True |
Aperture | 13.0 |
ApertureValue | 13.0 |
ApproximateFocusDistance | 20.2 |
BitsPerSample | 8 |
BlueHue | +11 |
BlueSaturation | -21 |
Brightness | +81 |
CameraProfile | Embedded |
ChromaticAberrationB | 0 |
ChromaticAberrationR | 0 |
CircleOfConfusion | 0.019 mm |
Clarity | +50 |
ColorComponents | 3 |
ColorNoiseReduction | 25 |
ColorNoiseReductionDetail | 50 |
Contrast | +80 |
ConvertToGrayscale | True |
CreateDate (1) | 2012:06:09 13:41:01.75 |
CreateDate | 2012:06:09 13:41:01 |
CreatorTool | Adobe Photoshop Lightroom 3.5 (Windows) |
CropAngle | -1.75708 |
CropBottom | 0.95601 |
CropConstrainToWarp | 0 |
CropHeight | 2724 |
CropLeft | 0.01222 |
CropRight | 0.98778 |
CropTop | 0.04399 |
CropUnit | pixels |
CropWidth | 4086 |
CustomRendered | Normal |
DateCreated (1) | 2012:06:09 |
DateCreated | 2012:06:09 13:41:01.75 |
DateTimeOriginal | 2012:06:09 13:41:01 |
Defringe | 0 |
DOF | inf (2.13 m - inf) |
Exposure | -0.72 |
ExposureCompensation | 0 |
ExposureMode | Auto |
ExposureProgram | Program AE |
ExposureTime | 1/640 |
FillLight | 0 |
Firmware | 1.0.4 |
Flash | Off, Did not fire |
FlashCompensation | 0 |
FNumber | 13.0 |
FocalLength | 24.0 mm |
FocalLength35efl | 24.0 mm (35 mm equivalent: 38.8 mm) |
FOV | 49.8 deg |
GrainAmount | 0 |
GrayMixerAqua | -10 |
GrayMixerBlue | +19 |
GrayMixerGreen | -9 |
GrayMixerMagenta | +30 |
GrayMixerOrange | +20 |
GrayMixerPurple | +25 |
GrayMixerRed | +34 |
GrayMixerYellow | +9 |
GreenHue | +16 |
GreenSaturation | +51 |
HasCrop | True |
HasSettings | True |
HighlightRecovery | 54 |
HyperfocalDistance | 2.38 m |
ImageHeight | 2724 |
ImageNumber | 0 |
ImageSize | 4086x2724 |
ImageWidth | 4086 |
IncrementalTemperature | 0 |
IncrementalTint | 0 |
ISO | 200 |
Lens | 24-70mm |
LensID (1) | 137 |
LensID | Sigma 24-70mm f/2.8 IF EX DG HSM or Tamron SP 24-70mm f/2.8 Di VC USD |
LensInfo | 24-70mm f/? |
LensManualDistortionAmount | 0 |
LensModel | 24-70mm |
LensProfileEnable | 0 |
LensProfileSetup | LensDefaults |
LightValue | 15.7 |
LuminanceSmoothing | 0 |
Make | Canon |
MaxApertureValue | 2.8 |
Megapixels | 11.1 |
MeteringMode | Multi-segment |
Model | Canon EOS 450D |
ModifyDate (1) | 2012:06:10 18:19:03+02:00 |
ModifyDate | 2012:06:10 18:19:03 |
ParametricDarks | 0 |
ParametricHighlights | 0 |
ParametricHighlightSplit | 75 |
ParametricLights | -2 |
ParametricMidtoneSplit | 50 |
ParametricShadows | 0 |
ParametricShadowSplit | 25 |
PerspectiveHorizontal | 0 |
PerspectiveRotate | 0.0 |
PerspectiveScale | 100 |
PerspectiveVertical | 0 |
PostCropVignetteAmount | 0 |
ProcessVersion | 5.7 |
ProfileDescription | sRGB IEC61966-2.1 |
RedHue | +23 |
RedSaturation | +10 |
ScaleFactor35efl | 1.6 |
SceneCaptureType | Standard |
SerialNumber | 680254535 |
Shadows | 11 |
ShadowTint | +4 |
SharpenDetail | 25 |
SharpenEdgeMasking | 0 |
SharpenRadius | +1.0 |
Sharpness | 25 |
ShutterSpeed | 1/640 |
ShutterSpeedValue | 1/640 |
Software | Adobe Photoshop Lightroom 3.5 (Windows) |
SplitToningBalance | 0 |
SplitToningHighlightHue | 215 |
SplitToningHighlightSaturation | 49 |
SplitToningShadowHue | 216 |
SplitToningShadowSaturation | 12 |
SubjectDistance | 20.2 m |
ToneCurve | 0, 0, 255, 255 |
ToneCurveName | Linear |
Version | 6.5 |
VignetteAmount | -100 |
VignetteMidpoint | 40 |
WhiteBalance (1) | As Shot |
WhiteBalance | Auto |