Felt | Verdi |
AlreadyApplied | True |
Aperture | 5.6 |
ApertureValue | 5.6 |
ApproximateFocusDistance | 4294967295 |
Artist | Thomas Høidahl |
AutoLateralCA | 0 |
BitsPerSample | 8 |
Blacks2012 | -29 |
BlueHue | 0 |
BlueSaturation | 0 |
By-line | Thomas Høidahl |
CameraProfile | Camera Standard |
CircleOfConfusion | 0.043 mm |
Clarity2012 | +17 |
ColorComponents | 1 |
ColorNoiseReduction | 25 |
ColorNoiseReductionDetail | 50 |
ColorTemperature | 5450 |
Contrast2012 | +32 |
ConvertToGrayscale | True |
Copyright | Hasselblad H3D |
CopyrightNotice | Hasselblad H3D |
CreateDate | 2012:07:12 14:54:51 |
Creator | Thomas Høidahl |
CreatorAddress | Nordbydaret 10 |
CreatorCity | Vinterbro |
CreatorCountry | Norge |
CreatorPostalCode | 1407 |
CreatorTool | Adobe Photoshop Lightroom 4.1 (Macintosh) |
CreatorWorkTelephone | 48003641 |
CropAngle | 0 |
CropBottom | 0.82102 |
CropConstrainToWarp | 0 |
CropHeight | 1915 |
CropLeft | 0.423039 |
CropRight | 0.776861 |
CropTop | 0.467198 |
CropUnit | pixels |
CropWidth | 2553 |
DateCreated (1) | 2012:07:12 |
DateCreated | 2012:07:12 14:54:51 |
DateTimeOriginal | 2012:07:12 14:54:51 |
DOF | inf (93.61 m - inf) |
Exposure2012 | 0.00 |
ExposureProgram | Aperture-priority AE |
ExposureTime | 1/100 |
Flash | No Flash |
FNumber | 5.6 |
FocalLength | 150.0 mm |
FocalLength35efl | 150.0 mm (35 mm equivalent: 105.0 mm) |
FocalLengthIn35mmFormat | 105 mm |
Format | image/jpeg |
FOV | 19.5 deg |
GrainAmount | 0 |
GrayMixerAqua | -18 |
GrayMixerBlue | +9 |
GrayMixerGreen | -27 |
GrayMixerMagenta | +4 |
GrayMixerOrange | -19 |
GrayMixerPurple | +15 |
GrayMixerRed | -10 |
GrayMixerYellow | -23 |
GreenHue | 0 |
GreenSaturation | 0 |
HasCrop | True |
HasSettings | True |
Highlights2012 | -49 |
HyperfocalDistance | 93.61 m |
ImageHeight | 1915 |
ImageSize | 2553x1915 |
ImageWidth | 2553 |
ISO | 50 |
Lens | HC 150 |
LensManualDistortionAmount | 0 |
LensModel | HC 150 |
LensProfileEnable | 0 |
LensProfileSetup | LensDefaults |
LightValue | 12.6 |
LuminanceSmoothing | 0 |
Make | Hasselblad |
MaxApertureValue | 3.3 |
Megapixels | 4.9 |
MeteringMode | Spot |
Model | Hasselblad H3DII-39 |
ModifyDate (1) | 2012:07:16 21:47:44+02:00 |
ModifyDate | 2012:07:16 21:47:44 |
ParametricDarks | 0 |
ParametricHighlights | 0 |
ParametricHighlightSplit | 75 |
ParametricLights | +25 |
ParametricMidtoneSplit | 50 |
ParametricShadows | -68 |
ParametricShadowSplit | 25 |
PerspectiveHorizontal | 0 |
PerspectiveRotate | 0.0 |
PerspectiveScale | 100 |
PerspectiveVertical | 0 |
PostCropVignetteAmount | 0 |
ProcessVersion | 6.7 |
ProfileDescription | sRGB IEC61966-2.1 |
RedHue | 0 |
RedSaturation | 0 |
Rights | Hasselblad H3D |
ScaleFactor35efl | 0.7 |
Shadows2012 | -12 |
ShadowTint | 0 |
SharpenDetail | 25 |
SharpenEdgeMasking | 20 |
SharpenRadius | +1.7 |
Sharpness | 82 |
ShutterSpeed | 1/100 |
ShutterSpeedValue | 1/100 |
Software | Adobe Photoshop Lightroom 4.1 (Macintosh) |
SplitToningBalance | 0 |
SplitToningHighlightHue | 0 |
SplitToningHighlightSaturation | 0 |
SplitToningShadowHue | 0 |
SplitToningShadowSaturation | 0 |
SubjectDistance | 4294967295 m |
Tint | +6 |
ToneCurveName2012 | Linear |
ToneCurvePV2012 | 0, 0, 255, 255 |
ToneCurvePV2012Blue | 0, 0, 255, 255 |
ToneCurvePV2012Green | 0, 0, 255, 255 |
ToneCurvePV2012Red | 0, 0, 255, 255 |
Version | 7.1 |
VignetteAmount | 0 |
WhiteBalance | As Shot |
Whites2012 | +94 |