Felt | Verdi |
AlreadyApplied | True |
Aperture | 9.0 |
ApertureValue | 9.0 |
BitsPerSample | 8 |
BlueHue | 0 |
BlueSaturation | 0 |
Brightness | +50 |
CameraProfile | Adobe Standard |
CFAPattern | [Green,Blue][Red,Green] |
ChromaticAberrationB | 0 |
ChromaticAberrationR | 0 |
CircleOfConfusion | 0.020 mm |
Clarity | +21 |
ColorComponents | 1 |
ColorNoiseReduction | 25 |
ColorTemperature | 6150 |
Contrast (2) | +20 |
Contrast | Normal |
ConvertToGrayscale | True |
CreateDate (1) | 2012:07:17 21:04:47.00+02:00 |
CreateDate | 2012:07:17 21:04:47 |
CreatorTool | Adobe Photoshop Lightroom |
CropAngle | 0 |
CropBottom | 1 |
CropHeight | 2714 |
CropLeft | 0.048856 |
CropRight | 0.998134 |
CropTop | 0.047166 |
CropUnit | pixels |
CropWidth | 4071 |
CustomRendered | Normal |
DateTimeDigitized | 2012:07:17 21:04:47.00+02:00 |
DateTimeOriginal (1) | 2012:07:17 21:04:47.00+02:00 |
DateTimeOriginal | 2012:07:17 21:04:47 |
Defringe | 0 |
DigitalZoomRatio | 1 |
ExifImageHeight | 2714 |
ExifImageWidth | 4071 |
Exposure | +0.76 |
ExposureCompensation | -5/3 |
ExposureMode | Auto |
ExposureProgram | Aperture-priority AE |
ExposureTime | 1/100 |
FillLight | 40 |
Flash | No Flash |
FlashFired | False |
FlashFunction | False |
FlashMode | Unknown |
FlashRedEyeMode | False |
FlashReturn | No return detection |
FNumber | 9.0 |
FocalLength | 18.0 mm |
FocalLength35efl | 18.0 mm (35 mm equivalent: 27.0 mm) |
FocalLengthIn35mmFormat | 27 mm |
FOV | 67.4 deg |
GainControl | None |
GradientBasedCorrActive | true |
GradientBasedCorrAmount | 1.000000 |
GradientBasedCorrBrightness | 0.000000 |
GradientBasedCorrClarity | 0.000000 |
GradientBasedCorrContrast | 0.000000 |
GradientBasedCorrExposure (1) | -0.400000 |
GradientBasedCorrExposure (2) | 0.100000 |
GradientBasedCorrExposure | 0.250000 |
GradientBasedCorrHue | 240.000000 |
GradientBasedCorrMaskFullX (1) | 0.543348 |
GradientBasedCorrMaskFullX (2) | 0.588130 |
GradientBasedCorrMaskFullX | 0.256055 |
GradientBasedCorrMaskFullY (1) | 0.515430 |
GradientBasedCorrMaskFullY (2) | 0.673604 |
GradientBasedCorrMaskFullY | 0.786910 |
GradientBasedCorrMaskValue | 1.000000 |
GradientBasedCorrMaskWhat | Mask/Gradient |
GradientBasedCorrMaskZeroX (1) | 0.542845 |
GradientBasedCorrMaskZeroX (2) | 0.589196 |
GradientBasedCorrMaskZeroX | 0.287496 |
GradientBasedCorrMaskZeroY (1) | 0.571788 |
GradientBasedCorrMaskZeroY (2) | 0.539817 |
GradientBasedCorrMaskZeroY | 0.610488 |
GradientBasedCorrSaturation | 0.000000 |
GradientBasedCorrSharpness | 0.000000 |
GradientBasedCorrWhat | Correction |
GrayMixerAqua | -19 |
GrayMixerBlue | +6 |
GrayMixerGreen | -24 |
GrayMixerMagenta | +5 |
GrayMixerOrange | -14 |
GrayMixerPurple | +13 |
GrayMixerRed | -6 |
GrayMixerYellow | -18 |
GreenHue | 0 |
GreenSaturation | 0 |
HasCrop | True |
HasSettings | True |
HighlightRecovery | 39 |
HyperfocalDistance | 1.80 m |
ImageHeight | 2714 |
ImageNumber | 8774 |
ImageSize | 4071x2714 |
ImageWidth | 4071 |
ISO | 200 |
Lens | 18.0-200.0 mm f/3.5-5.6 |
LensInfo | 18-200mm f/3.5-5.6 |
LightSource | Unknown |
LightValue | 12.0 |
LuminanceSmoothing | 50 |
Make | NIKON CORPORATION |
MaxApertureValue | 3.5 |
Megapixels | 11.0 |
MeteringMode | Multi-segment |
Model | NIKON D90 |
ModifyDate (1) | 2012:07:20 21:49:25+02:00 |
ModifyDate | 2012:07:20 21:49:25 |
ParametricDarks | 0 |
ParametricHighlights | +40 |
ParametricHighlightSplit | 75 |
ParametricLights | 0 |
ParametricMidtoneSplit | 50 |
ParametricShadows | +40 |
ParametricShadowSplit | 25 |
PostCropVignetteAmount | 0 |
ProfileDescription | sRGB IEC61966-2.1 |
RedHue | 0 |
RedSaturation | 0 |
Saturation | Normal |
ScaleFactor35efl | 1.5 |
SceneCaptureType | Standard |
SceneType | Directly photographed |
SensingMethod | One-chip color area |
SerialNumber | 6334383 |
Shadows | 6 |
ShadowTint | 0 |
SharpenDetail | 42 |
SharpenEdgeMasking | 60 |
SharpenRadius | +0.7 |
Sharpness (2) | 64 |
Sharpness | Normal |
ShutterSpeed | 1/100 |
ShutterSpeedValue | 1/100 |
Software | Ver.1.00 |
SplitToningBalance | 0 |
SplitToningHighlightHue | 0 |
SplitToningHighlightSaturation | 0 |
SplitToningShadowHue | 0 |
SplitToningShadowSaturation | 0 |
SubjectDistanceRange | Unknown |
Tint | -4 |
ToneCurve | 0, 0, 32, 22, 64, 56, 128, 128, 192, 196, 255, 255 |
ToneCurveName | Medium Contrast |
Version | 5.2 |
VignetteAmount | 0 |
WhiteBalance (2) | As Shot |
WhiteBalance | Auto |