Felt | Verdi |
AlreadyApplied | True |
Aperture | 2.7 |
ApertureValue | 2.7 |
Artist | Karel Krizak |
AutoLateralCA | 0 |
BitsPerSample | 8 |
Blacks2012 | 0 |
BlueHue | -7 |
BlueSaturation | -100 |
Brightness | 0 |
BrightnessValue | 6.32 |
By-line | Karel Krizak |
CameraProfile | ACR 3.4 |
Clarity | 0 |
Clarity2012 | 0 |
ColorComponents | 3 |
ColorNoiseReduction | 25 |
ColorNoiseReductionDetail | 50 |
Contrast | 0 |
Contrast2012 | 0 |
ConvertToGrayscale | False |
Copyright | Karel Krizak |
CopyrightFlag | True |
CopyrightNotice | Karel Krizak |
CreateDate | 2012:07:27 07:37:36 |
Creator | Karel Krizak |
CreatorAddress | Kløvervegen 56 |
CreatorCity | Verdal |
CreatorCountry | Norway |
CreatorPostalCode | 7650 |
CreatorTool | Adobe Photoshop Lightroom 4.0 (Windows) |
CreatorWorkEmail | karel@krizak.com |
CropAngle | 0 |
CropBottom | 0.711712 |
CropConstrainToWarp | 0 |
CropHeight | 900 |
CropLeft | 0.001688 |
CropRight | 0.326151 |
CropTop | 0.134825 |
CropUnit | pixels |
CropWidth | 900 |
DateCreated (1) | 2012:07:27 |
DateCreated | 2012:07:27 07:37:36 |
DateTimeOriginal | 2012:07:27 07:37:36 |
Defringe | 2 |
Exposure | 0.00 |
Exposure2012 | 0.00 |
ExposureCompensation | 0 |
ExposureMode | Auto |
ExposureProgram | Aperture-priority AE |
ExposureTime | 1/115 |
FillLight | 0 |
Flash | On, Fired |
FNumber | 2.7 |
FocalLength | 4.0 mm |
FocalLength35efl | 4.0 mm |
Format | image/jpeg |
GrainAmount | 0 |
GreenHue | +33 |
GreenSaturation | +100 |
HasCrop | True |
HasSettings | True |
HighlightRecovery | 0 |
Highlights2012 | 0 |
HueAdjustmentAqua | +100 |
HueAdjustmentBlue | 0 |
HueAdjustmentGreen | 0 |
HueAdjustmentMagenta | 0 |
HueAdjustmentOrange | 0 |
HueAdjustmentPurple | 0 |
HueAdjustmentRed | +19 |
HueAdjustmentYellow | 0 |
ImageHeight | 900 |
ImageSize | 900x900 |
ImageWidth | 900 |
IncrementalTemperature | -2 |
IncrementalTint | +10 |
ISO | 32 |
LensManualDistortionAmount | 0 |
LensProfileEnable | 0 |
LensProfileSetup | LensDefaults |
LightValue | 11.4 |
LuminanceAdjustmentAqua | +2 |
LuminanceAdjustmentBlue | -57 |
LuminanceAdjustmentGreen | +10 |
LuminanceAdjustmentMagenta | 0 |
LuminanceAdjustmentOrange | +17 |
LuminanceAdjustmentPurple | 0 |
LuminanceAdjustmentRed | 0 |
LuminanceAdjustmentYellow | +50 |
LuminanceNoiseReductionContrast | 0 |
LuminanceNoiseReductionDetail | 50 |
LuminanceSmoothing | 15 |
Make | SAMSUNG |
Marked | True |
MaxApertureValue | 2.6 |
Megapixels | 0.810 |
MeteringMode | Center-weighted average |
Model | GT-I9100 |
ModifyDate (1) | 2012:07:27 21:57:47+02:00 |
ModifyDate | 2012:07:27 21:57:47 |
ParametricDarks | 0 |
ParametricHighlights | 0 |
ParametricHighlightSplit | 75 |
ParametricLights | +39 |
ParametricMidtoneSplit | 50 |
ParametricShadows | 0 |
ParametricShadowSplit | 25 |
PerspectiveHorizontal | 0 |
PerspectiveRotate | 0.0 |
PerspectiveScale | 100 |
PerspectiveVertical | 0 |
PostCropVignetteAmount | 0 |
ProcessVersion | 6.7 |
ProfileDescription | sRGB IEC61966-2.1 |
RedHue | +38 |
RedSaturation | +100 |
Rights | Karel Krizak |
Saturation | -12 |
SaturationAdjustmentAqua | -100 |
SaturationAdjustmentBlue | -45 |
SaturationAdjustmentGreen | -62 |
SaturationAdjustmentMagenta | -100 |
SaturationAdjustmentOrange | -29 |
SaturationAdjustmentPurple | -100 |
SaturationAdjustmentRed | -100 |
SaturationAdjustmentYellow | -76 |
SceneCaptureType | Standard |
Shadows | 0 |
Shadows2012 | 0 |
ShadowTint | 0 |
SharpenDetail | 25 |
SharpenEdgeMasking | 0 |
SharpenRadius | +1.0 |
Sharpness | 15 |
ShutterSpeed | 1/115 |
ShutterSpeedValue | 1/115 |
Software | Adobe Photoshop Lightroom 4.0 (Windows) |
SplitToningBalance | 0 |
SplitToningHighlightHue | 58 |
SplitToningHighlightSaturation | 38 |
SplitToningShadowHue | 0 |
SplitToningShadowSaturation | 6 |
ToneCurve | 0, 0, 255, 255 |
ToneCurveBlue | 0, 0, 255, 255 |
ToneCurveGreen | 0, 0, 255, 255 |
ToneCurveName | Linear |
ToneCurveName2012 | Linear |
ToneCurvePV2012 | 0, 0, 255, 255 |
ToneCurvePV2012Blue | 0, 0, 255, 255 |
ToneCurvePV2012Green | 0, 0, 255, 255 |
ToneCurvePV2012Red | 0, 0, 255, 255 |
ToneCurveRed | 0, 0, 255, 255 |
UserComment | User comments |
Version | 7.0 |
Vibrance | -29 |
VignetteAmount | 0 |
WhiteBalance (1) | Custom |
WhiteBalance | Auto |
Whites2012 | 0 |