Felt | Verdi |
AlreadyApplied | True |
Aperture | 9.0 |
ApertureValue | 9.0 |
ApproximateFocusDistance | 1.41 |
Artist | B.SKOGSET |
AutoLateralCA | 0 |
BitsPerSample | 8 |
Blacks2012 | +10 |
BlueHue | 0 |
BlueSaturation | 0 |
Brightness | 0 |
By-line | B.SKOGSET |
CameraProfile | Embedded |
CircleOfConfusion | 0.020 mm |
Clarity | 0 |
Clarity2012 | +12 |
ColorComponents | 1 |
ColorMode | RGB |
ColorNoiseReduction | 0 |
ColorSpace | Uncalibrated |
Contrast (1) | 0 |
Contrast | Normal |
Contrast2012 | +13 |
ConvertToGrayscale | False |
CreateDate | 2012:07:28 15:06:28 |
Creator | B.SKOGSET |
CreatorTool | K-5 Ver 1.13 |
CustomRendered | Normal |
DateCreated (1) | 2012:07:28 |
DateCreated | 2012:07:28 15:06:28 |
DateTimeOriginal | 2012:07:28 15:06:28 |
Defringe | 0 |
DOF | 0.05 m (1.39 - 1.44 m) |
ExifImageHeight | 4509 |
ExifImageWidth | 3154 |
Exposure | 0.00 |
Exposure2012 | +0.15 |
ExposureCompensation | -0.3 |
ExposureMode | Manual |
ExposureProgram | Not Defined |
ExposureTime | 1/160 |
FillLight | 0 |
Flash | Off, Did not fire |
FNumber | 9.0 |
FocalLength | 115.0 mm |
FocalLength35efl | 115.0 mm (35 mm equivalent: 172.0 mm) |
FocalLengthIn35mmFormat | 172 mm |
Format | image/jpeg |
FOV | 11.9 deg |
GrainAmount | 0 |
GreenHue | 0 |
GreenSaturation | 0 |
HasCrop | False |
HasSettings | True |
HighlightRecovery | 0 |
Highlights2012 | -8 |
HueAdjustmentAqua | 0 |
HueAdjustmentBlue | 0 |
HueAdjustmentGreen | 0 |
HueAdjustmentMagenta | 0 |
HueAdjustmentOrange | 0 |
HueAdjustmentPurple | 0 |
HueAdjustmentRed | 0 |
HueAdjustmentYellow | 0 |
HyperfocalDistance | 73.15 m |
ICCProfileName | Adobe RGB (1998) |
ImageHeight | 4509 |
ImageSize | 3154x4509 |
ImageWidth | 3154 |
IncrementalTemperature | 0 |
IncrementalTint | 0 |
ISO | 6400 |
Lens | smc PENTAX-DA 18-135mm F3.5-5.6 ED AL[IF] DC WR |
LensID (1) | 8 215 |
LensID | smc PENTAX-DA 18-135mm F3.5-5.6 ED AL [IF] DC WR |
LensInfo | 18-135mm f/3.5-5.6 |
LensManualDistortionAmount | 0 |
LensModel | smc PENTAX-DA 18-135mm F3.5-5.6 ED AL[IF] DC WR |
LensProfileEnable | 0 |
LensProfileSetup | LensDefaults |
LightValue | 7.7 |
LuminanceAdjustmentAqua | 0 |
LuminanceAdjustmentBlue | 0 |
LuminanceAdjustmentGreen | 0 |
LuminanceAdjustmentMagenta | 0 |
LuminanceAdjustmentOrange | 0 |
LuminanceAdjustmentPurple | 0 |
LuminanceAdjustmentRed | 0 |
LuminanceAdjustmentYellow | 0 |
LuminanceSmoothing | 0 |
Make | PENTAX |
Megapixels | 14.2 |
MeteringMode | Center-weighted average |
Model | PENTAX K-5 |
ModifyDate (1) | 2012:07:29 17:31:55+02:00 |
ModifyDate | 2012:07:29 17:31:55 |
Orientation | Horizontal (normal) |
ParametricDarks | +24 |
ParametricHighlights | 0 |
ParametricHighlightSplit | 75 |
ParametricLights | +5 |
ParametricMidtoneSplit | 50 |
ParametricShadows | +11 |
ParametricShadowSplit | 25 |
PerspectiveHorizontal | 0 |
PerspectiveRotate | 0.0 |
PerspectiveScale | 100 |
PerspectiveVertical | 0 |
PostCropVignetteAmount | 0 |
ProcessVersion | 6.7 |
ProfileDescription | Adobe RGB (1998) |
Rating | 0 |
RawFileName | gammel.jpg |
RedHue | 0 |
RedSaturation | 0 |
Saturation (1) | 0 |
Saturation | High |
SaturationAdjustmentAqua | 0 |
SaturationAdjustmentBlue | 0 |
SaturationAdjustmentGreen | 0 |
SaturationAdjustmentMagenta | 0 |
SaturationAdjustmentOrange | 0 |
SaturationAdjustmentPurple | 0 |
SaturationAdjustmentRed | 0 |
SaturationAdjustmentYellow | 0 |
ScaleFactor35efl | 1.5 |
SceneCaptureType | Standard |
SensingMethod | One-chip color area |
Shadows | 0 |
Shadows2012 | 0 |
ShadowTint | 0 |
SharpenDetail | 25 |
SharpenEdgeMasking | 0 |
SharpenRadius | +1.0 |
Sharpness (1) | 0 |
Sharpness | Hard |
ShutterSpeed | 1/160 |
ShutterSpeedValue | 1/160 |
Software | Adobe Photoshop CS6 (Windows) |
SplitToningBalance | 0 |
SplitToningHighlightHue | 0 |
SplitToningHighlightSaturation | 0 |
SplitToningShadowHue | 0 |
SplitToningShadowSaturation | 0 |
SubjectDistanceRange | Close |
ToneCurve | 0, 0, 255, 255 |
ToneCurveBlue | 0, 0, 255, 255 |
ToneCurveGreen | 0, 0, 255, 255 |
ToneCurveName | Linear |
ToneCurveName2012 | Linear |
ToneCurvePV2012 | 0, 0, 255, 255 |
ToneCurvePV2012Blue | 0, 0, 255, 255 |
ToneCurvePV2012Green | 0, 0, 255, 255 |
ToneCurvePV2012Red | 0, 0, 255, 255 |
ToneCurveRed | 0, 0, 255, 255 |
URL_List | |
Version | 7.0 |
Vibrance | 0 |
VignetteAmount | 0 |
WhiteBalance (1) | As Shot |
WhiteBalance | Manual |
Whites2012 | 0 |