Felt | Verdi |
AlreadyApplied | True |
Aperture | 4.0 |
ApertureValue | 4.0 |
ApproximateFocusDistance | 15 |
BitsPerSample (1) | 8 8 8 |
BitsPerSample | 8 |
BlueHue | 0 |
BlueSaturation | 0 |
Brightness | +50 |
CameraProfile | Adobe Standard |
CFAPattern | [Red,Green][Green,Blue] |
ChromaticAberrationB | 0 |
ChromaticAberrationR | 0 |
CircleOfConfusion | 0.030 mm |
Clarity | +44 |
ColorComponents | 3 |
ColorMode | RGB |
ColorNoiseReduction | 25 |
ColorNoiseReductionDetail | 50 |
ColorSpace | sRGB |
ColorTemperature | 5500 |
Contrast (1) | +40 |
Contrast | Normal |
ConvertToGrayscale | False |
CreateDate (1) | 2012:08:12 18:44:57.37 |
CreateDate | 2012:08:12 18:44:57 |
CreatorTool | Adobe Photoshop CS5 Windows |
CropAngle | 0 |
CropBottom | 0.95756 |
CropConstrainToWarp | 0 |
CropHeight | 2036 |
CropLeft | 0 |
CropRight | 0.718833 |
CropTop | 0.238727 |
CropUnit | pixels |
CropWidth | 3059 |
CustomRendered | Normal |
DateCreated (1) | 2012:08:12 |
DateCreated | 2012:08:12 18:44:57.037 |
DateTimeOriginal | 2012:08:12 18:44:57 |
Defringe | 0 |
DigitalZoomRatio | 1 |
DOF | 0.33 m (14.84 - 15.17 m) |
ExifImageHeight | 1200 |
ExifImageWidth | 874 |
Exposure | -0.71 |
ExposureCompensation | 0 |
ExposureMode | Manual |
ExposureProgram | Manual |
ExposureTime | 1/640 |
FillLight | 0 |
Flash | No Flash |
FNumber | 4.0 |
FocalLength | 400.0 mm |
FocalLength35efl | 400.0 mm (35 mm equivalent: 400.0 mm) |
FocalLengthIn35mmFormat | 400 mm |
Format | image/jpeg |
FOV | 5.2 deg |
GainControl | High gain up |
GrainAmount | 0 |
GreenHue | 0 |
GreenSaturation | 0 |
HasCrop | True |
HasSettings | True |
HighlightRecovery | 0 |
HueAdjustmentAqua | 0 |
HueAdjustmentBlue | 0 |
HueAdjustmentGreen | 0 |
HueAdjustmentMagenta | 0 |
HueAdjustmentOrange | 0 |
HueAdjustmentPurple | 0 |
HueAdjustmentRed | 0 |
HueAdjustmentYellow | 0 |
HyperfocalDistance | 1331.28 m |
ICCProfileName | sRGB IEC61966-2.1 |
ImageHeight (1) | 3059 |
ImageHeight | 1200 |
ImageNumber | 6164 |
ImageSize | 874x1200 |
ImageWidth (1) | 2036 |
ImageWidth | 874 |
ISO | 2800 |
Lens | 200.0-400.0 mm f/4.0 |
LensID (1) | 168 |
LensID | AF-S Zoom-Nikkor 200-400mm f/4G IF-ED VR II |
LensInfo | 200-400mm f/4 |
LensManualDistortionAmount | 0 |
LensModel | 200.0-400.0 mm f/4.0 |
LensProfileChromaticAberrationScale | 100 |
LensProfileDistortionScale | 100 |
LensProfileEnable | 1 |
LensProfileFilename | NIKON D3X (Nikon AF-S NIKKOR 200-400mm f4G ED VR II) - RAW.lcp |
LensProfileName | Adobe (Nikon AF-S NIKKOR 200-400mm f/4G ED VR II) |
LensProfileSetup | LensDefaults |
LensProfileVignettingScale | 100 |
LightSource | Unknown |
LightValue | 8.5 |
LuminanceAdjustmentAqua | 0 |
LuminanceAdjustmentBlue | 0 |
LuminanceAdjustmentGreen | 0 |
LuminanceAdjustmentMagenta | 0 |
LuminanceAdjustmentOrange | 0 |
LuminanceAdjustmentPurple | 0 |
LuminanceAdjustmentRed | 0 |
LuminanceAdjustmentYellow | 0 |
LuminanceNoiseReductionContrast | 0 |
LuminanceNoiseReductionDetail | 50 |
LuminanceSmoothing | 29 |
Make | NIKON CORPORATION |
MaxApertureValue | 4.0 |
Megapixels | 1.0 |
MeteringMode | Multi-segment |
Model | NIKON D3S |
ModifyDate (1) | 2012:08:13 22:35:43+02:00 |
ModifyDate | 2012:08:13 22:35:43 |
Orientation | Horizontal (normal) |
PaintCorrectionActive | true |
PaintCorrectionAmount | 1.000000 |
PaintCorrectionBrightness | 0.026550 |
PaintCorrectionClarity | 0.026550 |
PaintCorrectionContrast | 0.000000 |
PaintCorrectionExposure | -0.044250 |
PaintCorrectionHue | 0.000000 |
PaintCorrectionMaskCenterWeight | 0.069597 |
PaintCorrectionMaskFlow | 0.802000 |
PaintCorrectionMaskRadius | 0.033353 |
PaintCorrectionMaskValue | 0.661000 |
PaintCorrectionMaskWhat | Mask/Paint |
PaintCorrectionSaturation (1) | 0.486730 |
PaintCorrectionSaturation | 0.000000 |
PaintCorrectionSharpness | 0.398230 |
PaintCorrectionWhat | Correction |
ParametricDarks | 0 |
ParametricHighlights | 0 |
ParametricHighlightSplit | 75 |
ParametricLights | 0 |
ParametricMidtoneSplit | 50 |
ParametricShadows | 0 |
ParametricShadowSplit | 25 |
PerspectiveHorizontal | 0 |
PerspectiveRotate | 0.0 |
PerspectiveScale | 100 |
PerspectiveVertical | 0 |
PhotometricInterpretation | RGB |
PostCropVignetteAmount | 0 |
ProcessVersion | 5.7 |
ProfileDescription | sRGB IEC61966-2.1 |
RedHue | 0 |
RedSaturation | 0 |
Saturation (1) | 0 |
Saturation | Normal |
SaturationAdjustmentAqua | 0 |
SaturationAdjustmentBlue | 0 |
SaturationAdjustmentGreen | 0 |
SaturationAdjustmentMagenta | 0 |
SaturationAdjustmentOrange | 0 |
SaturationAdjustmentPurple | 0 |
SaturationAdjustmentRed | 0 |
SaturationAdjustmentYellow | 0 |
ScaleFactor35efl | 1.0 |
SceneCaptureType | Standard |
SceneType | Directly photographed |
SensingMethod | One-chip color area |
SerialNumber | 2007197 |
Shadows | 5 |
ShadowTint | 0 |
SharpenDetail | 25 |
SharpenEdgeMasking | 18 |
SharpenRadius | +1.0 |
Sharpness (1) | 94 |
Sharpness | Hard |
ShutterSpeed | 1/640 |
ShutterSpeedValue | 1/640 |
Software | Adobe Photoshop CS5 Windows |
SplitToningBalance | 0 |
SplitToningHighlightHue | 0 |
SplitToningHighlightSaturation | 0 |
SplitToningShadowHue | 0 |
SplitToningShadowSaturation | 0 |
SubjectDistance | 15 m |
SubjectDistanceRange | Unknown |
Tint | +16 |
ToneCurve | 0, 0, 32, 22, 64, 56, 128, 128, 192, 196, 255, 255 |
ToneCurveName | Medium Contrast |
URL_List | |
Version | 6.6 |
Vibrance | +40 |
VignetteAmount | 0 |
WhiteBalance (1) | As Shot |
WhiteBalance | Auto |