Felt | Verdi |
AlreadyApplied | True |
Aperture | 7.1 |
ApertureValue | 7.1 |
AutoLateralCA | 0 |
BitsPerSample | 8 |
Blacks2012 | -100 |
BlueHue | 0 |
BlueSaturation | 0 |
CameraProfile | Embedded |
CircleOfConfusion | 0.030 mm |
Clarity2012 | -100 |
ColorComponents | 1 |
ColorNoiseReduction | 0 |
Contrast | Normal |
Contrast2012 | +41 |
ConvertToGrayscale | True |
CreateDate (1) | 2012:07:20 15:52:14.70 |
CreateDate | 2012:07:20 15:52:14 |
CreatorTool | Adobe Photoshop Lightroom 4.1 (Windows) |
CropAngle | 0.913954 |
CropBottom | 0.942806 |
CropConstrainToWarp | 0 |
CropHeight | 1500 |
CropLeft | 0.045453 |
CropRight | 0.929489 |
CropTop | 0.0248 |
CropUnit | pixels |
CropWidth | 844 |
DateCreated (1) | 2012:07:20 |
DateCreated | 2012:07:20 15:52:14.70 |
DateTimeOriginal | 2012:07:20 15:52:14 |
DigitalZoomRatio | 1 |
Exposure2012 | -0.18 |
ExposureCompensation | +2/3 |
ExposureMode | Auto |
ExposureProgram | Aperture-priority AE |
ExposureTime | 1/125 |
Flash | On, Did not fire |
FNumber | 7.1 |
FocalLength | 21.0 mm |
FocalLength35efl | 21.0 mm (35 mm equivalent: 21.0 mm) |
FocalLengthIn35mmFormat | 21 mm |
Format | image/jpeg |
FOV | 81.2 deg |
GainControl | None |
GrainAmount | 0 |
GrayMixerAqua | -10 |
GrayMixerBlue | +29 |
GrayMixerGreen | -31 |
GrayMixerMagenta | +6 |
GrayMixerOrange | -26 |
GrayMixerPurple | +29 |
GrayMixerRed | -15 |
GrayMixerYellow | -31 |
GreenHue | 0 |
GreenSaturation | 0 |
HasCrop | True |
HasSettings | True |
Highlights2012 | +100 |
HyperfocalDistance | 2.07 m |
ImageHeight | 1500 |
ImageNumber | 707 |
ImageSize | 844x1500 |
ImageWidth | 844 |
IncrementalTemperature | -69 |
IncrementalTint | 0 |
ISO | 100 |
Lens | Zeiss Distagon T* 2.8/21 ZF.2 |
LensInfo | 21mm f/2.8 |
LensManualDistortionAmount | 0 |
LensModel | Zeiss Distagon T* 2.8/21 ZF.2 |
LensProfileEnable | 0 |
LensProfileSetup | LensDefaults |
LightSource | Unknown |
LightValue | 12.6 |
LuminanceSmoothing | 0 |
Make | NIKON CORPORATION |
MaxApertureValue | 2.8 |
Megapixels | 1.3 |
MeteringMode | Center-weighted average |
Model | NIKON D800 |
ModifyDate (1) | 2012:08:13 21:18:27+02:00 |
ModifyDate | 2012:08:13 21:18:27 |
ParametricDarks | 0 |
ParametricHighlights | 0 |
ParametricHighlightSplit | 75 |
ParametricLights | 0 |
ParametricMidtoneSplit | 50 |
ParametricShadows | 0 |
ParametricShadowSplit | 25 |
PerspectiveHorizontal | +4 |
PerspectiveRotate | +0.4 |
PerspectiveScale | 109 |
PerspectiveVertical | 0 |
PostCropVignetteAmount | 0 |
ProcessVersion | 6.7 |
ProfileDescription | sRGB IEC61966-2.1 |
RedHue | 0 |
RedSaturation | 0 |
Saturation | Normal |
ScaleFactor35efl | 1.0 |
SceneCaptureType | Standard |
SceneType | Directly photographed |
SensingMethod | One-chip color area |
SerialNumber | 6021090 |
Shadows2012 | -100 |
ShadowTint | 0 |
SharpenDetail | 25 |
SharpenEdgeMasking | 0 |
SharpenRadius | +1.0 |
Sharpness (1) | 58 |
Sharpness | Normal |
ShutterSpeed | 1/125 |
ShutterSpeedValue | 1/125 |
Software | Adobe Photoshop Lightroom 4.1 (Windows) |
SplitToningBalance | 0 |
SplitToningHighlightHue | 0 |
SplitToningHighlightSaturation | 0 |
SplitToningShadowHue | 0 |
SplitToningShadowSaturation | 0 |
SubjectDistanceRange | Unknown |
ToneCurveName2012 | Linear |
ToneCurvePV2012 | 0, 0, 255, 255 |
ToneCurvePV2012Blue | 0, 0, 255, 255 |
ToneCurvePV2012Green | 0, 0, 255, 255 |
ToneCurvePV2012Red | 0, 0, 255, 255 |
Version | 7.1 |
VignetteAmount | 0 |
WhiteBalance (1) | Custom |
WhiteBalance | Auto |
Whites2012 | +100 |