Felt | Verdi |
AlreadyApplied | True |
Aperture | 4.0 |
ApertureValue | 4.0 |
ApproximateFocusDistance | 25.2 |
BitsPerSample | 8 |
BlueHue | 0 |
BlueSaturation | 0 |
Brightness | +50 |
CameraProfile | Adobe Standard |
ChromaticAberrationB | 0 |
ChromaticAberrationR | 0 |
CircleOfConfusion | 0.031 mm |
Clarity | +43 |
ColorComponents | 3 |
ColorNoiseReduction | 40 |
ColorNoiseReductionDetail | 50 |
ColorTemperature | 5793 |
Contrast | +25 |
ConvertToGrayscale | False |
CreateDate (1) | 2012:08:05 20:25:14.68 |
CreateDate | 2012:08:05 20:25:14 |
CreatorTool | Adobe Photoshop Lightroom 3.6 (Windows) |
CropAngle | 0 |
CropBottom | 0.995427 |
CropConstrainToWarp | 0 |
CropHeight | 2854 |
CropLeft | 0.205284 |
CropRight | 0.96748 |
CropTop | 0.233232 |
CropUnit | pixels |
CropWidth | 4280 |
CustomRendered | Normal |
DateCreated (1) | 2012:08:05 |
DateCreated | 2012:08:05 20:25:14.68 |
DateTimeOriginal | 2012:08:05 20:25:14 |
Defringe | 0 |
DOF | 0.61 m (24.90 - 25.51 m) |
Exposure | 0.00 |
ExposureCompensation | +1/3 |
ExposureMode | Auto |
ExposureProgram | Aperture-priority AE |
ExposureTime | 1/320 |
FillLight | 0 |
Firmware | 2.1.2 |
Flash | Off, Did not fire |
FlashCompensation | 0 |
FNumber | 4.0 |
FocalLength | 500.0 mm |
FocalLength35efl | 500.0 mm (35 mm equivalent: 488.0 mm) |
Format | image/jpeg |
FOV | 4.2 deg |
GrainAmount | 0 |
GreenHue | 0 |
GreenSaturation | 0 |
HasCrop | True |
HasSettings | True |
HighlightRecovery | 0 |
HueAdjustmentAqua | 0 |
HueAdjustmentBlue | 0 |
HueAdjustmentGreen | 0 |
HueAdjustmentMagenta | 0 |
HueAdjustmentOrange | 0 |
HueAdjustmentPurple | 0 |
HueAdjustmentRed | 0 |
HueAdjustmentYellow | 0 |
HyperfocalDistance | 2030.08 m |
ImageHeight | 2854 |
ImageNumber | 0 |
ImageSize | 4280x2854 |
ImageWidth | 4280 |
ISO | 800 |
Lens | EF500mm f/4L IS USM |
LensID (1) | 143 |
LensID | Canon EF 500mm f/4L IS USM |
LensInfo | 500mm f/? |
LensManualDistortionAmount | 0 |
LensModel | EF500mm f/4L IS USM |
LensProfileEnable | 0 |
LensProfileSetup | LensDefaults |
LightValue | 9.3 |
LuminanceAdjustmentAqua | 0 |
LuminanceAdjustmentBlue | 0 |
LuminanceAdjustmentGreen | 0 |
LuminanceAdjustmentMagenta | 0 |
LuminanceAdjustmentOrange | 0 |
LuminanceAdjustmentPurple | 0 |
LuminanceAdjustmentRed | 0 |
LuminanceAdjustmentYellow | 0 |
LuminanceNoiseReductionContrast | 0 |
LuminanceNoiseReductionDetail | 50 |
LuminanceSmoothing | 14 |
Make | Canon |
MaxApertureValue | 4.0 |
Megapixels | 12.2 |
MeteringMode | Multi-segment |
Model | Canon EOS 5D Mark II |
ModifyDate (1) | 2012:08:16 10:26:49+02:00 |
ModifyDate | 2012:08:16 10:26:49 |
PaintCorrectionActive | true |
PaintCorrectionAmount | 1.000000 |
PaintCorrectionBrightness | 0.000000 |
PaintCorrectionClarity | -1.000000 |
PaintCorrectionContrast | -1.000000 |
PaintCorrectionExposure | -0.390250 |
PaintCorrectionHue | 0.000000 |
PaintCorrectionMaskCenterWeight | 0.146839 |
PaintCorrectionMaskFlow | 0.670000 |
PaintCorrectionMaskRadius | 0.092436 |
PaintCorrectionMaskValue | 1.000000 |
PaintCorrectionMaskWhat | Mask/Paint |
PaintCorrectionSaturation (1) | -0.609760 |
PaintCorrectionSaturation | 0.000000 |
PaintCorrectionSharpness | -1.000000 |
PaintCorrectionWhat | Correction |
ParametricDarks | 0 |
ParametricHighlights | +20 |
ParametricHighlightSplit | 75 |
ParametricLights | 0 |
ParametricMidtoneSplit | 50 |
ParametricShadows | 0 |
ParametricShadowSplit | 25 |
PerspectiveHorizontal | 0 |
PerspectiveRotate | 0.0 |
PerspectiveScale | 100 |
PerspectiveVertical | 0 |
PostCropVignetteAmount | 0 |
ProcessVersion | 5.7 |
ProfileDescription | sRGB IEC61966-2.1 |
RedHue | 0 |
RedSaturation | 0 |
Saturation | +10 |
SaturationAdjustmentAqua | 0 |
SaturationAdjustmentBlue | 0 |
SaturationAdjustmentGreen | -30 |
SaturationAdjustmentMagenta | 0 |
SaturationAdjustmentOrange | +32 |
SaturationAdjustmentPurple | 0 |
SaturationAdjustmentRed | 0 |
SaturationAdjustmentYellow | +25 |
ScaleFactor35efl | 1.0 |
SceneCaptureType | Standard |
SerialNumber | 4161900393 |
Shadows | 5 |
ShadowTint | 0 |
SharpenDetail | 25 |
SharpenEdgeMasking | 15 |
SharpenRadius | +2.1 |
Sharpness | 105 |
ShutterSpeed | 1/320 |
ShutterSpeedValue | 1/320 |
Software | Adobe Photoshop Lightroom 3.6 (Windows) |
SplitToningBalance | 0 |
SplitToningHighlightHue | 0 |
SplitToningHighlightSaturation | 0 |
SplitToningShadowHue | 0 |
SplitToningShadowSaturation | 0 |
SubjectDistance | 25.2 m |
Tint | +18 |
ToneCurve | 0, 0, 32, 22, 64, 56, 128, 128, 192, 196, 255, 255 |
ToneCurveName | Medium Contrast |
Version | 6.6 |
Vibrance | 0 |
VignetteAmount | 0 |
WhiteBalance (1) | Custom |
WhiteBalance | Auto |