Felt | Verdi |
AlreadyApplied | True |
Aperture | 7.1 |
ApertureValue | 7.1 |
ApproximateFocusDistance | 3.4 |
Artist | kenneth_enstad |
AutoLateralCA | 0 |
BitsPerSample | 8 |
Blacks2012 | -96 |
BlueHue | 0 |
BlueSaturation | 0 |
Brightness | +50 |
By-line | kenneth_enstad |
CameraProfile | Adobe Standard |
CircleOfConfusion | 0.019 mm |
Clarity | 0 |
Clarity2012 | +100 |
ColorComponents | 1 |
ColorNoiseReduction | 25 |
ColorNoiseReductionDetail | 50 |
ColorTemperature | 5950 |
Contrast | +25 |
Contrast2012 | +19 |
ConvertToGrayscale | True |
CreateDate (1) | 2012:08:11 14:46:07.93 |
CreateDate | 2012:08:11 14:46:07 |
Creator | kenneth_enstad |
CreatorTool | Adobe Photoshop Lightroom 4.0 (Macintosh) |
CropAngle | 29.2822 |
CropBottom | 0.681518 |
CropConstrainToWarp | 0 |
CropHeight | 1635 |
CropLeft | 0.468391 |
CropRight | 0.589232 |
CropTop | 0.037428 |
CropUnit | pixels |
CropWidth | 1635 |
CustomRendered | Normal |
DateCreated (1) | 2012:08:11 |
DateCreated | 2012:08:11 14:46:07.93 |
DateTimeOriginal | 2012:08:11 14:46:07 |
Defringe | 0 |
DOF | 0.87 m (3.02 - 3.89 m) |
Exposure | 0.00 |
Exposure2012 | +3.85 |
ExposureCompensation | -1/3 |
ExposureMode | Auto |
ExposureProgram | Shutter speed priority AE |
ExposureTime | 1/1000 |
FillLight | 0 |
Firmware | 1.2.1 |
Flash | Off, Did not fire |
FlashCompensation | 0 |
FNumber | 7.1 |
FocalLength | 60.0 mm |
FocalLength35efl | 60.0 mm (35 mm equivalent: 94.2 mm) |
Format | image/jpeg |
FOV | 21.6 deg |
GrainAmount | 0 |
GrayMixerAqua | +100 |
GrayMixerBlue | +79 |
GrayMixerGreen | -28 |
GrayMixerMagenta | +3 |
GrayMixerOrange | -55 |
GrayMixerPurple | +21 |
GrayMixerRed | -100 |
GrayMixerYellow | -27 |
GreenHue | 0 |
GreenSaturation | 0 |
HasCrop | True |
HasSettings | True |
HighlightRecovery | 0 |
Highlights2012 | +100 |
HyperfocalDistance | 26.50 m |
ImageHeight | 1635 |
ImageNumber | 0 |
ImageSize | 1635x1635 |
ImageWidth | 1635 |
ISO | 100 |
Lens | EF-S18-200mm f/3.5-5.6 IS |
LensID (1) | 50 |
LensID | Canon EF-S 18-200mm f/3.5-5.6 IS |
LensInfo | 18-200mm f/? |
LensManualDistortionAmount | 0 |
LensModel | EF-S18-200mm f/3.5-5.6 IS |
LensProfileEnable | 0 |
LensProfileSetup | LensDefaults |
LightValue | 15.6 |
LuminanceNoiseReductionContrast | 0 |
LuminanceNoiseReductionDetail | 50 |
LuminanceSmoothing | 40 |
Make | Canon |
MaxApertureValue | 4.8 |
Megapixels | 2.7 |
MeteringMode | Multi-segment |
Model | Canon EOS 7D |
ModifyDate (1) | 2012:08:20 12:08:59+02:00 |
ModifyDate | 2012:08:20 12:08:59 |
ParametricDarks | 0 |
ParametricHighlights | 0 |
ParametricHighlightSplit | 75 |
ParametricLights | 0 |
ParametricMidtoneSplit | 50 |
ParametricShadows | 0 |
ParametricShadowSplit | 25 |
PerspectiveHorizontal | 0 |
PerspectiveRotate | 0.0 |
PerspectiveScale | 100 |
PerspectiveVertical | 0 |
PostCropVignetteAmount | 0 |
ProcessVersion | 6.7 |
ProfileDescription | sRGB IEC61966-2.1 |
RedHue | 0 |
RedSaturation | 0 |
ScaleFactor35efl | 1.6 |
SceneCaptureType | Standard |
SerialNumber | 1080707168 |
Shadows | 5 |
Shadows2012 | -64 |
ShadowTint | 0 |
SharpenDetail | 25 |
SharpenEdgeMasking | 0 |
SharpenRadius | +1.0 |
Sharpness | 55 |
ShutterSpeed | 1/1000 |
ShutterSpeedValue | 1/1000 |
Software | Adobe Photoshop Lightroom 4.0 (Macintosh) |
SplitToningBalance | 0 |
SplitToningHighlightHue | 0 |
SplitToningHighlightSaturation | 0 |
SplitToningShadowHue | 0 |
SplitToningShadowSaturation | 0 |
Tint | +24 |
ToneCurve | 0, 0, 255, 255 |
ToneCurveBlue | 0, 0, 255, 255 |
ToneCurveGreen | 0, 0, 255, 255 |
ToneCurveName | Linear |
ToneCurveName2012 | Linear |
ToneCurvePV2012 | 0, 0, 255, 255 |
ToneCurvePV2012Blue | 0, 0, 255, 255 |
ToneCurvePV2012Green | 0, 0, 255, 255 |
ToneCurvePV2012Red | 0, 0, 255, 255 |
ToneCurveRed | 0, 0, 255, 255 |
Version | 7.0 |
VignetteAmount | 0 |
WhiteBalance (1) | As Shot |
WhiteBalance | Auto |
Whites2012 | +100 |