Felt | Verdi |
AlreadyApplied | True |
Aperture | 8.0 |
ApertureValue | 8.0 |
BitsPerSample | 8 |
BlueHue | 0 |
BlueSaturation | 0 |
Brightness | +42 |
CameraProfile | Adobe Standard |
CFAPattern (1) |
CFAPattern | [Red,Green][Green,Blue] |
ChromaticAberrationB | 0 |
ChromaticAberrationR | 0 |
CircleOfConfusion | 0.020 mm |
Clarity | 0 |
ColorComponents | 3 |
ColorNoiseReduction | 25 |
ColorSpace (1) | Unknown (Uncalibrated) |
ColorSpace | Uncalibrated |
ColorTemperature | 6050 |
Contrast (1) | Unknown (Normal) |
Contrast (2) | +50 |
Contrast | Normal |
ConvertToGrayscale | False |
CreateDate (1) | 2012:08:06 09:28:34.00+02:00 |
CreateDate | 2012:08:06 09:28:34 |
CreatorTool | Adobe Photoshop Lightroom |
CropAngle | 0 |
CropBottom | 1 |
CropHeight | 2483 |
CropLeft | 0.12766 |
CropRight | 0.940426 |
CropTop | 0.128206 |
CropUnit | pixels |
CropWidth | 3485 |
CustomRendered (1) | Unknown (Normal process) |
CustomRendered | Normal |
DateTime | 2012:08:09 16:56:37 |
DateTimeDigitized | 2012:08:06 09:28:34 |
DateTimeOriginal | 2012:08:06 09:28:34 |
Defringe | 0 |
DigitalZoomRatio | 1 |
ExifImageHeight | 3485 |
ExifImageWidth | 2483 |
Exposure | -0.29 |
ExposureCompensation | 0 |
ExposureMode (1) | Unknown (Manual exposure) |
ExposureMode | Manual |
ExposureProgram (1) | Unknown (Manual) |
ExposureProgram | Manual |
ExposureTime (1) | 1 |
ExposureTime | 1/10 |
FillLight | 0 |
Flash (1) |
Flash | No Flash |
FNumber (1) | f/8.0 |
FNumber | 8.0 |
FocalLength | 35.0 mm |
FocalLength35efl | 35.0 mm (35 mm equivalent: 52.0 mm) |
FocalLengthIn35mmFormat | 52 mm |
FOV | 38.2 deg |
GainControl (1) | Unknown (Normal) |
GainControl | None |
GreenHue | 0 |
GreenSaturation | 0 |
HasCrop | True |
HasSettings | True |
HighlightRecovery | 100 |
HueAdjustmentAqua | 0 |
HueAdjustmentBlue | 0 |
HueAdjustmentGreen | 0 |
HueAdjustmentMagenta | 0 |
HueAdjustmentOrange | 0 |
HueAdjustmentPurple | 0 |
HueAdjustmentRed | 0 |
HueAdjustmentYellow | 0 |
HyperfocalDistance | 7.57 m |
ImageHeight (1) | 3485 |
ImageHeight | 1280 |
ImageNumber | 33531 |
ImageSize | 912x1280 |
ImageWidth (1) | 2483 |
ImageWidth | 912 |
ISO | 200 |
Lens | 35.0 mm f/1.8 |
LensInfo | 35mm f/1.8 |
LightSource (1) | Unknown (Unknown) |
LightSource | Unknown |
LightValue | 8.3 |
LuminanceAdjustmentAqua | 0 |
LuminanceAdjustmentBlue | 0 |
LuminanceAdjustmentGreen | 0 |
LuminanceAdjustmentMagenta | 0 |
LuminanceAdjustmentOrange | 0 |
LuminanceAdjustmentPurple | 0 |
LuminanceAdjustmentRed | 0 |
LuminanceAdjustmentYellow | 0 |
LuminanceSmoothing | 0 |
Make | NIKON CORPORATION |
MaxApertureValue | 1.7 |
Megapixels | 1.2 |
MeteringMode (1) | Unknown (Pattern) |
MeteringMode | Multi-segment |
Model | NIKON D300 |
ModifyDate (1) | 2012:08:09 16:56:37+02:00 |
ModifyDate | 2012:08:25 19:10:52 |
ParametricDarks | -12 |
ParametricHighlights | 0 |
ParametricHighlightSplit | 75 |
ParametricLights | +16 |
ParametricMidtoneSplit | 50 |
ParametricShadows | 0 |
ParametricShadowSplit | 25 |
PostCropVignetteAmount | 0 |
ProfileDescription | sRGB IEC61966-2.1 |
RedHue | 0 |
RedSaturation | 0 |
Saturation (1) | Unknown (Normal) |
Saturation (2) | +7 |
Saturation | Normal |
SaturationAdjustmentAqua | 0 |
SaturationAdjustmentBlue | 0 |
SaturationAdjustmentGreen | 0 |
SaturationAdjustmentMagenta | 0 |
SaturationAdjustmentOrange | 0 |
SaturationAdjustmentPurple | 0 |
SaturationAdjustmentRed | 0 |
SaturationAdjustmentYellow | 0 |
ScaleFactor35efl | 1.5 |
SceneCaptureType (1) | Unknown (Standard) |
SceneCaptureType | Standard |
SceneType (1) | Unknown (Directly photographed) |
SceneType | Directly photographed |
SensingMethod (1) | Unknown (One-chip color area sensor) |
SensingMethod | One-chip color area |
SerialNumber | 4035999 |
Shadows | 7 |
ShadowTint | 0 |
SharpenDetail | 25 |
SharpenEdgeMasking | 0 |
SharpenRadius | +1.0 |
Sharpness (1) | Unknown (Normal) |
Sharpness (2) | 25 |
Sharpness | Normal |
ShutterSpeed | 1/10 |
ShutterSpeedValue | 1/10 |
Software (1) | Ver.1.10 |
Software | GIMP 2.8.0 |
SplitToningBalance | 0 |
SplitToningHighlightHue | 0 |
SplitToningHighlightSaturation | 0 |
SplitToningShadowHue | 0 |
SplitToningShadowSaturation | 0 |
SubjectDistanceRange (1) | Unknown (Unknown) |
SubjectDistanceRange | Unknown |
Tint | +30 |
ToneCurve | 0, 0, 32, 22, 64, 56, 128, 128, 192, 196, 255, 255 |
ToneCurveName | Medium Contrast |
Version | 5.4 |
Vibrance | +5 |
VignetteAmount | 0 |
WhiteBalance (1) | Unknown (Auto white balance) |
WhiteBalance | Auto |