Felt | Verdi |
AlreadyApplied | True |
Aperture | 22.0 |
ApertureValue | 22.0 |
ApproximateFocusDistance | 3.35 |
BitsPerSample (1) | 8 8 8 |
BitsPerSample | 8 |
BlueHue | 0 |
BlueSaturation | 0 |
Brightness | +50 |
CameraProfile | Adobe Standard |
CFAPattern | [Red,Green][Green,Blue] |
ChromaticAberrationB | 0 |
ChromaticAberrationR | 0 |
CircleOfConfusion | 0.030 mm |
Clarity | +25 |
ColorComponents | 3 |
ColorMode | RGB |
ColorNoiseReduction | 100 |
ColorNoiseReductionDetail | 50 |
ColorSpace | sRGB |
ColorTemperature | 8810 |
Contrast (1) | +40 |
Contrast | Normal |
ConvertToGrayscale | False |
CreateDate (1) | 2012:08:26 20:24:44.73 |
CreateDate | 2012:08:26 20:24:44 |
CreatorTool | Adobe Photoshop CS5 Windows |
CropAngle | 0.886518 |
CropBottom | 0.677996 |
CropConstrainToWarp | 0 |
CropHeight | 1783 |
CropLeft | 0.022473 |
CropRight | 0.993517 |
CropTop | 0.02567 |
CropUnit | pixels |
CropWidth | 4160 |
CustomRendered | Normal |
DateCreated (1) | 2012:08:26 |
DateCreated | 2012:08:26 20:24:44.073 |
DateTimeOriginal | 2012:08:26 20:24:44 |
Defringe | 0 |
DigitalZoomRatio | 1 |
DOF | inf (0.70 m - inf) |
ExifImageHeight | 514 |
ExifImageWidth | 1200 |
Exposure | +0.41 |
ExposureCompensation | -4/3 |
ExposureMode | Manual |
ExposureProgram | Manual |
ExposureTime | 3 |
FillLight | 47 |
Flash | No Flash |
FNumber | 22.0 |
FocalLength | 24.0 mm |
FocalLength35efl | 24.0 mm (35 mm equivalent: 24.0 mm) |
FocalLengthIn35mmFormat | 24 mm |
Format | image/jpeg |
FOV | 73.7 deg |
GainControl | None |
GPSAltitude (1) | 10 m |
GPSAltitude | 10 m Above Sea Level |
GPSAltitudeRef | Above Sea Level |
GPSDateStamp | 2012:08:26 |
GPSDateTime | 2012:08:26 19:35:06Z |
GPSLatitude (1) | 62 deg 16' 39.54" |
GPSLatitude | 62 deg 16' 39.54" N |
GPSLatitudeRef | North |
GPSLongitude (1) | 5 deg 33' 0.48" |
GPSLongitude | 5 deg 33' 0.48" E |
GPSLongitudeRef | East |
GPSPosition | 62 deg 16' 39.54" N, 5 deg 33' 0.48" E |
GPSSatellites | 06 |
GPSTimeStamp | 19:35:06 |
GPSVersionID | 2.2.0.0 |
GradientBasedCorrActive | true |
GradientBasedCorrAmount | 1.000000 |
GradientBasedCorrBrightness (1) | -0.185840 |
GradientBasedCorrBrightness | 0.115045 |
GradientBasedCorrClarity (1) | 0.026550 |
GradientBasedCorrClarity | 0.840710 |
GradientBasedCorrContrast | 0.000000 |
GradientBasedCorrExposure (1) | -0.239000 |
GradientBasedCorrExposure | 0.079750 |
GradientBasedCorrHue | 0.000000 |
GradientBasedCorrMaskFullX (1) | 0.403895 |
GradientBasedCorrMaskFullX | 0.524402 |
GradientBasedCorrMaskFullY (1) | 0.222773 |
GradientBasedCorrMaskFullY | 0.354964 |
GradientBasedCorrMaskValue | 1.000000 |
GradientBasedCorrMaskWhat | Mask/Gradient |
GradientBasedCorrMaskZeroX (1) | 0.399644 |
GradientBasedCorrMaskZeroX | 0.525323 |
GradientBasedCorrMaskZeroY (1) | 0.519054 |
GradientBasedCorrMaskZeroY | 0.146277 |
GradientBasedCorrSaturation (1) | 0.292040 |
GradientBasedCorrSaturation | 0.000000 |
GradientBasedCorrSharpness | 0.079650 |
GradientBasedCorrWhat | Correction |
GrainAmount | 0 |
GreenHue | 0 |
GreenSaturation | 0 |
HasCrop | True |
HasSettings | True |
HighlightRecovery | 0 |
HueAdjustmentAqua | 0 |
HueAdjustmentBlue | 0 |
HueAdjustmentGreen | 0 |
HueAdjustmentMagenta | 0 |
HueAdjustmentOrange | 0 |
HueAdjustmentPurple | 0 |
HueAdjustmentRed | 0 |
HueAdjustmentYellow | 0 |
HyperfocalDistance | 0.87 m |
ICCProfileName | sRGB IEC61966-2.1 |
ImageHeight (1) | 1783 |
ImageHeight | 514 |
ImageNumber | 7852 |
ImageSize | 1200x514 |
ImageWidth (1) | 4160 |
ImageWidth | 1200 |
ISO | 200 |
Keywords | Landsk, hide. |
Lens | 24.0-70.0 mm f/2.8 |
LensID (1) | 147 |
LensID | AF-S Zoom-Nikkor 24-70mm f/2.8G ED |
LensInfo | 24-70mm f/2.8 |
LensManualDistortionAmount | 0 |
LensModel | 24.0-70.0 mm f/2.8 |
LensProfileChromaticAberrationScale | 100 |
LensProfileDistortionScale | 100 |
LensProfileEnable | 1 |
LensProfileFilename | NIKON D3X (Nikon FX 24-70mm f2.8 G ED) - RAW.lcp |
LensProfileName | Adobe (Nikon AF-S NIKKOR 24-70mm f/2.8G ED) |
LensProfileSetup | LensDefaults |
LensProfileVignettingScale | 100 |
LightSource | Unknown |
LightValue | 6.3 |
LuminanceAdjustmentAqua | 0 |
LuminanceAdjustmentBlue | 0 |
LuminanceAdjustmentGreen | 0 |
LuminanceAdjustmentMagenta | 0 |
LuminanceAdjustmentOrange | 0 |
LuminanceAdjustmentPurple | 0 |
LuminanceAdjustmentRed | 0 |
LuminanceAdjustmentYellow | 0 |
LuminanceNoiseReductionContrast | 0 |
LuminanceNoiseReductionDetail | 50 |
LuminanceSmoothing | 34 |
Make | NIKON CORPORATION |
MaxApertureValue | 2.8 |
Megapixels | 0.617 |
MeteringMode | Multi-segment |
Model | NIKON D3S |
ModifyDate (1) | 2012:08:27 21:50:53+02:00 |
ModifyDate | 2012:08:27 21:50:53 |
Orientation | Horizontal (normal) |
PaintCorrectionActive | true |
PaintCorrectionAmount | 1.000000 |
PaintCorrectionBrightness (1) | 0.115045 |
PaintCorrectionBrightness (2) | 0.008850 |
PaintCorrectionBrightness | -0.097345 |
PaintCorrectionClarity | 0.026550 |
PaintCorrectionContrast | 0.000000 |
PaintCorrectionExposure (2) | 0.079750 |
PaintCorrectionExposure | -0.044250 |
PaintCorrectionHue | 0.000000 |
PaintCorrectionMaskCenterWeight | 0.069597 |
PaintCorrectionMaskFlow | 0.802000 |
PaintCorrectionMaskRadius (1) | 0.054022 |
PaintCorrectionMaskRadius (10) | 0.021553 |
PaintCorrectionMaskRadius (11) | 0.021581 |
PaintCorrectionMaskRadius (12) | 0.021303 |
PaintCorrectionMaskRadius (13) | 0.021528 |
PaintCorrectionMaskRadius (14) | 0.020751 |
PaintCorrectionMaskRadius (15) | 0.020840 |
PaintCorrectionMaskRadius (16) | 0.037770 |
PaintCorrectionMaskRadius (17) | 0.037759 |
PaintCorrectionMaskRadius (18) | 0.037659 |
PaintCorrectionMaskRadius (19) | 0.037832 |
PaintCorrectionMaskRadius (2) | 0.053746 |
PaintCorrectionMaskRadius (20) | 0.036990 |
PaintCorrectionMaskRadius (21) | 0.036941 |
PaintCorrectionMaskRadius (3) | 0.054038 |
PaintCorrectionMaskRadius (4) | 0.053716 |
PaintCorrectionMaskRadius (5) | 0.088040 |
PaintCorrectionMaskRadius (6) | 0.090710 |
PaintCorrectionMaskRadius (7) | 0.087818 |
PaintCorrectionMaskRadius (8) | 0.021414 |
PaintCorrectionMaskRadius (9) | 0.021443 |
PaintCorrectionMaskRadius | 0.036282 |
PaintCorrectionMaskValue | 0.661000 |
PaintCorrectionMaskWhat | Mask/Paint |
PaintCorrectionSaturation (1) | 0.292040 |
PaintCorrectionSaturation (7) | 0.557520 |
PaintCorrectionSaturation | 0.000000 |
PaintCorrectionSharpness | 0.079650 |
PaintCorrectionWhat | Correction |
ParametricDarks | 0 |
ParametricHighlights | 0 |
ParametricHighlightSplit | 75 |
ParametricLights | 0 |
ParametricMidtoneSplit | 50 |
ParametricShadows | 0 |
ParametricShadowSplit | 25 |
PerspectiveHorizontal | 0 |
PerspectiveRotate | 0.0 |
PerspectiveScale | 100 |
PerspectiveVertical | 0 |
PhotometricInterpretation | RGB |
PostCropVignetteAmount | 0 |
ProcessVersion | 5.7 |
ProfileDescription | sRGB IEC61966-2.1 |
RedHue | 0 |
RedSaturation | 0 |
Saturation (1) | 0 |
Saturation | Normal |
SaturationAdjustmentAqua | 0 |
SaturationAdjustmentBlue | 0 |
SaturationAdjustmentGreen | 0 |
SaturationAdjustmentMagenta | 0 |
SaturationAdjustmentOrange | 0 |
SaturationAdjustmentPurple | 0 |
SaturationAdjustmentRed | 0 |
SaturationAdjustmentYellow | 0 |
ScaleFactor35efl | 1.0 |
SceneCaptureType | Standard |
SceneType | Directly photographed |
SensingMethod | One-chip color area |
SerialNumber | 2007197 |
Shadows | 0 |
ShadowTint | 0 |
SharpenDetail | 25 |
SharpenEdgeMasking | 26 |
SharpenRadius | +1.0 |
Sharpness (1) | 91 |
Sharpness | Hard |
ShutterSpeed | 3 |
ShutterSpeedValue | 3 |
Software | Adobe Photoshop CS5 Windows |
SplitToningBalance | 0 |
SplitToningHighlightHue | 0 |
SplitToningHighlightSaturation | 0 |
SplitToningShadowHue | 0 |
SplitToningShadowSaturation | 0 |
Subject | Landsk, hide. |
SubjectDistance | 3.35 m |
SubjectDistanceRange | Unknown |
Tint | -3 |
ToneCurve | 0, 0, 32, 22, 64, 56, 128, 128, 192, 196, 255, 255 |
ToneCurveName | Medium Contrast |
URL_List | |
Version | 6.6 |
Vibrance | +40 |
VignetteAmount | 0 |
WhiteBalance (1) | Custom |
WhiteBalance | Auto |