Felt | Verdi |
AlreadyApplied | True |
Aperture | 11.0 |
ApertureValue | 11.0 |
ApproximateFocusDistance | 4294967295 |
AutoLateralCA | 1 |
BitsPerSample | 8 |
Blacks2012 | -53 |
BlueHue | 0 |
BlueSaturation | 0 |
CameraProfile | Adobe Standard |
CFAPattern | [Green,Blue][Red,Green] |
CircleOfConfusion | 0.020 mm |
Clarity2012 | +24 |
ColorComponents | 1 |
ColorNoiseReduction | 25 |
ColorNoiseReductionDetail | 50 |
ColorTemperature | 4708 |
Contrast | Normal |
Contrast2012 | 0 |
ConvertToGrayscale | True |
CreateDate (1) | 2012:08:21 12:04:24.00 |
CreateDate | 2012:08:21 12:04:24 |
CreatorTool | Adobe Photoshop Lightroom 4.1 (Macintosh) |
CropAngle | 0 |
CropBottom | 0.997265 |
CropConstrainToWarp | 1 |
CropHeight | 1280 |
CropLeft | 0.03487 |
CropRight | 0.693927 |
CropTop | 0.004976 |
CropUnit | pixels |
CropWidth | 1280 |
CustomRendered | Normal |
DateCreated (1) | 2012:08:21 |
DateCreated | 2012:08:21 12:04:24.00 |
DateTimeOriginal | 2012:08:21 12:04:24 |
DigitalZoomRatio | 1 |
DOF | inf (1.16 m - inf) |
Exposure2012 | 0.00 |
ExposureCompensation | 0 |
ExposureMode | Auto |
ExposureProgram | Aperture-priority AE |
ExposureTime | 1/125 |
Flash | No Flash |
FNumber | 11.0 |
FocalLength | 16.0 mm |
FocalLength35efl | 16.0 mm (35 mm equivalent: 24.0 mm) |
FocalLengthIn35mmFormat | 24 mm |
Format | image/jpeg |
FOV | 73.7 deg |
GainControl | None |
GradientBasedCorrActive | true |
GradientBasedCorrAmount | 1.000000 |
GradientBasedCorrBrightness | 0.000000 |
GradientBasedCorrClarity2012 | 0.350000 |
GradientBasedCorrContrast2012 (1) | 0.400000 |
GradientBasedCorrContrast2012 | -0.539982 |
GradientBasedCorrDefringe | 0.000000 |
GradientBasedCorrExposure2012 (1) | -0.050000 |
GradientBasedCorrExposure2012 (2) | 0.190165 |
GradientBasedCorrExposure2012 | -0.016268 |
GradientBasedCorrHighlights2012 | 0.351375 |
GradientBasedCorrHue | 240.000000 |
GradientBasedCorrLuminanceNoise | 0.000000 |
GradientBasedCorrMaskFullX (1) | 0.282386 |
GradientBasedCorrMaskFullX (2) | 0.879287 |
GradientBasedCorrMaskFullX (3) | 0.285933 |
GradientBasedCorrMaskFullX (4) | 0.295579 |
GradientBasedCorrMaskFullX | 0.336911 |
GradientBasedCorrMaskFullY (1) | 0.490183 |
GradientBasedCorrMaskFullY (2) | 0.538248 |
GradientBasedCorrMaskFullY (3) | 0.536782 |
GradientBasedCorrMaskFullY (4) | 0.448796 |
GradientBasedCorrMaskFullY | 0.748009 |
GradientBasedCorrMaskValue | 1.000000 |
GradientBasedCorrMaskWhat | Mask/Gradient |
GradientBasedCorrMaskZeroX (1) | 0.492553 |
GradientBasedCorrMaskZeroX (2) | 0.381359 |
GradientBasedCorrMaskZeroX (3) | 0.424220 |
GradientBasedCorrMaskZeroX (4) | 0.690316 |
GradientBasedCorrMaskZeroX | 0.579289 |
GradientBasedCorrMaskZeroY (1) | 0.489954 |
GradientBasedCorrMaskZeroY (2) | 0.537886 |
GradientBasedCorrMaskZeroY (3) | 0.542310 |
GradientBasedCorrMaskZeroY (4) | 0.439943 |
GradientBasedCorrMaskZeroY | 0.626623 |
GradientBasedCorrMoire | 0.000000 |
GradientBasedCorrSaturation (9) | 0.198558 |
GradientBasedCorrSaturation | 0.000000 |
GradientBasedCorrShadows2012 | -0.104708 |
GradientBasedCorrSharpness | 0.103250 |
GradientBasedCorrTemperature | 0.000000 |
GradientBasedCorrTint | 0.000000 |
GradientBasedCorrWhat | Correction |
GrainAmount | 0 |
GrayMixerAqua | +38 |
GrayMixerBlue | 0 |
GrayMixerGreen | +30 |
GrayMixerMagenta | 0 |
GrayMixerOrange | +38 |
GrayMixerPurple | 0 |
GrayMixerRed | +25 |
GrayMixerYellow | +40 |
GreenHue | 0 |
GreenSaturation | 0 |
HasCrop | True |
HasSettings | True |
Highlights2012 | -50 |
HyperfocalDistance | 1.16 m |
ImageHeight | 1280 |
ImageNumber | 19360 |
ImageSize | 1280x1280 |
ImageWidth | 1280 |
ISO | 200 |
Lens | 12.0-24.0 mm f/4.5-5.6 |
LensID (1) | 150 |
LensID | Sigma 12-24mm F4.5-5.6 II DG HSM |
LensInfo | 12-24mm f/4.5-5.6 |
LensManualDistortionAmount | 0 |
LensModel | 12.0-24.0 mm f/4.5-5.6 |
LensProfileChromaticAberrationScale | 100 |
LensProfileDistortionScale | 100 |
LensProfileEnable | 1 |
LensProfileFilename | NIKON CORPORATION (SIGMA 12-24mm F4.5-5.6 II DG HSM) - RAW.lcp |
LensProfileName | Adobe (SIGMA 12-24mm F4.5-5.6 II DG HSM, NIKON CORPORATION) |
LensProfileSetup | Auto |
LensProfileVignettingScale | 100 |
LightSource | Unknown |
LightValue | 12.9 |
LuminanceSmoothing | 0 |
Make | NIKON CORPORATION |
MaxApertureValue | 4.8 |
Megapixels | 1.6 |
MeteringMode | Spot |
Model | NIKON D90 |
ModifyDate (1) | 2012:08:28 21:13:04+02:00 |
ModifyDate | 2012:08:28 21:13:04 |
PaintCorrectionActive | true |
PaintCorrectionAmount | 1.000000 |
PaintCorrectionBrightness | 0.000000 |
PaintCorrectionClarity2012 | 0.350000 |
PaintCorrectionContrast2012 | 0.400000 |
PaintCorrectionDefringe | 0.000000 |
PaintCorrectionExposure2012 | -0.344301 |
PaintCorrectionHighlights2012 | 0.351375 |
PaintCorrectionHue | 240.000000 |
PaintCorrectionLuminanceNoise | 0.000000 |
PaintCorrectionMaskCenterWeight | 0.000000 |
PaintCorrectionMaskFlow | 0.660977 |
PaintCorrectionMaskRadius | 0.098307 |
PaintCorrectionMaskValue | 0.654903 |
PaintCorrectionMaskWhat | Mask/Paint |
PaintCorrectionMoire | 0.000000 |
PaintCorrectionSaturation (1) | 0.198558 |
PaintCorrectionSaturation | 0.000000 |
PaintCorrectionShadows2012 | -0.104708 |
PaintCorrectionSharpness | 0.103250 |
PaintCorrectionTemperature | 0.000000 |
PaintCorrectionTint | 0.000000 |
PaintCorrectionWhat | Correction |
ParametricDarks | 0 |
ParametricHighlights | 0 |
ParametricHighlightSplit | 75 |
ParametricLights | 0 |
ParametricMidtoneSplit | 50 |
ParametricShadows | 0 |
ParametricShadowSplit | 25 |
PerspectiveHorizontal | 0 |
PerspectiveRotate | 0.0 |
PerspectiveScale | 100 |
PerspectiveVertical | +3 |
PostCropVignetteAmount | 0 |
ProcessVersion | 6.7 |
ProfileDescription | sRGB IEC61966-2.1 |
RedHue | 0 |
RedSaturation | 0 |
Saturation | Normal |
ScaleFactor35efl | 1.5 |
SceneCaptureType | Standard |
SceneType | Directly photographed |
SensingMethod | One-chip color area |
SerialNumber | 6177193 |
Shadows2012 | 0 |
ShadowTint | 0 |
SharpenDetail | 25 |
SharpenEdgeMasking | 0 |
SharpenRadius | +1.0 |
Sharpness (1) | 25 |
Sharpness | Normal |
ShutterSpeed | 1/125 |
ShutterSpeedValue | 1/125 |
Software | Adobe Photoshop Lightroom 4.1 (Macintosh) |
SplitToningBalance | 0 |
SplitToningHighlightHue | 0 |
SplitToningHighlightSaturation | 0 |
SplitToningShadowHue | 0 |
SplitToningShadowSaturation | 0 |
SubjectDistanceRange | Unknown |
Tint | -28 |
ToneCurveName2012 | Medium Contrast |
ToneCurvePV2012 | 0, 0, 32, 22, 64, 56, 128, 128, 192, 196, 255, 255 |
ToneCurvePV2012Blue | 0, 0, 255, 255 |
ToneCurvePV2012Green | 0, 0, 255, 255 |
ToneCurvePV2012Red | 0, 0, 255, 255 |
Version | 7.1 |
VignetteAmount | 0 |
WhiteBalance (1) | Custom |
WhiteBalance | Auto |
Whites2012 | -29 |