Felt | Verdi |
AlreadyApplied | True |
Aperture | 6.3 |
ApertureValue | 6.3 |
ApproximateFocusDistance | 2 |
BitsPerSample (1) | 8 8 8 |
BitsPerSample | 8 |
BlueHue | 0 |
BlueSaturation | 0 |
Brightness | +50 |
CameraProfile | Adobe Standard |
CFAPattern | [Red,Green][Green,Blue] |
ChromaticAberrationB | 0 |
ChromaticAberrationR | 0 |
CircleOfConfusion | 0.030 mm |
Clarity | +29 |
ColorComponents | 3 |
ColorMode | RGB |
ColorNoiseReduction | 25 |
ColorNoiseReductionDetail | 50 |
ColorSpace | sRGB |
ColorTemperature | 6112 |
Contrast (1) | +37 |
Contrast | Normal |
ConvertToGrayscale | False |
CreateDate (1) | 2012:08:31 18:34:41.95 |
CreateDate | 2012:08:31 18:34:41 |
CreatorTool | Adobe Photoshop CS5 Windows |
CropAngle | -0.90938 |
CropBottom | 0.961294 |
CropConstrainToWarp | 0 |
CropHeight | 2661 |
CropLeft | 0.022629 |
CropRight | 0.972123 |
CropTop | 0.044136 |
CropUnit | pixels |
CropWidth | 3999 |
CustomRendered | Normal |
DateCreated (1) | 2012:08:31 |
DateCreated | 2012:08:31 18:34:41.095 |
DateTimeOriginal | 2012:08:31 18:34:41 |
Defringe | 0 |
DigitalZoomRatio | 1 |
DOF | 4.49 m (1.21 - 5.70 m) |
ExifImageHeight | 532 |
ExifImageWidth | 800 |
Exposure | +0.26 |
ExposureCompensation | -2/3 |
ExposureMode | Manual |
ExposureProgram | Manual |
ExposureTime | 1/800 |
FillLight | 23 |
Flash | No Flash |
FNumber | 6.3 |
FocalLength | 24.0 mm |
FocalLength35efl | 24.0 mm (35 mm equivalent: 24.0 mm) |
FocalLengthIn35mmFormat | 24 mm |
Format | image/jpeg |
FOV | 73.7 deg |
GainControl | High gain up |
GradientBasedCorrActive | true |
GradientBasedCorrAmount | 1.000000 |
GradientBasedCorrBrightness | -0.256635 |
GradientBasedCorrClarity | 0.345130 |
GradientBasedCorrContrast | 0.000000 |
GradientBasedCorrExposure | -0.327500 |
GradientBasedCorrHue | 0.000000 |
GradientBasedCorrMaskFullX | 0.394151 |
GradientBasedCorrMaskFullY | 0.364543 |
GradientBasedCorrMaskValue | 1.000000 |
GradientBasedCorrMaskWhat | Mask/Gradient |
GradientBasedCorrMaskZeroX | 0.396094 |
GradientBasedCorrMaskZeroY | 0.568807 |
GradientBasedCorrSaturation (1) | 0.168140 |
GradientBasedCorrSaturation | 0.000000 |
GradientBasedCorrSharpness | 0.061950 |
GradientBasedCorrWhat | Correction |
GrainAmount | 0 |
GreenHue | 0 |
GreenSaturation | 0 |
HasCrop | True |
HasSettings | True |
HighlightRecovery | 35 |
HueAdjustmentAqua | 0 |
HueAdjustmentBlue | 0 |
HueAdjustmentGreen | 0 |
HueAdjustmentMagenta | 0 |
HueAdjustmentOrange | 0 |
HueAdjustmentPurple | 0 |
HueAdjustmentRed | 0 |
HueAdjustmentYellow | 0 |
HyperfocalDistance | 3.04 m |
ICCProfileName | sRGB IEC61966-2.1 |
ImageHeight (1) | 2661 |
ImageHeight | 532 |
ImageNumber | 8465 |
ImageSize | 800x532 |
ImageWidth (1) | 3999 |
ImageWidth | 800 |
ISO | 1000 |
Lens | 24.0-70.0 mm f/2.8 |
LensID (1) | 147 |
LensID | AF-S Zoom-Nikkor 24-70mm f/2.8G ED |
LensInfo | 24-70mm f/2.8 |
LensManualDistortionAmount | 0 |
LensModel | 24.0-70.0 mm f/2.8 |
LensProfileChromaticAberrationScale | 100 |
LensProfileDistortionScale | 100 |
LensProfileEnable | 1 |
LensProfileFilename | NIKON D3X (Nikon FX 24-70mm f2.8 G ED) - RAW.lcp |
LensProfileName | Adobe (Nikon AF-S NIKKOR 24-70mm f/2.8G ED) |
LensProfileSetup | LensDefaults |
LensProfileVignettingScale | 100 |
LightSource | Unknown |
LightValue | 11.6 |
LuminanceAdjustmentAqua | 0 |
LuminanceAdjustmentBlue | 0 |
LuminanceAdjustmentGreen | 0 |
LuminanceAdjustmentMagenta | 0 |
LuminanceAdjustmentOrange | 0 |
LuminanceAdjustmentPurple | 0 |
LuminanceAdjustmentRed | 0 |
LuminanceAdjustmentYellow | 0 |
LuminanceNoiseReductionContrast | 0 |
LuminanceNoiseReductionDetail | 50 |
LuminanceSmoothing | 26 |
Make | NIKON CORPORATION |
MaxApertureValue | 2.8 |
Megapixels | 0.426 |
MeteringMode | Multi-segment |
Model | NIKON D3S |
ModifyDate (1) | 2012:09:01 21:45:28+02:00 |
ModifyDate | 2012:09:01 21:45:28 |
Orientation | Horizontal (normal) |
PaintCorrectionActive | true |
PaintCorrectionAmount | 1.000000 |
PaintCorrectionBrightness (1) | -0.044250 |
PaintCorrectionBrightness (3) | -0.008850 |
PaintCorrectionBrightness | 0.097345 |
PaintCorrectionClarity | 0.026550 |
PaintCorrectionContrast | 0.000000 |
PaintCorrectionExposure (1) | -0.079750 |
PaintCorrectionExposure (2) | 0.044250 |
PaintCorrectionExposure (3) | -0.168250 |
PaintCorrectionExposure | 0.062000 |
PaintCorrectionHue | 0.000000 |
PaintCorrectionMaskCenterWeight | 0.069597 |
PaintCorrectionMaskFlow | 0.802000 |
PaintCorrectionMaskRadius (1) | 0.047210 |
PaintCorrectionMaskRadius (10) | 0.100581 |
PaintCorrectionMaskRadius (11) | 0.100657 |
PaintCorrectionMaskRadius (12) | 0.099108 |
PaintCorrectionMaskRadius (13) | 0.099316 |
PaintCorrectionMaskRadius (2) | 0.047468 |
PaintCorrectionMaskRadius (3) | 0.046401 |
PaintCorrectionMaskRadius (4) | 0.133258 |
PaintCorrectionMaskRadius (5) | 0.126993 |
PaintCorrectionMaskRadius (6) | 0.128875 |
PaintCorrectionMaskRadius (7) | 0.126363 |
PaintCorrectionMaskRadius (8) | 0.076246 |
PaintCorrectionMaskRadius (9) | 0.076269 |
PaintCorrectionMaskRadius | 0.098533 |
PaintCorrectionMaskValue | 0.661000 |
PaintCorrectionMaskWhat | Mask/Paint |
PaintCorrectionSaturation (1) | 0.168140 |
PaintCorrectionSaturation (3) | 0.380530 |
PaintCorrectionSaturation (5) | 0.362830 |
PaintCorrectionSaturation (7) | -0.026550 |
PaintCorrectionSaturation | 0.000000 |
PaintCorrectionSharpness | 0.061950 |
PaintCorrectionWhat | Correction |
ParametricDarks | 0 |
ParametricHighlights | 0 |
ParametricHighlightSplit | 75 |
ParametricLights | 0 |
ParametricMidtoneSplit | 50 |
ParametricShadows | 0 |
ParametricShadowSplit | 25 |
PerspectiveHorizontal | 0 |
PerspectiveRotate | 0.0 |
PerspectiveScale | 100 |
PerspectiveVertical | 0 |
PhotometricInterpretation | RGB |
PostCropVignetteAmount | -20 |
PostCropVignetteFeather | 50 |
PostCropVignetteHighlightContrast | 0 |
PostCropVignetteMidpoint | 50 |
PostCropVignetteRoundness | 0 |
PostCropVignetteStyle | 1 |
ProcessVersion | 5.7 |
ProfileDescription | sRGB IEC61966-2.1 |
RedHue | 0 |
RedSaturation | 0 |
Saturation (1) | 0 |
Saturation | Normal |
SaturationAdjustmentAqua | 0 |
SaturationAdjustmentBlue | 0 |
SaturationAdjustmentGreen | 0 |
SaturationAdjustmentMagenta | 0 |
SaturationAdjustmentOrange | +33 |
SaturationAdjustmentPurple | 0 |
SaturationAdjustmentRed | 0 |
SaturationAdjustmentYellow | +33 |
ScaleFactor35efl | 1.0 |
SceneCaptureType | Standard |
SceneType | Directly photographed |
SensingMethod | One-chip color area |
SerialNumber | 2007197 |
Shadows | 5 |
ShadowTint | 0 |
SharpenDetail | 25 |
SharpenEdgeMasking | 36 |
SharpenRadius | +1.0 |
Sharpness (1) | 94 |
Sharpness | Hard |
ShutterSpeed | 1/800 |
ShutterSpeedValue | 1/800 |
Software | Adobe Photoshop CS5 Windows |
SplitToningBalance | 0 |
SplitToningHighlightHue | 0 |
SplitToningHighlightSaturation | 0 |
SplitToningShadowHue | 0 |
SplitToningShadowSaturation | 0 |
SubjectDistance | 2 m |
SubjectDistanceRange | Unknown |
Tint | +8 |
ToneCurve | 0, 0, 32, 22, 64, 56, 128, 128, 192, 196, 255, 255 |
ToneCurveName | Medium Contrast |
URL_List | |
Version | 6.6 |
Vibrance | +38 |
VignetteAmount | 0 |
WhiteBalance (1) | Custom |
WhiteBalance | Auto |