Felt | Verdi |
AlreadyApplied | True |
Aperture | 6.3 |
ApertureValue | 6.3 |
ApproximateFocusDistance | 0.4 |
Artist | Anna Zavoloka |
BitsPerSample | 8 |
BlueHue | 0 |
BlueSaturation | 0 |
Brightness | +50 |
By-line | Anna Zavoloka |
CameraProfile | Adobe Standard |
CFAPattern | [Red,Green][Green,Blue] |
ChromaticAberrationB | 0 |
ChromaticAberrationR | 0 |
CircleOfConfusion | 0.020 mm |
Clarity | 0 |
ColorComponents | 3 |
ColorMode | RGB |
ColorNoiseReduction | 25 |
ColorNoiseReductionDetail | 50 |
ColorSpace | sRGB |
ColorTemperature | 5908 |
Contrast (1) | +25 |
Contrast | Normal |
ConvertToGrayscale | False |
CreateDate (1) | 2012:06:28 08:23:08.70 |
CreateDate | 2012:06:28 08:23:08 |
Creator | Anna Zavoloka |
CreatorTool | Ver.1.03 |
CropAngle | 0 |
CropBottom | 0.815238 |
CropConstrainToWarp | 0 |
CropLeft | 0.083229 |
CropRight | 0.892753 |
CropTop | 0.005714 |
CustomRendered | Normal |
DateCreated (1) | 2012:06:28 |
DateCreated | 2012:06:28 08:23:08.007 |
DateTimeOriginal | 2012:06:28 08:23:08 |
Defringe | 0 |
DigitalZoomRatio | 1 |
DOF | 0.007 m (0.397 - 0.403 m) |
ExifImageHeight | 932 |
ExifImageWidth | 1408 |
Exposure | 0.00 |
ExposureCompensation | 0 |
ExposureMode | Auto |
ExposureProgram | Aperture-priority AE |
ExposureTime | 1/125 |
FillLight | 0 |
Flash | Off, Did not fire |
FNumber | 6.3 |
FocalLength | 70.0 mm |
FocalLength35efl | 70.0 mm (35 mm equivalent: 105.0 mm) |
FocalLengthIn35mmFormat | 105 mm |
Format | image/jpeg |
FOV | 19.5 deg |
GainControl | High gain up |
GrainAmount | 0 |
GreenHue | 0 |
GreenSaturation | 0 |
HasCrop | True |
HasSettings | True |
HighlightRecovery | 20 |
HueAdjustmentAqua | 0 |
HueAdjustmentBlue | 0 |
HueAdjustmentGreen | 0 |
HueAdjustmentMagenta | 0 |
HueAdjustmentOrange | 0 |
HueAdjustmentPurple | 0 |
HueAdjustmentRed | 0 |
HueAdjustmentYellow | 0 |
HyperfocalDistance | 38.83 m |
ICCProfileName | sRGB IEC61966-2.1 |
ImageHeight | 932 |
ImageNumber | 660 |
ImageSize | 1408x932 |
ImageWidth | 1408 |
ISO | 1250 |
Label | |
Lens | 24.0-70.0 mm f/2.8 |
LensID (1) | 147 |
LensID | AF-S Zoom-Nikkor 24-70mm f/2.8G ED |
LensInfo | 24-70mm f/2.8 |
LensManualDistortionAmount | 0 |
LensModel | 24.0-70.0 mm f/2.8 |
LensProfileChromaticAberrationScale | 100 |
LensProfileDistortionScale | 100 |
LensProfileEnable | 1 |
LensProfileFilename | NIKON D3X (Nikon FX 24-70mm f2.8 G ED) - RAW.lcp |
LensProfileName | Adobe (Nikon AF-S NIKKOR 24-70mm f/2.8G ED) |
LensProfileSetup | LensDefaults |
LensProfileVignettingScale | 100 |
LightSource | Unknown |
LightValue | 8.6 |
LuminanceAdjustmentAqua | 0 |
LuminanceAdjustmentBlue | 0 |
LuminanceAdjustmentGreen | 0 |
LuminanceAdjustmentMagenta | 0 |
LuminanceAdjustmentOrange | 0 |
LuminanceAdjustmentPurple | 0 |
LuminanceAdjustmentRed | 0 |
LuminanceAdjustmentYellow | 0 |
LuminanceNoiseReductionContrast | 0 |
LuminanceNoiseReductionDetail | 50 |
LuminanceSmoothing | 17 |
Make | NIKON CORPORATION |
MaxApertureValue | 2.8 |
Megapixels | 1.3 |
MeteringMode | Center-weighted average |
Model | NIKON D7000 |
ModifyDate (1) | 2012:07:30 19:31:19+02:00 |
ModifyDate | 2012:07:30 19:31:19 |
Orientation | Horizontal (normal) |
ParametricDarks | 0 |
ParametricHighlights | 0 |
ParametricHighlightSplit | 75 |
ParametricLights | 0 |
ParametricMidtoneSplit | 50 |
ParametricShadows | 0 |
ParametricShadowSplit | 25 |
PerspectiveHorizontal | 0 |
PerspectiveRotate | 0.0 |
PerspectiveScale | 100 |
PerspectiveVertical | 0 |
PostCropVignetteAmount | 0 |
ProcessVersion | 5.7 |
ProfileDescription | sRGB IEC61966-2.1 |
Rating | 4 |
RawFileName | DSC_0577.NEF |
RedHue | 0 |
RedSaturation | 0 |
Saturation (1) | 0 |
Saturation | Normal |
SaturationAdjustmentAqua | 0 |
SaturationAdjustmentBlue | 0 |
SaturationAdjustmentGreen | 0 |
SaturationAdjustmentMagenta | 0 |
SaturationAdjustmentOrange | 0 |
SaturationAdjustmentPurple | 0 |
SaturationAdjustmentRed | 0 |
SaturationAdjustmentYellow | 0 |
ScaleFactor35efl | 1.5 |
SceneCaptureType | Standard |
SceneType | Directly photographed |
SensingMethod | One-chip color area |
SensitivityType | Recommended Exposure Index |
SerialNumber | 6298135 |
Shadows | 5 |
ShadowTint | 0 |
SharpenDetail | 25 |
SharpenEdgeMasking | 0 |
SharpenRadius | +1.0 |
Sharpness (1) | 0 |
Sharpness | Normal |
ShutterSpeed | 1/125 |
ShutterSpeedValue | 1/125 |
Software | Adobe Photoshop CS5.1 Windows |
SplitToningBalance | 0 |
SplitToningHighlightHue | 0 |
SplitToningHighlightSaturation | 0 |
SplitToningShadowHue | 0 |
SplitToningShadowSaturation | 0 |
SubjectDistance | 0.4 m |
SubjectDistanceRange | Unknown |
Tint | +33 |
ToneCurve | 0, 0, 32, 22, 64, 56, 128, 128, 192, 196, 255, 255 |
ToneCurveName | Medium Contrast |
URL_List | |
Version | 6.6 |
Vibrance | 0 |
VignetteAmount | 0 |
WhiteBalance (1) | Custom |
WhiteBalance | Auto |