Felt | Verdi |
2012-09-06T19:59:33+02:00 File C:\Users\kingtiger\AppData\Roaming\Adobe\Adobe Photoshop CS6\AutoRecover\__IGP689644D94B97C36445468A9F70575318AA6C.psb saved
2012-09-06T20:00:07+02:00 File K:\pus\06sep2012\å gå.jpg saved
2012-09-06T20:03:17+02:00 File K:\pus\06sep2012\å gå.jpg saved
AlreadyApplied | True |
Aperture | 8.0 |
ApertureValue | 8.0 |
ApproximateFocusDistance | 8 |
Artist | B.SKOGSET |
AutoLateralCA | 1 |
BitsPerSample | 8 |
Blacks2012 | +10 |
BlueHue | 0 |
BlueSaturation | 0 |
Brightness | +50 |
By-line | B.SKOGSET |
CameraProfile | Adobe Standard |
CircleOfConfusion | 0.020 mm |
Clarity | 0 |
Clarity2012 | -58 |
ColorComponents | 3 |
ColorMode | RGB |
ColorNoiseReduction | 25 |
ColorNoiseReductionDetail | 50 |
ColorSpace | Uncalibrated |
ColorTemperature | 6700 |
Contrast (1) | +25 |
Contrast | Normal |
Contrast2012 | +39 |
ConvertToGrayscale | False |
CreateDate | 2012:09:06 15:07:12 |
Creator | B.SKOGSET |
CreatorTool | K-5 Ver 1.13 |
CustomRendered | Normal |
DateCreated (1) | 2012:09:06 |
DateCreated | 2012:09:06 15:07:12 |
DateTimeOriginal | 2012:09:06 15:07:12 |
Defringe | 0 |
DOF | 6.46 m (5.91 - 12.37 m) |
ExifImageHeight | 3264 |
ExifImageWidth | 4176 |
Exposure | 0.00 |
Exposure2012 | +0.35 |
ExposureCompensation | 0 |
ExposureMode | Auto |
ExposureProgram | Not Defined |
ExposureTime | 1/500 |
FillLight | 0 |
Flash | Off, Did not fire |
FNumber | 8.0 |
FocalLength | 60.0 mm |
FocalLength35efl | 60.0 mm (35 mm equivalent: 90.0 mm) |
FocalLengthIn35mmFormat | 90 mm |
Format | image/jpeg |
FOV | 22.6 deg |
GrainAmount | 0 |
GreenHue | 0 |
GreenSaturation | 0 |
HasCrop | False |
HasSettings | True |
HighlightRecovery | 0 |
Highlights2012 | -37 |
HueAdjustmentAqua | 0 |
HueAdjustmentBlue | 0 |
HueAdjustmentGreen | 0 |
HueAdjustmentMagenta | 0 |
HueAdjustmentOrange | 0 |
HueAdjustmentPurple | 0 |
HueAdjustmentRed | 0 |
HueAdjustmentYellow | 0 |
HyperfocalDistance | 22.47 m |
ICCProfileName | Adobe RGB (1998) |
ImageHeight | 3264 |
ImageSize | 4176x3264 |
ImageWidth | 4176 |
ISO | 320 |
Lens | smc PENTAX-DA 18-135mm F3.5-5.6 ED AL[IF] DC WR |
LensID (1) | 8 215 |
LensID | smc PENTAX-DA 18-135mm F3.5-5.6 ED AL [IF] DC WR |
LensInfo | 18-135mm f/3.5-5.6 |
LensManualDistortionAmount | 0 |
LensModel | smc PENTAX-DA 18-135mm F3.5-5.6 ED AL[IF] DC WR |
LensProfileChromaticAberrationScale | 100 |
LensProfileDistortionScale | 100 |
LensProfileEnable | 1 |
LensProfileFilename | PENTAX (smc PENTAX-DA 18-135mm F3.5-5.6 ED AL[IF] DC WR) - RAW.lcp |
LensProfileName | Adobe (smc PENTAX-DA 18-135mm F3.5-5.6 ED AL[IF] DC WR) |
LensProfileSetup | LensDefaults |
LensProfileVignettingScale | 100 |
LightValue | 13.3 |
LuminanceAdjustmentAqua | 0 |
LuminanceAdjustmentBlue | 0 |
LuminanceAdjustmentGreen | 0 |
LuminanceAdjustmentMagenta | 0 |
LuminanceAdjustmentOrange | 0 |
LuminanceAdjustmentPurple | 0 |
LuminanceAdjustmentRed | 0 |
LuminanceAdjustmentYellow | 0 |
LuminanceSmoothing | 0 |
Make | PENTAX |
Megapixels | 13.6 |
MeteringMode | Center-weighted average |
Model | PENTAX K-5 |
ModifyDate (1) | 2012:09:06 20:03:17+02:00 |
ModifyDate | 2012:09:06 20:03:17 |
Orientation | Horizontal (normal) |
ParametricDarks | +15 |
ParametricHighlights | +16 |
ParametricHighlightSplit | 75 |
ParametricLights | 0 |
ParametricMidtoneSplit | 50 |
ParametricShadows | -19 |
ParametricShadowSplit | 25 |
PerspectiveHorizontal | 0 |
PerspectiveRotate | 0.0 |
PerspectiveScale | 100 |
PerspectiveVertical | 0 |
PostCropVignetteAmount | 0 |
ProcessVersion | 6.7 |
ProfileDescription | Adobe RGB (1998) |
Rating | 0 |
RawFileName | _IGP6896.DNG |
RedHue | 0 |
RedSaturation | 0 |
Saturation (1) | +11 |
Saturation | Normal |
SaturationAdjustmentAqua | 0 |
SaturationAdjustmentBlue | 0 |
SaturationAdjustmentGreen | +20 |
SaturationAdjustmentMagenta | 0 |
SaturationAdjustmentOrange | 0 |
SaturationAdjustmentPurple | 0 |
SaturationAdjustmentRed | 0 |
SaturationAdjustmentYellow | +28 |
ScaleFactor35efl | 1.5 |
SceneCaptureType | Standard |
SensingMethod | One-chip color area |
Shadows | 5 |
Shadows2012 | -17 |
ShadowTint | 0 |
SharpenDetail | 25 |
SharpenEdgeMasking | 0 |
SharpenRadius | +1.0 |
Sharpness (1) | 25 |
Sharpness | Normal |
ShutterSpeed | 1/500 |
ShutterSpeedValue | 1/500 |
Software | Adobe Photoshop CS6 (Windows) |
SplitToningBalance | 0 |
SplitToningHighlightHue | 0 |
SplitToningHighlightSaturation | 0 |
SplitToningShadowHue | 0 |
SplitToningShadowSaturation | 0 |
SubjectDistanceRange | Distant |
Tint | +3 |
ToneCurve | 0, 0, 32, 22, 64, 56, 128, 128, 192, 196, 255, 255 |
ToneCurveBlue | 0, 0, 255, 255 |
ToneCurveGreen | 0, 0, 255, 255 |
ToneCurveName | Medium Contrast |
ToneCurveName2012 | Linear |
ToneCurvePV2012 | 0, 0, 255, 255 |
ToneCurvePV2012Blue | 0, 0, 255, 255 |
ToneCurvePV2012Green | 0, 0, 255, 255 |
ToneCurvePV2012Red | 0, 0, 255, 255 |
ToneCurveRed | 0, 0, 255, 255 |
URL_List | |
Version | 7.0 |
Vibrance | +24 |
VignetteAmount | 0 |
WhiteBalance (1) | Custom |
WhiteBalance | Manual |
Whites2012 | 0 |