Felt | Verdi |
AlreadyApplied | True |
Aperture | 11.0 |
ApertureValue | 11.0 |
ApproximateFocusDistance | 4294967295 |
BitsPerSample (1) | 8 8 8 |
BitsPerSample | 8 |
BlueHue | -100 |
BlueSaturation | +100 |
Brightness | +50 |
CameraProfile | ACR 3.4 |
CFAPattern | [Red,Green][Green,Blue] |
ChromaticAberrationB | 0 |
ChromaticAberrationR | 0 |
CircleOfConfusion | 0.020 mm |
Clarity | 0 |
ColorComponents | 3 |
ColorMode | RGB |
ColorNoiseReduction | 25 |
ColorNoiseReductionDetail | 50 |
ColorSpace | sRGB |
ColorTemperature | 4800 |
Contrast (1) | +100 |
Contrast | Normal |
ConvertToGrayscale | False |
CreateDate (1) | 2012:09:27 18:41:13.50 |
CreateDate | 2012:09:27 18:41:13 |
CreatorTool | Adobe Photoshop CS5 Windows |
CropAngle | 0.895174 |
CropBottom | 0.999562 |
CropConstrainToWarp | 0 |
CropHeight | 2865 |
CropLeft | 0.042634 |
CropRight | 0.964856 |
CropTop | 0.045713 |
CropUnit | pixels |
CropWidth | 4326 |
CustomRendered | Custom |
DateCreated (1) | 2012:09:27 |
DateCreated | 2012:09:27 18:41:13.005 |
DateTimeOriginal | 2012:09:27 18:41:13 |
Defringe | 2 |
DigitalZoomRatio | 1 |
DOF | inf (2.61 m - inf) |
ExifImageHeight | 795 |
ExifImageWidth | 1200 |
Exposure | +0.71 |
ExposureCompensation | -2/3 |
ExposureMode | Auto |
ExposureProgram | Aperture-priority AE |
ExposureTime | 13 |
FillLight | 63 |
Flash | Off, Did not fire |
FNumber | 11.0 |
FocalLength | 24.0 mm |
FocalLength35efl | 24.0 mm (35 mm equivalent: 36.0 mm) |
FocalLengthIn35mmFormat | 36 mm |
Format | image/jpeg |
FOV | 53.1 deg |
GainControl | None |
GradientBasedCorrActive | true |
GradientBasedCorrAmount | 1.000000 |
GradientBasedCorrBrightness | 0.044250 |
GradientBasedCorrClarity | 0.132740 |
GradientBasedCorrContrast (1) | 0.451330 |
GradientBasedCorrContrast | 0.203540 |
GradientBasedCorrExposure (1) | -0.168250 |
GradientBasedCorrExposure | 0.079750 |
GradientBasedCorrHue | 0.000000 |
GradientBasedCorrMaskFullX (1) | 0.378336 |
GradientBasedCorrMaskFullX | 0.286507 |
GradientBasedCorrMaskFullY (1) | 0.213392 |
GradientBasedCorrMaskFullY | 0.203363 |
GradientBasedCorrMaskValue | 1.000000 |
GradientBasedCorrMaskWhat | Mask/Gradient |
GradientBasedCorrMaskZeroX (1) | 0.374538 |
GradientBasedCorrMaskZeroX | 0.283690 |
GradientBasedCorrMaskZeroY (1) | 0.425288 |
GradientBasedCorrMaskZeroY | 0.444257 |
GradientBasedCorrSaturation (1) | 0.185840 |
GradientBasedCorrSaturation (3) | -0.061950 |
GradientBasedCorrSaturation | 0.000000 |
GradientBasedCorrSharpness | 0.000000 |
GradientBasedCorrWhat | Correction |
GrainAmount | 0 |
GreenHue | -2 |
GreenSaturation | -48 |
HasCrop | True |
HasSettings | True |
HighlightRecovery | 100 |
HueAdjustmentAqua | 0 |
HueAdjustmentBlue | 0 |
HueAdjustmentGreen | 0 |
HueAdjustmentMagenta | 0 |
HueAdjustmentOrange | +29 |
HueAdjustmentPurple | 0 |
HueAdjustmentRed | +81 |
HueAdjustmentYellow | +5 |
HyperfocalDistance | 2.61 m |
ICCProfileName | sRGB IEC61966-2.1 |
ImageHeight (1) | 2865 |
ImageHeight | 795 |
ImageNumber | 11854 |
ImageSize | 1200x795 |
ImageWidth (1) | 4326 |
ImageWidth | 1200 |
ISO | 100 |
Keywords | Landskap |
Lens | 24.0-70.0 mm f/2.8 |
LensID (1) | 147 |
LensID | AF-S Zoom-Nikkor 24-70mm f/2.8G ED |
LensInfo | 24-70mm f/2.8 |
LensManualDistortionAmount | 0 |
LensModel | 24.0-70.0 mm f/2.8 |
LensProfileChromaticAberrationScale | 100 |
LensProfileDistortionScale | 100 |
LensProfileEnable | 1 |
LensProfileFilename | NIKON D3X (Nikon FX 24-70mm f2.8 G ED) - RAW.lcp |
LensProfileName | Adobe (Nikon AF-S NIKKOR 24-70mm f/2.8G ED) |
LensProfileSetup | LensDefaults |
LensProfileVignettingScale | 100 |
LightSource | Unknown |
LightValue | 3.2 |
LuminanceAdjustmentAqua | +100 |
LuminanceAdjustmentBlue | -100 |
LuminanceAdjustmentGreen | +100 |
LuminanceAdjustmentMagenta | 0 |
LuminanceAdjustmentOrange | +40 |
LuminanceAdjustmentPurple | 0 |
LuminanceAdjustmentRed | -36 |
LuminanceAdjustmentYellow | 0 |
LuminanceNoiseReductionContrast | 0 |
LuminanceNoiseReductionDetail | 50 |
LuminanceSmoothing | 15 |
Make | NIKON CORPORATION |
MaxApertureValue | 2.8 |
Megapixels | 0.954 |
MeteringMode | Multi-segment |
Model | NIKON D7000 |
ModifyDate (1) | 2012:09:27 22:53:43+02:00 |
ModifyDate | 2012:09:27 22:53:43 |
Orientation | Horizontal (normal) |
PaintCorrectionActive | true |
PaintCorrectionAmount | 1.000000 |
PaintCorrectionBrightness | 0.044250 |
PaintCorrectionClarity | -1.000000 |
PaintCorrectionContrast | 0.061950 |
PaintCorrectionExposure | 0.008750 |
PaintCorrectionHue | 0.000000 |
PaintCorrectionMaskCenterWeight | 0.069597 |
PaintCorrectionMaskFlow | 0.802000 |
PaintCorrectionMaskRadius (1) | 0.018471 |
PaintCorrectionMaskRadius (2) | 0.018474 |
PaintCorrectionMaskRadius (3) | 0.018459 |
PaintCorrectionMaskRadius (4) | 0.018477 |
PaintCorrectionMaskRadius (5) | 0.018389 |
PaintCorrectionMaskRadius (6) | 0.018378 |
PaintCorrectionMaskRadius | 0.018189 |
PaintCorrectionMaskValue | 0.661000 |
PaintCorrectionMaskWhat | Mask/Paint |
PaintCorrectionSaturation | 0.000000 |
PaintCorrectionSharpness | -0.345130 |
PaintCorrectionWhat | Correction |
ParametricDarks | 0 |
ParametricHighlights | 0 |
ParametricHighlightSplit | 75 |
ParametricLights | +39 |
ParametricMidtoneSplit | 50 |
ParametricShadows | -21 |
ParametricShadowSplit | 25 |
PerspectiveHorizontal | 0 |
PerspectiveRotate | 0.0 |
PerspectiveScale | 100 |
PerspectiveVertical | 0 |
PhotometricInterpretation | RGB |
PostCropVignetteAmount | 0 |
ProcessVersion | 5.7 |
ProfileDescription | sRGB IEC61966-2.1 |
RedHue | +100 |
RedSaturation | -50 |
Saturation (1) | +100 |
Saturation | Normal |
SaturationAdjustmentAqua | -100 |
SaturationAdjustmentBlue | -83 |
SaturationAdjustmentGreen | +45 |
SaturationAdjustmentMagenta | -100 |
SaturationAdjustmentOrange | -74 |
SaturationAdjustmentPurple | -100 |
SaturationAdjustmentRed | -100 |
SaturationAdjustmentYellow | +45 |
ScaleFactor35efl | 1.5 |
SceneCaptureType | Standard |
SceneType | Directly photographed |
SensingMethod | One-chip color area |
SensitivityType | Recommended Exposure Index |
SerialNumber | 6156653 |
Shadows | 15 |
ShadowTint | +100 |
SharpenDetail | 25 |
SharpenEdgeMasking | 0 |
SharpenRadius | +1.0 |
Sharpness (1) | 15 |
Sharpness | Normal |
ShutterSpeed | 13 |
ShutterSpeedValue | 13 |
Software | Adobe Photoshop CS5 Windows |
SplitToningBalance | 0 |
SplitToningHighlightHue | 51 |
SplitToningHighlightSaturation | 29 |
SplitToningShadowHue | 43 |
SplitToningShadowSaturation | 5 |
Subject | Landskap |
SubjectDistance | 4294967295 m |
SubjectDistanceRange | Unknown |
Tint | 0 |
ToneCurve | 0, 0, 32, 22, 64, 56, 128, 128, 192, 196, 255, 255 |
ToneCurveName | Medium Contrast |
URL_List | |
Version | 6.6 |
Vibrance | +29 |
VignetteAmount | -14 |
VignetteMidpoint | 64 |
WhiteBalance (1) | Custom |
WhiteBalance | Auto |