Felt | Verdi |
AlreadyApplied | False |
Aperture | 9.5 |
ApertureValue | 9.5 |
AutoLateralCA | 0 |
BitsPerSample | 8 |
BlackClip | 0.002900 |
Blacks2012 | 0 |
BlueHue | 0 |
BlueSaturation | 0 |
CameraProfile | Embedded |
Clarity2012 | 0 |
ColorComponents | 3 |
ColorNoiseReduction | 0 |
ColorSaturation | 70.0 |
ColorTemperature | 0.8 |
Contrast2012 | 0 |
ConvertToGrayscale | False |
Copyright | Hasselblad H4D |
CopyrightNotice | Hasselblad H4D |
CreateDate | 2012:09:29 17:24:47 |
CreatorTool | Photomatix Pro 4.2 |
DateCreated (1) | 2012:09:29 |
DateCreated | 2012:09:29 17:24:47 |
DateTimeOriginal | 2012:09:29 17:24:47 |
DefringeGreenAmount | 0 |
DefringeGreenHueHi | 60 |
DefringeGreenHueLo | 40 |
DefringePurpleAmount | 0 |
DefringePurpleHueHi | 70 |
DefringePurpleHueLo | 30 |
ExifImageHeight | 769 |
ExifImageWidth | 1200 |
Exposure2012 | +0.05 |
ExposureProgram | Aperture-priority AE |
ExposureTime | 1/160 |
FNumber | 9.5 |
FocalLength | 35.0 mm |
FocalLength35efl | 35.0 mm |
Format | image/jpeg |
Gamma | 1.22 |
GrainAmount | 0 |
GreenHue | 0 |
GreenSaturation | 0 |
HasCrop | False |
HasSettings | True |
Highlights2012 | 0 |
HighlightsSmoothing | 0.0 |
HueAdjustmentAqua | 0 |
HueAdjustmentBlue | 0 |
HueAdjustmentGreen | 0 |
HueAdjustmentMagenta | 0 |
HueAdjustmentOrange | 0 |
HueAdjustmentPurple | 0 |
HueAdjustmentRed | 0 |
HueAdjustmentYellow | 0 |
ImageHeight | 769 |
ImageSize | 1200x769 |
ImageWidth | 1200 |
IncrementalTemperature | +2 |
IncrementalTint | 0 |
ISO | 100 |
IsPano360 | No |
LensManualDistortionAmount | 0 |
LensProfileEnable | 0 |
LensProfileSetup | LensDefaults |
LightValue | 13.8 |
LuminanceAdjustmentAqua | 0 |
LuminanceAdjustmentBlue | 0 |
LuminanceAdjustmentGreen | 0 |
LuminanceAdjustmentMagenta | 0 |
LuminanceAdjustmentOrange | 0 |
LuminanceAdjustmentPurple | 0 |
LuminanceAdjustmentRed | 0 |
LuminanceAdjustmentYellow | 0 |
LuminanceSmoothing | 0 |
Luminosity | 5.5 |
Make | Hasselblad |
Megapixels | 0.923 |
MeteringMode | Center-weighted average |
Method | Details Enhancer |
Microcontrast | 10.0 |
Microsmoothing | 0.0 |
Model | Hasselblad H4D |
ModifyDate (1) | 2012:09:30 07:09:51+02:00 |
ModifyDate | 2012:09:30 07:09:51 |
Orientation | Horizontal (normal) |
ParametricDarks | 0 |
ParametricHighlights | 0 |
ParametricHighlightSplit | 75 |
ParametricLights | 0 |
ParametricMidtoneSplit | 50 |
ParametricShadows | 0 |
ParametricShadowSplit | 25 |
PerspectiveHorizontal | 0 |
PerspectiveRotate | 0.0 |
PerspectiveScale | 100 |
PerspectiveVertical | 0 |
PostCropVignetteAmount | 0 |
ProcessVersion | 6.7 |
Rating | 0 |
RawFileName | Hytta_122909_6325_tonemapped.jpg |
RedHue | 0 |
RedSaturation | 0 |
Rights | Hasselblad H4D |
Saturation | 0 |
SaturationAdjustmentAqua | 0 |
SaturationAdjustmentBlue | 0 |
SaturationAdjustmentGreen | 0 |
SaturationAdjustmentMagenta | 0 |
SaturationAdjustmentOrange | 0 |
SaturationAdjustmentPurple | 0 |
SaturationAdjustmentRed | 0 |
SaturationAdjustmentYellow | 0 |
SaturationHighlights | 4.2 |
SaturationShadows | 3.4 |
Shadows2012 | 0 |
ShadowsClipping | 0.0 |
ShadowsSmoothing | 0.0 |
ShadowTint | 0 |
SharpenDetail | 25 |
SharpenEdgeMasking | 0 |
SharpenRadius | +1.0 |
Sharpness | 0 |
ShutterSpeed | 1/160 |
ShutterSpeedValue | 1/160 |
Smoothing | -2.9 |
SmoothingMode | Slider |
Software | Photomatix Pro 4.2 |
SplitToningBalance | 0 |
SplitToningHighlightHue | 0 |
SplitToningHighlightSaturation | 0 |
SplitToningShadowHue | 0 |
SplitToningShadowSaturation | 0 |
Strength | 91.0 |
ToneCurveName2012 | Linear |
ToneCurvePV2012 | 0, 0, 255, 255 |
ToneCurvePV2012Blue | 0, 0, 255, 255 |
ToneCurvePV2012Green | 0, 0, 255, 255 |
ToneCurvePV2012Red | 0, 0, 255, 255 |
Version (1) | 4.2 |
Version | 7.1 |
Vibrance | 0 |
VignetteAmount | 0 |
WhiteBalance | Custom |
WhiteClip | 0.126200 |
Whites2012 | 0 |