Felt | Verdi |
AlreadyApplied | True |
Aperture | 6.3 |
ApertureValue | 6.3 |
BitsPerSample | 8 |
BlueHue | +1 |
BlueSaturation | -1 |
Brightness | +50 |
CameraProfile | Adobe Standard |
ChromaticAberrationB | 0 |
ChromaticAberrationR | 0 |
CircleOfConfusion | 0.002 mm |
Clarity | +43 |
ColorComponents | 3 |
ColorNoiseReduction | 25 |
ColorSpace | Uncalibrated |
ColorTemperature | 5650 |
Contrast | +25 |
ConvertToGrayscale | False |
CreateDate (1) | 2012:10:17 14:00:45.66 |
CreateDate | 2012:10:17 14:00:45 |
CreatorTool | picnik.com |
CropAngle | 0 |
CropBottom | 0.67619 |
CropHeight | 1525 |
CropLeft | 0.425397 |
CropRight | 0.608466 |
CropTop | 0.234921 |
CropUnit | pixels |
CropWidth | 949 |
CustomRendered | Normal |
DateCreated (1) | 2012:10:17 |
DateCreated | 2012:10:17 14:00:45.66 |
DateTimeOriginal | 2012:10:17 14:00:45 |
Defringe | 0 |
DOF | 0.001 m (0.320 - 0.320 m) |
ExifImageHeight | 642 |
ExifImageWidth | 400 |
Exposure | 0.00 |
ExposureCompensation | 0 |
ExposureMode | Auto |
ExposureProgram | Aperture-priority AE |
ExposureTime | 1/25 |
FillLight | 0 |
Firmware | 1.0.1 |
Flash | Off, Did not fire |
FlashCompensation | 0 |
FNumber | 6.3 |
FocalLength | 60.0 mm |
FocalLength35efl | 60.0 mm (35 mm equivalent: 781.7 mm) |
Format | image/jpeg |
FOV | 2.6 deg |
GreenHue | +33 |
GreenSaturation | 0 |
HasCrop | True |
HasSettings | True |
HighlightRecovery | 100 |
HueAdjustmentAqua | 0 |
HueAdjustmentBlue | 0 |
HueAdjustmentGreen | 0 |
HueAdjustmentMagenta | 0 |
HueAdjustmentOrange | 0 |
HueAdjustmentPurple | 0 |
HueAdjustmentRed | 0 |
HueAdjustmentYellow | 0 |
HyperfocalDistance | 247.79 m |
IFD0_Offset | 1129 |
ImageDataSize | 25046 |
ImageHeight | 642 |
ImageNumber | 0 |
ImageSize | 400x642 |
ImageWidth | 400 |
ISO | 100 |
Lens | EF-S60mm f/2.8 Macro USM |
LensID (1) | 236 |
LensID | Canon EF-S 60mm f/2.8 Macro USM |
LensInfo | 60mm f/? |
LightValue | 10.0 |
LuminanceAdjustmentAqua | 0 |
LuminanceAdjustmentBlue | 0 |
LuminanceAdjustmentGreen | 0 |
LuminanceAdjustmentMagenta | 0 |
LuminanceAdjustmentOrange | 0 |
LuminanceAdjustmentPurple | 0 |
LuminanceAdjustmentRed | 0 |
LuminanceAdjustmentYellow | 0 |
LuminanceSmoothing | 0 |
Make | Canon |
MakerNoteVersion | 2.10 |
MaxApertureValue | 2.8 |
Megapixels | 0.257 |
MeteringMode | Multi-segment |
Model | Canon EOS 600D |
ModifyDate (1) | 2012:10:18 09:44:59+02:00 |
ModifyDate | 2012:10:18 09:48:48 |
NEFBitDepth | Unknown (0 0 53760 15) |
NikonCaptureVersion | Capture NX 2.0.0 W |
ParametricDarks | 0 |
ParametricHighlights | 0 |
ParametricHighlightSplit | 75 |
ParametricLights | 0 |
ParametricMidtoneSplit | 50 |
ParametricShadows | 0 |
ParametricShadowSplit | 25 |
PostCropVignetteAmount | 0 |
PreviewIFD_Offset | 1029 |
Rating | 0 |
RatingPercent | 0 |
RedHue | +3 |
RedSaturation | 0 |
Saturation | +17 |
SaturationAdjustmentAqua | 0 |
SaturationAdjustmentBlue | 0 |
SaturationAdjustmentGreen | 0 |
SaturationAdjustmentMagenta | 0 |
SaturationAdjustmentOrange | 0 |
SaturationAdjustmentPurple | 0 |
SaturationAdjustmentRed | 0 |
SaturationAdjustmentYellow | 0 |
ScaleFactor35efl | 13.0 |
SceneCaptureType | Standard |
SerialNumber | 133063065966 |
Shadows | 15 |
ShadowTint | -1 |
SharpenDetail | 0 |
SharpenEdgeMasking | 5 |
SharpenRadius | +0.5 |
Sharpness | 41 |
ShutterSpeed | 1/25 |
ShutterSpeedValue | 1.5 |
Software | picnik.com |
SplitToningBalance | 0 |
SplitToningHighlightHue | 0 |
SplitToningHighlightSaturation | 0 |
SplitToningShadowHue | 0 |
SplitToningShadowSaturation | 0 |
SubjectDistance | 0.32 m |
Tint | -4 |
ToneCurve | 0, 0, 32, 22, 64, 56, 128, 128, 192, 196, 255, 255 |
ToneCurveName | Medium Contrast |
Version | 6.6 |
Vibrance | +15 |
VignetteAmount | 0 |
WhiteBalance (1) | As Shot |
WhiteBalance | Auto |