Felt | Verdi |
AlreadyApplied | True |
Aperture | 4.0 |
ApertureValue | 4.0 |
ApproximateFocusDistance | 4294967295 |
BitsPerSample (1) | 8 8 8 |
BitsPerSample | 8 |
BlueHue | 0 |
BlueSaturation | 0 |
Brightness | +50 |
CameraProfile | Adobe Standard |
CFAPattern | [Red,Green][Green,Blue] |
ChromaticAberrationB | 0 |
ChromaticAberrationR | 0 |
CircleOfConfusion | 0.030 mm |
Clarity | +29 |
ColorComponents | 3 |
ColorMode | RGB |
ColorNoiseReduction | 25 |
ColorNoiseReductionDetail | 50 |
ColorSpace | sRGB |
ColorTemperature | 5832 |
Contrast (1) | +37 |
Contrast | Normal |
ConvertToGrayscale | False |
CreateDate (1) | 2012:09:04 21:53:30.65 |
CreateDate | 2012:09:04 21:53:30 |
CreatorTool | Adobe Photoshop Lightroom 3.6 (Windows) |
CropAngle | 0 |
CropBottom | 0.854383 |
CropConstrainToWarp | 0 |
CropHeight | 514 |
CropLeft | 0 |
CropRight | 1 |
CropTop | 0.210315 |
CropUnit | pixels |
CropWidth | 1200 |
CustomRendered | Normal |
DateCreated (1) | 2012:09:04 |
DateCreated | 2012:09:04 21:53:30.065 |
DateTimeOriginal | 2012:09:04 21:53:30 |
Defringe | 0 |
DigitalZoomRatio | 1 |
DOF | inf (1331.28 m - inf) |
ExifImageHeight | 514 |
ExifImageWidth | 1200 |
Exposure | -0.41 |
ExposureCompensation | -1/3 |
ExposureMode | Manual |
ExposureProgram | Manual |
ExposureTime | 1/250 |
FillLight | 13 |
Flash | No Flash |
FNumber | 4.0 |
FocalLength | 400.0 mm |
FocalLength35efl | 400.0 mm (35 mm equivalent: 400.0 mm) |
FocalLengthIn35mmFormat | 400 mm |
Format | image/jpeg |
FOV | 5.2 deg |
GainControl | None |
GradientBasedCorrActive | true |
GradientBasedCorrAmount | 1.000000 |
GradientBasedCorrBrightness | -0.079645 |
GradientBasedCorrClarity | 0.362830 |
GradientBasedCorrContrast | 0.398230 |
GradientBasedCorrExposure | -0.150500 |
GradientBasedCorrHue | 0.000000 |
GradientBasedCorrMaskFullX | 0.182677 |
GradientBasedCorrMaskFullY | 0.504216 |
GradientBasedCorrMaskValue | 1.000000 |
GradientBasedCorrMaskWhat | Mask/Gradient |
GradientBasedCorrMaskZeroX | 0.221168 |
GradientBasedCorrMaskZeroY | 0.815550 |
GradientBasedCorrSaturation (1) | 0.486730 |
GradientBasedCorrSaturation | 0.000000 |
GradientBasedCorrSharpness | 0.000000 |
GradientBasedCorrWhat | Correction |
GrainAmount | 0 |
GreenHue | 0 |
GreenSaturation | 0 |
HasCrop | True |
HasSettings | True |
HighlightRecovery | 100 |
HueAdjustmentAqua | 0 |
HueAdjustmentBlue | 0 |
HueAdjustmentGreen | 0 |
HueAdjustmentMagenta | 0 |
HueAdjustmentOrange | 0 |
HueAdjustmentPurple | 0 |
HueAdjustmentRed | 0 |
HueAdjustmentYellow | 0 |
HyperfocalDistance | 1331.28 m |
ICCProfileName | sRGB IEC61966-2.1 |
ImageHeight | 514 |
ImageNumber | 10364 |
ImageSize | 1200x514 |
ImageWidth | 1200 |
ISO | 360 |
Keywords | Landskap |
Lens | 200.0-400.0 mm f/4.0 |
LensID (1) | 168 |
LensID | AF-S Zoom-Nikkor 200-400mm f/4G IF-ED VR II |
LensInfo | 200-400mm f/4 |
LensManualDistortionAmount | 0 |
LensModel | 200.0-400.0 mm f/4.0 |
LensProfileChromaticAberrationScale | 100 |
LensProfileDistortionScale | 100 |
LensProfileEnable | 1 |
LensProfileFilename | NIKON D3X (Nikon AF-S NIKKOR 200-400mm f4G ED VR II) - RAW.lcp |
LensProfileName | Adobe (Nikon AF-S NIKKOR 200-400mm f/4G ED VR II) |
LensProfileSetup | LensDefaults |
LensProfileVignettingScale | 100 |
LightSource | Unknown |
LightValue | 10.1 |
LuminanceAdjustmentAqua | 0 |
LuminanceAdjustmentBlue | 0 |
LuminanceAdjustmentGreen | 0 |
LuminanceAdjustmentMagenta | 0 |
LuminanceAdjustmentOrange | +10 |
LuminanceAdjustmentPurple | 0 |
LuminanceAdjustmentRed | 0 |
LuminanceAdjustmentYellow | -8 |
LuminanceNoiseReductionContrast | 0 |
LuminanceNoiseReductionDetail | 50 |
LuminanceSmoothing | 26 |
Make | NIKON CORPORATION |
MaxApertureValue | 4.0 |
Megapixels | 0.617 |
MeteringMode | Multi-segment |
Model | NIKON D3S |
ModifyDate (1) | 2012:10:18 19:52:13+02:00 |
ModifyDate | 2012:10:18 19:52:13 |
Orientation | Horizontal (normal) |
PaintCorrectionActive | true |
PaintCorrectionAmount | 1.000000 |
PaintCorrectionBrightness (4) | 0.000000 |
PaintCorrectionBrightness | 0.079645 |
PaintCorrectionClarity | 0.000000 |
PaintCorrectionContrast (2) | 0.415930 |
PaintCorrectionContrast | 0.000000 |
PaintCorrectionExposure (1) | 0.062000 |
PaintCorrectionExposure (2) | 0.000000 |
PaintCorrectionExposure (3) | 0.079750 |
PaintCorrectionExposure (4) | 0.132750 |
PaintCorrectionExposure | 0.097250 |
PaintCorrectionHue | 0.000000 |
PaintCorrectionMaskCenterWeight | 0.069597 |
PaintCorrectionMaskFlow | 0.802000 |
PaintCorrectionMaskRadius (1) | 0.007135 |
PaintCorrectionMaskRadius (11) | 0.020590 |
PaintCorrectionMaskRadius (13) | 0.020580 |
PaintCorrectionMaskRadius (14) | 0.020577 |
PaintCorrectionMaskRadius (15) | 0.020607 |
PaintCorrectionMaskRadius (16) | 0.020581 |
PaintCorrectionMaskRadius (17) | 0.020561 |
PaintCorrectionMaskRadius (18) | 0.020568 |
PaintCorrectionMaskRadius (19) | 0.020631 |
PaintCorrectionMaskRadius (2) | 0.007137 |
PaintCorrectionMaskRadius (20) | 0.020611 |
PaintCorrectionMaskRadius (21) | 0.020588 |
PaintCorrectionMaskRadius (22) | 0.023874 |
PaintCorrectionMaskRadius (23) | 0.023837 |
PaintCorrectionMaskRadius (24) | 0.054003 |
PaintCorrectionMaskRadius (25) | 0.054030 |
PaintCorrectionMaskRadius (26) | 0.054043 |
PaintCorrectionMaskRadius (27) | 0.043063 |
PaintCorrectionMaskRadius (28) | 0.042993 |
PaintCorrectionMaskRadius (29) | 0.043101 |
PaintCorrectionMaskRadius (3) | 0.007136 |
PaintCorrectionMaskRadius (30) | 0.042909 |
PaintCorrectionMaskRadius (31) | 0.026851 |
PaintCorrectionMaskRadius (32) | 0.026787 |
PaintCorrectionMaskRadius (33) | 0.019002 |
PaintCorrectionMaskRadius (34) | 0.015902 |
PaintCorrectionMaskRadius (5) | 0.007127 |
PaintCorrectionMaskRadius (6) | 0.007125 |
PaintCorrectionMaskRadius (7) | 0.007139 |
PaintCorrectionMaskRadius (9) | 0.007143 |
PaintCorrectionMaskRadius | 0.015962 |
PaintCorrectionMaskValue | 0.661000 |
PaintCorrectionMaskWhat | Mask/Paint |
PaintCorrectionSaturation | 0.000000 |
PaintCorrectionSharpness | 0.000000 |
PaintCorrectionWhat | Correction |
ParametricDarks | -11 |
ParametricHighlights | 0 |
ParametricHighlightSplit | 75 |
ParametricLights | +28 |
ParametricMidtoneSplit | 50 |
ParametricShadows | 0 |
ParametricShadowSplit | 25 |
PerspectiveHorizontal | 0 |
PerspectiveRotate | 0.0 |
PerspectiveScale | 100 |
PerspectiveVertical | 0 |
PhotometricInterpretation | RGB |
PostCropVignetteAmount | -20 |
PostCropVignetteFeather | 50 |
PostCropVignetteHighlightContrast | 0 |
PostCropVignetteMidpoint | 50 |
PostCropVignetteRoundness | 0 |
PostCropVignetteStyle | 1 |
ProcessVersion | 5.7 |
ProfileDescription | sRGB IEC61966-2.1 |
RedHue | 0 |
RedSaturation | 0 |
Saturation (1) | 0 |
Saturation | Normal |
SaturationAdjustmentAqua | 0 |
SaturationAdjustmentBlue | 0 |
SaturationAdjustmentGreen | 0 |
SaturationAdjustmentMagenta | 0 |
SaturationAdjustmentOrange | +16 |
SaturationAdjustmentPurple | 0 |
SaturationAdjustmentRed | 0 |
SaturationAdjustmentYellow | +44 |
ScaleFactor35efl | 1.0 |
SceneCaptureType | Standard |
SceneType | Directly photographed |
SensingMethod | One-chip color area |
SerialNumber | 2007197 |
Shadows | 6 |
ShadowTint | 0 |
SharpenDetail | 25 |
SharpenEdgeMasking | 36 |
SharpenRadius | +1.0 |
Sharpness (1) | 94 |
Sharpness | Hard |
ShutterSpeed | 1/250 |
ShutterSpeedValue | 1/250 |
Software | Adobe Photoshop CS5 Windows |
SplitToningBalance | 0 |
SplitToningHighlightHue | 0 |
SplitToningHighlightSaturation | 0 |
SplitToningShadowHue | 0 |
SplitToningShadowSaturation | 0 |
Subject | Landskap |
SubjectDistance | 4294967295 m |
SubjectDistanceRange | Unknown |
Tint | +18 |
ToneCurve | 0, 0, 32, 22, 64, 56, 128, 128, 192, 196, 255, 255 |
ToneCurveName | Medium Contrast |
URL_List | |
Version | 6.6 |
Vibrance | +18 |
VignetteAmount | 0 |
WhiteBalance (1) | Custom |
WhiteBalance | Auto |