Felt | Verdi |
AlreadyApplied | True |
Aperture | 13.0 |
ApertureValue | 13.0 |
ApproximateFocusDistance | 4294967295 |
Artist | snorre nicolaisen |
BitsPerSample | 8 |
BlueHue | 0 |
BlueSaturation | 0 |
Brightness | 0 |
By-line | snorre nicolaisen |
CameraProfile | Embedded |
CFAPattern | [Red,Green][Green,Blue] |
ChromaticAberrationB | 0 |
ChromaticAberrationR | 0 |
CircleOfConfusion | 0.020 mm |
Clarity | 0 |
ColorComponents | 3 |
ColorNoiseReduction | 0 |
Contrast (1) | 0 |
Contrast | Normal |
ConvertToGrayscale | False |
Copyright | snorre nicolaisen |
CopyrightFlag | True |
CopyrightNotice | snorre nicolaisen |
CreateDate (1) | 2012:10:20 20:56:21.20 |
CreateDate | 2012:10:20 20:56:21 |
Creator | snorre nicolaisen |
CreatorTool | Adobe Photoshop Lightroom 3.6 (Windows) |
CustomRendered | Custom |
DateCreated (1) | 2012:10:20 |
DateCreated | 2012:10:20 20:56:21.20 |
DateTimeOriginal | 2012:10:20 20:56:21 |
Defringe | 0 |
DigitalZoomRatio | 1 |
DOF | inf (3.93 m - inf) |
Exposure | 0.00 |
ExposureCompensation | 0 |
ExposureMode | Manual |
ExposureProgram | Manual |
ExposureTime | 30 |
FillLight | 11 |
Flash | No Flash |
FNumber | 13.0 |
FocalLength | 32.0 mm |
FocalLength35efl | 32.0 mm (35 mm equivalent: 48.0 mm) |
FocalLengthIn35mmFormat | 48 mm |
Format | image/jpeg |
FOV | 41.1 deg |
GainControl | None |
GrainAmount | 0 |
GreenHue | 0 |
GreenSaturation | 0 |
HasCrop | False |
HasSettings | True |
HighlightRecovery | 0 |
HueAdjustmentAqua | 0 |
HueAdjustmentBlue | 0 |
HueAdjustmentGreen | 0 |
HueAdjustmentMagenta | 0 |
HueAdjustmentOrange | 0 |
HueAdjustmentPurple | 0 |
HueAdjustmentRed | 0 |
HueAdjustmentYellow | 0 |
HyperfocalDistance | 3.93 m |
ImageHeight | 1932 |
ImageNumber | 26936 |
ImageSize | 2711x1932 |
ImageWidth | 2711 |
IncrementalTemperature | 0 |
IncrementalTint | 0 |
ISO | 100 |
Lens | 17.0-70.0 mm f/2.8-4.0 |
LensID (1) | 160 |
LensID | Sigma 17-70mm F2.8-4 DC Macro OS HSM |
LensInfo | 17-70mm f/2.8-4 |
LensManualDistortionAmount | 0 |
LensModel | 17.0-70.0 mm f/2.8-4.0 |
LensProfileEnable | 0 |
LensProfileSetup | LensDefaults |
LightSource | Tungsten (Incandescent) |
LightValue | 2.5 |
LuminanceAdjustmentAqua | 0 |
LuminanceAdjustmentBlue | 0 |
LuminanceAdjustmentGreen | 0 |
LuminanceAdjustmentMagenta | 0 |
LuminanceAdjustmentOrange | 0 |
LuminanceAdjustmentPurple | 0 |
LuminanceAdjustmentRed | 0 |
LuminanceAdjustmentYellow | 0 |
LuminanceNoiseReductionContrast | 13 |
LuminanceNoiseReductionDetail | 50 |
LuminanceSmoothing | 29 |
Make | NIKON CORPORATION |
Marked | True |
MaxApertureValue | 3.4 |
Megapixels | 5.2 |
MeteringMode | Multi-segment |
Model | NIKON D5100 |
ModifyDate (1) | 2012:10:24 01:31:03+02:00 |
ModifyDate | 2012:10:24 01:31:03 |
ParametricDarks | 0 |
ParametricHighlights | 0 |
ParametricHighlightSplit | 75 |
ParametricLights | 0 |
ParametricMidtoneSplit | 50 |
ParametricShadows | 0 |
ParametricShadowSplit | 25 |
PerspectiveHorizontal | 0 |
PerspectiveRotate | 0.0 |
PerspectiveScale | 100 |
PerspectiveVertical | 0 |
PostCropVignetteAmount | 0 |
ProcessVersion | 5.7 |
ProfileDescription | sRGB IEC61966-2.1 |
RedHue | 0 |
RedSaturation | 0 |
Rights | snorre nicolaisen |
Saturation (1) | 0 |
Saturation | Normal |
SaturationAdjustmentAqua | 0 |
SaturationAdjustmentBlue | 0 |
SaturationAdjustmentGreen | 0 |
SaturationAdjustmentMagenta | 0 |
SaturationAdjustmentOrange | 0 |
SaturationAdjustmentPurple | 0 |
SaturationAdjustmentRed | 0 |
SaturationAdjustmentYellow | 0 |
ScaleFactor35efl | 1.5 |
SceneCaptureType | Landscape |
SceneType | Directly photographed |
SensingMethod | One-chip color area |
SensitivityType | Recommended Exposure Index |
SerialNumber | 6098935 |
Shadows | 9 |
ShadowTint | 0 |
SharpenDetail | 25 |
SharpenEdgeMasking | 0 |
SharpenRadius | +1.0 |
Sharpness (1) | 12 |
Sharpness | Hard |
ShutterSpeed | 30 |
ShutterSpeedValue | 30 |
Software | Adobe Photoshop Lightroom 3.6 (Windows) |
SplitToningBalance | 0 |
SplitToningHighlightHue | 0 |
SplitToningHighlightSaturation | 0 |
SplitToningShadowHue | 0 |
SplitToningShadowSaturation | 0 |
SubjectDistance | 4294967295 m |
SubjectDistanceRange | Unknown |
ToneCurve | 0, 0, 255, 255 |
ToneCurveName | Linear |
Version | 6.6 |
Vibrance | 0 |
VignetteAmount | 0 |
WhiteBalance (1) | As Shot |
WhiteBalance | Manual |