Felt | Verdi |
AlreadyApplied | True |
Aperture | 14.0 |
ApertureValue | 14.0 |
ApproximateFocusDistance | 0.38 |
AutoLateralCA | 0 |
BitsPerSample | 8 |
Blacks2012 | +100 |
BlueHue | -48 |
BlueSaturation | +55 |
CameraProfile | Adobe Standard |
CFAPattern | [Red,Green][Green,Blue] |
CircleOfConfusion | 0.030 mm |
Clarity2012 | +24 |
ColorComponents | 3 |
ColorNoiseReduction | 5 |
ColorNoiseReductionDetail | 50 |
ColorTemperature | 2000 |
Contrast | Normal |
Contrast2012 | -61 |
ConvertToGrayscale | False |
CreateDate (1) | 2012:07:19 13:08:55.49 |
CreateDate | 2012:07:19 13:08:55 |
CreatorTool | Adobe Photoshop Lightroom 4.2 (Windows) |
CropAngle | 0 |
CropBottom | 1 |
CropConstrainToWarp | 0 |
CropHeight | 1200 |
CropLeft | 0.155132 |
CropRight | 0.820546 |
CropTop | 0 |
CropUnit | pixels |
CropWidth | 1200 |
CustomRendered | Normal |
DateCreated (1) | 2012:07:19 |
DateCreated | 2012:07:19 13:08:55.49 |
DateTimeOriginal | 2012:07:19 13:08:55 |
DefringeGreenAmount | 0 |
DefringeGreenHueHi | 60 |
DefringeGreenHueLo | 40 |
DefringePurpleAmount | 0 |
DefringePurpleHueHi | 70 |
DefringePurpleHueLo | 30 |
DigitalZoomRatio | 1 |
DOF | 0.011 m (0.374 - 0.386 m) |
Exposure2012 | -0.15 |
ExposureCompensation | 0 |
ExposureMode | Manual |
ExposureProgram | Manual |
ExposureTime | 1/320 |
Flash | No Flash |
FNumber | 14.0 |
FocalLength | 90.0 mm |
FocalLength35efl | 90.0 mm (35 mm equivalent: 90.0 mm) |
FocalLengthIn35mmFormat | 90 mm |
Format | image/jpeg |
FOV | 22.6 deg |
GainControl | High gain up |
GrainAmount | 0 |
GreenHue | -100 |
GreenSaturation | -64 |
HasCrop | True |
HasSettings | True |
Highlights2012 | +3 |
HueAdjustmentAqua | 0 |
HueAdjustmentBlue | 0 |
HueAdjustmentGreen | 0 |
HueAdjustmentMagenta | 0 |
HueAdjustmentOrange | 0 |
HueAdjustmentPurple | 0 |
HueAdjustmentRed | 0 |
HueAdjustmentYellow | 0 |
HyperfocalDistance | 19.26 m |
ImageHeight | 1200 |
ImageNumber | 4984 |
ImageSize | 1200x1200 |
ImageWidth | 1200 |
ISO | 1000 |
Keywords | Blomster, Macro |
Lens | 90.0 mm f/2.8 |
LensID (1) | 248 |
LensID | Tamron SP AF 90mm f/2.8 Di Macro 1:1 (272NII) |
LensInfo | 90mm f/2.8 |
LensManualDistortionAmount | 0 |
LensModel | 90.0 mm f/2.8 |
LensProfileEnable | 0 |
LensProfileSetup | LensDefaults |
LightSource | Unknown |
LightValue | 12.6 |
LuminanceAdjustmentAqua | 0 |
LuminanceAdjustmentBlue | -7 |
LuminanceAdjustmentGreen | +26 |
LuminanceAdjustmentMagenta | 0 |
LuminanceAdjustmentOrange | +64 |
LuminanceAdjustmentPurple | 0 |
LuminanceAdjustmentRed | +57 |
LuminanceAdjustmentYellow | +60 |
LuminanceNoiseReductionContrast | 0 |
LuminanceNoiseReductionDetail | 100 |
LuminanceSmoothing | 21 |
Make | NIKON CORPORATION |
MaxApertureValue | 4.0 |
Megapixels | 1.4 |
MeteringMode | Multi-segment |
Model | NIKON D3S |
ModifyDate (1) | 2012:11:16 22:27:29+01:00 |
ModifyDate | 2012:11:16 22:27:29 |
PaintCorrectionActive | true |
PaintCorrectionAmount | 1.000000 |
PaintCorrectionBrightness | 0.000000 |
PaintCorrectionClarity2012 (2) | 0.000000 |
PaintCorrectionClarity2012 (3) | 1.000000 |
PaintCorrectionClarity2012 (4) | 0.693690 |
PaintCorrectionClarity2012 (9) | 0.675680 |
PaintCorrectionClarity2012 | 0.621620 |
PaintCorrectionContrast2012 (1) | 0.585590 |
PaintCorrectionContrast2012 (2) | -0.441440 |
PaintCorrectionContrast2012 (3) | 0.117120 |
PaintCorrectionContrast2012 (4) | -0.729730 |
PaintCorrectionContrast2012 (5) | 0.891890 |
PaintCorrectionContrast2012 (6) | 0.000000 |
PaintCorrectionContrast2012 (9) | 0.153150 |
PaintCorrectionContrast2012 | 0.207210 |
PaintCorrectionDefringe | 0.000000 |
PaintCorrectionExposure2012 (1) | 0.000000 |
PaintCorrectionExposure2012 (2) | 0.117000 |
PaintCorrectionExposure2012 (4) | 0.135250 |
PaintCorrectionExposure2012 (5) | -0.153250 |
PaintCorrectionExposure2012 (6) | 0.189250 |
PaintCorrectionExposure2012 (8) | 0.045000 |
PaintCorrectionExposure2012 | -0.135250 |
PaintCorrectionHighlights2012 (2) | 0.027030 |
PaintCorrectionHighlights2012 (4) | 0.009010 |
PaintCorrectionHighlights2012 | 0.000000 |
PaintCorrectionHue | 53.000000 |
PaintCorrectionLuminanceNoise | 0.000000 |
PaintCorrectionMaskCenterWeight (7) | 0.062004 |
PaintCorrectionMaskCenterWeight | 0.051304 |
PaintCorrectionMaskFlow | 0.874000 |
PaintCorrectionMaskRadius (18) | 0.029793 |
PaintCorrectionMaskRadius (23) | 0.105027 |
PaintCorrectionMaskRadius (27) | 0.158188 |
PaintCorrectionMaskRadius (29) | 0.136872 |
PaintCorrectionMaskRadius (30) | 0.060189 |
PaintCorrectionMaskRadius (31) | 0.172877 |
PaintCorrectionMaskRadius (32) | 0.192237 |
PaintCorrectionMaskRadius (6) | 0.045328 |
PaintCorrectionMaskRadius (8) | 0.072601 |
PaintCorrectionMaskRadius (9) | 0.102091 |
PaintCorrectionMaskRadius | 0.114815 |
PaintCorrectionMaskValue | 1.000000 |
PaintCorrectionMaskWhat | Mask/Paint |
PaintCorrectionMoire | 0.000000 |
PaintCorrectionSaturation (19) | 0.153150 |
PaintCorrectionSaturation | 0.000000 |
PaintCorrectionShadows2012 (3) | 0.000000 |
PaintCorrectionShadows2012 (4) | 0.819820 |
PaintCorrectionShadows2012 (5) | -0.513510 |
PaintCorrectionShadows2012 (6) | -0.963960 |
PaintCorrectionShadows2012 (7) | 1.000000 |
PaintCorrectionShadows2012 | 0.243240 |
PaintCorrectionSharpness (3) | 0.000000 |
PaintCorrectionSharpness (5) | 0.369370 |
PaintCorrectionSharpness (9) | 0.171170 |
PaintCorrectionSharpness | 0.315320 |
PaintCorrectionTemperature | 0.000000 |
PaintCorrectionTint | 0.000000 |
PaintCorrectionWhat | Correction |
ParametricDarks | +24 |
ParametricHighlights | 0 |
ParametricHighlightSplit | 75 |
ParametricLights | +29 |
ParametricMidtoneSplit | 50 |
ParametricShadows | -12 |
ParametricShadowSplit | 25 |
PerspectiveHorizontal | 0 |
PerspectiveRotate | 0.0 |
PerspectiveScale | 100 |
PerspectiveVertical | 0 |
PostCropVignetteAmount | +17 |
PostCropVignetteFeather | 50 |
PostCropVignetteMidpoint | 50 |
PostCropVignetteRoundness | 0 |
PostCropVignetteStyle | 1 |
ProcessVersion | 6.7 |
ProfileDescription | sRGB IEC61966-2.1 |
RedHue | +83 |
RedSaturation | -100 |
Saturation (1) | -93 |
Saturation | Normal |
SaturationAdjustmentAqua | -12 |
SaturationAdjustmentBlue | -38 |
SaturationAdjustmentGreen | +36 |
SaturationAdjustmentMagenta | 0 |
SaturationAdjustmentOrange | 0 |
SaturationAdjustmentPurple | 0 |
SaturationAdjustmentRed | 0 |
SaturationAdjustmentYellow | +20 |
ScaleFactor35efl | 1.0 |
SceneCaptureType | Standard |
SceneType | Directly photographed |
SensingMethod | One-chip color area |
SerialNumber | 2007197 |
Shadows2012 | +73 |
ShadowTint | -26 |
SharpenDetail | 25 |
SharpenEdgeMasking | 33 |
SharpenRadius | +1.0 |
Sharpness (1) | 98 |
Sharpness | Hard |
ShutterSpeed | 1/320 |
ShutterSpeedValue | 1/320 |
Software | Adobe Photoshop Lightroom 4.2 (Windows) |
SplitToningBalance | -45 |
SplitToningHighlightHue | 231 |
SplitToningHighlightSaturation | 40 |
SplitToningShadowHue | 236 |
SplitToningShadowSaturation | 20 |
Subject | Blomster, Macro |
SubjectDistance | 0.38 m |
SubjectDistanceRange | Unknown |
Tint | -68 |
ToneCurveName2012 | Custom |
ToneCurvePV2012 | 0, 0, 17, 26, 34, 44, 51, 60, 68, 74, 85, 89, 102, 105, 119, 120, 136, 135, 153, 151, 170, 167, 187, 183, 204, 200, 221, 218, 238, 236, 255, 255 |
ToneCurvePV2012Blue | 0, 0, 255, 255 |
ToneCurvePV2012Green | 0, 0, 255, 255 |
ToneCurvePV2012Red | 0, 0, 255, 255 |
Version | 7.2 |
Vibrance | +83 |
VignetteAmount | -40 |
VignetteMidpoint | 0 |
WhiteBalance (1) | Custom |
WhiteBalance | Auto |
Whites2012 | -69 |