Felt | Verdi |
AlreadyApplied | True |
Aperture | 4.8 |
ApertureValue | 4.8 |
AutoLateralCA | 0 |
BitsPerSample | 8 |
Blacks2012 | -49 |
BlueHue | -44 |
BlueSaturation | +33 |
CameraProfile | Embedded |
CircleOfConfusion | 0.004 mm |
Clarity2012 | 0 |
ColorComponents | 3 |
ColorNoiseReduction | 0 |
Contrast2012 | -42 |
ConvertToGrayscale | False |
CreateDate | 2012:11:06 14:38:04 |
CreatorTool | Adobe Photoshop Lightroom 4.2 (Macintosh) |
DateCreated (1) | 2012:11:06 |
DateCreated | 2012:11:06 14:38:04 |
DateTimeOriginal | 2012:11:06 14:38:04 |
DefringeGreenAmount | 0 |
DefringeGreenHueHi | 60 |
DefringeGreenHueLo | 40 |
DefringePurpleAmount | 0 |
DefringePurpleHueHi | 70 |
DefringePurpleHueLo | 30 |
DigitalZoomRatio | 0 |
Exposure2012 | -0.30 |
ExposureCompensation | 0 |
ExposureProgram | Manual |
ExposureTime | 1/15 |
Flash | On, Did not fire |
FNumber | 4.8 |
Format | image/jpeg |
GrainAmount | 0 |
GreenHue | +46 |
GreenSaturation | 0 |
HasCrop | False |
HasSettings | True |
Highlights2012 | -96 |
HueAdjustmentAqua | 0 |
HueAdjustmentBlue | 0 |
HueAdjustmentGreen | 0 |
HueAdjustmentMagenta | 0 |
HueAdjustmentOrange | 0 |
HueAdjustmentPurple | 0 |
HueAdjustmentRed | 0 |
HueAdjustmentYellow | 0 |
ImageHeight | 559 |
ImageSize | 600x559 |
ImageWidth | 600 |
IncrementalTemperature | +24 |
IncrementalTint | +12 |
ISO | 160 |
LensManualDistortionAmount | 0 |
LensProfileEnable | 0 |
LensProfileSetup | LensDefaults |
LightSource | Unknown |
LightValue | 7.8 |
LuminanceAdjustmentAqua | 0 |
LuminanceAdjustmentBlue | 0 |
LuminanceAdjustmentGreen | 0 |
LuminanceAdjustmentMagenta | 0 |
LuminanceAdjustmentOrange | 0 |
LuminanceAdjustmentPurple | 0 |
LuminanceAdjustmentRed | 0 |
LuminanceAdjustmentYellow | 0 |
LuminanceSmoothing | 0 |
Make | Leica Camera AG |
MaxApertureValue | 1.0 |
Megapixels | 0.335 |
MeteringMode | Center-weighted average |
Model | M8 Digital Camera |
ModifyDate (1) | 2012:11:18 16:02:47+01:00 |
ModifyDate | 2012:11:18 16:02:47 |
PaintCorrectionActive | true |
PaintCorrectionAmount | 1.000000 |
PaintCorrectionBrightness | 0.000000 |
PaintCorrectionClarity2012 (1) | 1.000000 |
PaintCorrectionClarity2012 | 0.041169 |
PaintCorrectionContrast2012 | -0.111745 |
PaintCorrectionDefringe | 0.000000 |
PaintCorrectionExposure2012 (1) | -0.141503 |
PaintCorrectionExposure2012 | -0.115871 |
PaintCorrectionHighlights2012 | -0.339624 |
PaintCorrectionHue | 0.000000 |
PaintCorrectionLuminanceNoise | 0.000000 |
PaintCorrectionMaskCenterWeight | 0.000000 |
PaintCorrectionMaskFlow | 1.000000 |
PaintCorrectionMaskRadius (1) | 0.017740 |
PaintCorrectionMaskRadius | 0.188032 |
PaintCorrectionMaskValue | 0.724845 |
PaintCorrectionMaskWhat | Mask/Paint |
PaintCorrectionMoire | 0.000000 |
PaintCorrectionSaturation (1) | 0.207690 |
PaintCorrectionSaturation (3) | -0.045032 |
PaintCorrectionSaturation | 0.000000 |
PaintCorrectionShadows2012 | -0.043890 |
PaintCorrectionSharpness | 0.000000 |
PaintCorrectionTemperature | -0.039765 |
PaintCorrectionTint | 0.000000 |
PaintCorrectionWhat | Correction |
ParametricDarks | +52 |
ParametricHighlights | 0 |
ParametricHighlightSplit | 90 |
ParametricLights | 0 |
ParametricMidtoneSplit | 59 |
ParametricShadows | 0 |
ParametricShadowSplit | 10 |
PerspectiveHorizontal | 0 |
PerspectiveRotate | 0.0 |
PerspectiveScale | 100 |
PerspectiveVertical | 0 |
PostCropVignetteAmount | 0 |
ProcessVersion | 6.7 |
ProfileDescription | sRGB IEC61966-2.1 |
RedHue | +49 |
RedSaturation | 0 |
Saturation | +5 |
SaturationAdjustmentAqua | -14 |
SaturationAdjustmentBlue | -14 |
SaturationAdjustmentGreen | -14 |
SaturationAdjustmentMagenta | -14 |
SaturationAdjustmentOrange | -12 |
SaturationAdjustmentPurple | -14 |
SaturationAdjustmentRed | -12 |
SaturationAdjustmentYellow | -13 |
ScaleFactor35efl | 7.8 |
SceneCaptureType | Standard |
SceneType | Directly photographed |
SerialNumber | 3330560 |
Shadows2012 | -42 |
ShadowTint | 0 |
SharpenDetail | 25 |
SharpenEdgeMasking | 0 |
SharpenRadius | +1.0 |
Sharpness | 0 |
ShutterSpeed | 1/15 |
ShutterSpeedValue | 1/15 |
Software | Adobe Photoshop Lightroom 4.2 (Macintosh) |
SplitToningBalance | 0 |
SplitToningHighlightHue | 78 |
SplitToningHighlightSaturation | 28 |
SplitToningShadowHue | 236 |
SplitToningShadowSaturation | 31 |
ToneCurveName2012 | Linear |
ToneCurvePV2012 | 0, 0, 255, 255 |
ToneCurvePV2012Blue | 0, 0, 255, 255 |
ToneCurvePV2012Green | 0, 0, 255, 255 |
ToneCurvePV2012Red | 0, 0, 255, 255 |
Version | 7.2 |
Vibrance | +22 |
VignetteAmount | 0 |
WhiteBalance (1) | Custom |
WhiteBalance | Auto |
Whites2012 | 0 |