Felt | Verdi |
AlreadyApplied | True |
Aperture | 8.0 |
ApertureValue | 8.0 |
ApproximateFocusDistance | 0.24 |
AutoLateralCA | 0 |
BitsPerSample | 8 |
Blacks2012 | -17 |
BlueHue | 0 |
BlueSaturation | 0 |
CameraProfile | Adobe Standard |
CFAPattern | [Green,Blue][Red,Green] |
CircleOfConfusion | 0.020 mm |
Clarity2012 | 0 |
ColorComponents | 3 |
ColorNoiseReduction | 25 |
ColorNoiseReductionDetail | 50 |
ColorTemperature | 5350 |
Contrast | Normal |
Contrast2012 | 0 |
ConvertToGrayscale | False |
CreateDate (1) | 2012:11:11 16:22:57.00 |
CreateDate | 2012:11:11 16:22:57 |
CreatorTool | Adobe Photoshop Lightroom 4.1 (Windows) |
CropAngle | 0 |
CropBottom | 1 |
CropConstrainToWarp | 0 |
CropHeight | 443 |
CropLeft | 0 |
CropRight | 0.981771 |
CropTop | 0.345098 |
CropUnit | pixels |
CropWidth | 1000 |
CustomRendered | Normal |
DateCreated (1) | 2012:11:11 |
DateCreated | 2012:11:11 16:22:57.00 |
DateTimeOriginal | 2012:11:11 16:22:57 |
DefringeGreenAmount | 0 |
DefringeGreenHueHi | 60 |
DefringeGreenHueLo | 40 |
DefringePurpleAmount | 0 |
DefringePurpleHueHi | 70 |
DefringePurpleHueLo | 30 |
DigitalZoomRatio | 1 |
DOF | 0.15 m (0.19 - 0.33 m) |
Exposure2012 | +0.60 |
ExposureCompensation | 0 |
ExposureMode | Manual |
ExposureProgram | Manual |
ExposureTime | 1/60 |
Flash | No Flash |
FNumber | 8.0 |
FocalLength | 11.5 mm |
FocalLength35efl | 11.5 mm (35 mm equivalent: 17.0 mm) |
FocalLengthIn35mmFormat | 17 mm |
Format | image/jpeg |
FOV | 93.3 deg |
GainControl | Low gain up |
GrainAmount | 0 |
GreenHue | 0 |
GreenSaturation | 0 |
HasCrop | True |
HasSettings | True |
Highlights2012 | 0 |
HueAdjustmentAqua | 0 |
HueAdjustmentBlue | 0 |
HueAdjustmentGreen | 0 |
HueAdjustmentMagenta | 0 |
HueAdjustmentOrange | 0 |
HueAdjustmentPurple | 0 |
HueAdjustmentRed | 0 |
HueAdjustmentYellow | 0 |
HyperfocalDistance | 0.81 m |
ImageHeight | 443 |
ImageNumber | 8685 |
ImageSize | 1000x443 |
ImageWidth | 1000 |
ISO | 800 |
Lens | 10.0-20.0 mm f/4.0-5.6 |
LensID (1) | 249 |
LensID | Sigma 10-20mm F4-5.6 EX DC HSM |
LensInfo | 10-20mm f/4-5.6 |
LensManualDistortionAmount | 0 |
LensModel | 10.0-20.0 mm f/4.0-5.6 |
LensProfileEnable | 0 |
LensProfileSetup | LensDefaults |
LightSource | Fine Weather |
LightValue | 8.9 |
LuminanceAdjustmentAqua | 0 |
LuminanceAdjustmentBlue | 0 |
LuminanceAdjustmentGreen | 0 |
LuminanceAdjustmentMagenta | 0 |
LuminanceAdjustmentOrange | 0 |
LuminanceAdjustmentPurple | 0 |
LuminanceAdjustmentRed | 0 |
LuminanceAdjustmentYellow | 0 |
LuminanceSmoothing | 0 |
Make | NIKON CORPORATION |
MaxApertureValue | 4.3 |
Megapixels | 0.443 |
MeteringMode | Spot |
Model | NIKON D90 |
ModifyDate (1) | 2012:11:19 18:29:16+01:00 |
ModifyDate | 2012:11:19 18:29:16 |
ParametricDarks | 0 |
ParametricHighlights | +26 |
ParametricHighlightSplit | 75 |
ParametricLights | +15 |
ParametricMidtoneSplit | 50 |
ParametricShadows | 0 |
ParametricShadowSplit | 25 |
PerspectiveHorizontal | 0 |
PerspectiveRotate | 0.0 |
PerspectiveScale | 100 |
PerspectiveVertical | 0 |
PostCropVignetteAmount | 0 |
ProcessVersion | 6.7 |
ProfileDescription | sRGB IEC61966-2.1 |
RedHue | 0 |
RedSaturation | 0 |
Saturation (1) | +31 |
Saturation | Normal |
SaturationAdjustmentAqua | 0 |
SaturationAdjustmentBlue | 0 |
SaturationAdjustmentGreen | 0 |
SaturationAdjustmentMagenta | 0 |
SaturationAdjustmentOrange | 0 |
SaturationAdjustmentPurple | 0 |
SaturationAdjustmentRed | 0 |
SaturationAdjustmentYellow | 0 |
ScaleFactor35efl | 1.5 |
SceneCaptureType | Standard |
SceneType | Directly photographed |
SensingMethod | One-chip color area |
SerialNumber | 6073699 |
Shadows2012 | 0 |
ShadowTint | 0 |
SharpenDetail | 20 |
SharpenEdgeMasking | 0 |
SharpenRadius | +2.0 |
Sharpness (1) | 29 |
Sharpness | Normal |
ShutterSpeed | 1/60 |
ShutterSpeedValue | 1/60 |
Software | Adobe Photoshop Lightroom 4.1 (Windows) |
SplitToningBalance | 0 |
SplitToningHighlightHue | 0 |
SplitToningHighlightSaturation | 0 |
SplitToningShadowHue | 0 |
SplitToningShadowSaturation | 0 |
SubjectDistanceRange | Unknown |
Tint | +19 |
ToneCurveName2012 | Linear |
ToneCurvePV2012 | 0, 0, 255, 255 |
ToneCurvePV2012Blue | 0, 0, 255, 255 |
ToneCurvePV2012Green | 0, 0, 255, 255 |
ToneCurvePV2012Red | 0, 0, 255, 255 |
Version | 7.1 |
Vibrance | +17 |
VignetteAmount | 0 |
WhiteBalance (1) | As Shot |
WhiteBalance | Manual |
Whites2012 | +26 |