Felt | Verdi |
AlreadyApplied | True |
Aperture | 1.4 |
ApertureValue | 1.4 |
Artist | Kristofer Haugen Hjelmeseth |
AutoLateralCA | 0 |
BitsPerSample | 8 |
Blacks2012 | 0 |
BlueHue | -100 |
BlueSaturation | -100 |
Brightness | +50 |
By-line | Kristofer Haugen Hjelmeseth |
CameraProfile | Adobe Standard |
CircleOfConfusion | 0.019 mm |
Clarity | 0 |
Clarity2012 | +100 |
ColorComponents | 3 |
ColorNoiseReduction | 25 |
ColorNoiseReductionDetail | 50 |
ColorTemperature | 3857 |
Contrast | +25 |
Contrast2012 | -35 |
ConvertToGrayscale | True |
CreateDate (1) | 2012:10:07 12:06:14.00 |
CreateDate | 2012:10:07 12:06:14 |
Creator | Kristofer Haugen Hjelmeseth |
CreatorTool | Adobe Photoshop Lightroom 4.0 (Macintosh) |
CustomRendered | Normal |
DateCreated (1) | 2012:10:07 |
DateCreated | 2012:10:07 12:06:14.00 |
DateTimeOriginal | 2012:10:07 12:06:14 |
Defringe | 0 |
Exposure | 0.00 |
Exposure2012 | +0.40 |
ExposureCompensation | 0 |
ExposureMode | Manual |
ExposureProgram | Manual |
ExposureTime | 1/125 |
FillLight | 0 |
Firmware | 2.0.0 |
Flash | Off, Did not fire |
FlashCompensation | 0 |
FNumber | 1.4 |
FocalLength | 50.0 mm |
FocalLength35efl | 50.0 mm (35 mm equivalent: 78.5 mm) |
Format | image/jpeg |
FOV | 25.8 deg |
GrainAmount | 0 |
GrayMixerAqua | -19 |
GrayMixerBlue | +44 |
GrayMixerGreen | -26 |
GrayMixerMagenta | +5 |
GrayMixerOrange | -17 |
GrayMixerPurple | +15 |
GrayMixerRed | -17 |
GrayMixerYellow | -19 |
GreenHue | +53 |
GreenSaturation | 0 |
HasCrop | False |
HasSettings | True |
HighlightRecovery | 0 |
Highlights2012 | -63 |
HyperfocalDistance | 93.33 m |
ImageHeight | 5184 |
ImageNumber | 0 |
ImageSize | 3456x5184 |
ImageWidth | 3456 |
ISO | 100 |
Lens | EF50mm f/1.4 USM |
LensID (1) | 198 |
LensID | Canon EF 50mm f/1.4 USM |
LensInfo | 50mm f/? |
LensManualDistortionAmount | 0 |
LensModel | EF50mm f/1.4 USM |
LensProfileEnable | 0 |
LensProfileSetup | LensDefaults |
LightValue | 7.9 |
LuminanceSmoothing | 0 |
Make | Canon |
MaxApertureValue | 1.4 |
Megapixels | 17.9 |
MeteringMode | Multi-segment |
Model | Canon EOS 7D |
ModifyDate (1) | 2012:11:06 20:40:06+01:00 |
ModifyDate | 2012:11:06 20:40:06 |
ParametricDarks | +37 |
ParametricHighlights | +35 |
ParametricHighlightSplit | 75 |
ParametricLights | -2 |
ParametricMidtoneSplit | 50 |
ParametricShadows | +19 |
ParametricShadowSplit | 25 |
PerspectiveHorizontal | 0 |
PerspectiveRotate | 0.0 |
PerspectiveScale | 100 |
PerspectiveVertical | 0 |
PostCropVignetteAmount | -20 |
PostCropVignetteFeather | 50 |
PostCropVignetteHighlightContrast | 0 |
PostCropVignetteMidpoint | 50 |
PostCropVignetteRoundness | -99 |
PostCropVignetteStyle | 1 |
ProcessVersion | 6.7 |
ProfileDescription | sRGB IEC61966-2.1 |
RecommendedExposureIndex | 100 |
RedHue | 0 |
RedSaturation | -15 |
ScaleFactor35efl | 1.6 |
SceneCaptureType | Standard |
SensitivityType | Recommended Exposure Index |
SerialNumber | 0280101578 |
Shadows | 5 |
Shadows2012 | 0 |
ShadowTint | +75 |
SharpenDetail | 25 |
SharpenEdgeMasking | 34 |
SharpenRadius | +2.6 |
Sharpness | 150 |
ShutterSpeed | 1/125 |
ShutterSpeedValue | 1/125 |
Software | Adobe Photoshop Lightroom 4.0 (Macintosh) |
SplitToningBalance | -100 |
SplitToningHighlightHue | 204 |
SplitToningHighlightSaturation | 0 |
SplitToningShadowHue | 217 |
SplitToningShadowSaturation | 13 |
Tint | +5 |
ToneCurve | 0, 0, 255, 255 |
ToneCurveBlue | 0, 0, 255, 255 |
ToneCurveGreen | 0, 0, 255, 255 |
ToneCurveName | Linear |
ToneCurveName2012 | Linear |
ToneCurvePV2012 | 0, 0, 255, 255 |
ToneCurvePV2012Blue | 0, 0, 255, 255 |
ToneCurvePV2012Green | 0, 0, 255, 255 |
ToneCurvePV2012Red | 0, 0, 255, 255 |
ToneCurveRed | 0, 0, 255, 255 |
Version | 7.0 |
VignetteAmount | -12 |
VignetteMidpoint | 4 |
WhiteBalance (1) | Custom |
WhiteBalance | Auto |
Whites2012 | 0 |