Felt | Verdi |
AlreadyApplied | True |
ApproximateFocusDistance | 4.73 |
Artist | AHT FOTO ARVE HERMAN TANGEN |
AutoLateralCA | 0 |
BitsPerSample | 8 |
Blacks2012 | 0 |
BlueHue | -23 |
BlueSaturation | +3 |
By-line | AHT FOTO ARVE HERMAN TA |
CameraProfile | Embedded |
CFAPattern | [Red,Green][Green,Blue] |
CircleOfConfusion | 0.004 mm |
Clarity2012 | +35 |
ColorComponents | 3 |
ColorMode | RGB |
ColorNoiseReduction | 25 |
ColorNoiseReductionDetail | 50 |
ColorSpace | Uncalibrated |
Contrast | Normal |
Contrast2012 | 0 |
ConvertToGrayscale | False |
Copyright | AHT FOTO Arve Herman Tangen |
CopyrightNotice | AHT FOTO Arve Herman Tangen |
CreateDate | 2012:12:03 12:41:45 |
Creator | AHT FOTO ARVE HERMAN TANGEN |
CreatorTool | Adobe Photoshop CS6 (Windows) |
CropAngle | 0 |
CropBottom | 1 |
CropConstrainToWarp | 0 |
CropLeft | 0 |
CropRight | 1 |
CropTop | 0 |
CustomRendered | Normal |
DateCreated (1) | 2012:12:03 |
DateCreated | 2012:12:03 12:41:45.005 |
DateTimeOriginal | 2012:12:03 12:41:45 |
DefringeGreenAmount | 0 |
DefringeGreenHueHi | 60 |
DefringeGreenHueLo | 40 |
DefringePurpleAmount | 0 |
DefringePurpleHueHi | 70 |
DefringePurpleHueLo | 30 |
DigitalZoomRatio | 1.53 |
ExifImageHeight | 683 |
ExifImageWidth | 1024 |
Exposure2012 | 0.00 |
ExposureCompensation | +1 |
ExposureMode | Manual |
ExposureProgram | Manual |
Flash | Off, Did not fire |
Format | image/jpeg |
GainControl | None |
GrainAmount | 0 |
GreenHue | +100 |
GreenSaturation | +100 |
HasCrop | True |
HasSettings | True |
Highlights2012 | -84 |
HueAdjustmentAqua | 0 |
HueAdjustmentBlue | 0 |
HueAdjustmentGreen | 0 |
HueAdjustmentMagenta | 0 |
HueAdjustmentOrange | 0 |
HueAdjustmentPurple | 0 |
HueAdjustmentRed | 0 |
HueAdjustmentYellow | 0 |
ICCProfileName | ProPhoto RGB |
ImageHeight | 683 |
ImageNumber | 928 |
ImageSize | 1024x683 |
ImageWidth | 1024 |
IncrementalTemperature | -29 |
IncrementalTint | -49 |
ISO | 50 |
Label | |
Lens | 18.0-200.0 mm f/3.5-5.6 |
LensID (1) | 139 |
LensID | AF-S DX VR Zoom-Nikkor 18-200mm f/3.5-5.6G IF-ED or AF-S DX VR Zoom-Nikkor 18-200mm f/3.5-5.6G IF-ED [II] |
LensInfo | 18-200mm f/3.5-5.6 |
LensManualDistortionAmount | 0 |
LensModel | 18.0-200.0 mm f/3.5-5.6 |
LensProfileEnable | 0 |
LensProfileSetup | LensDefaults |
LightSource | Unknown |
LuminanceAdjustmentAqua | 0 |
LuminanceAdjustmentBlue | 0 |
LuminanceAdjustmentGreen | 0 |
LuminanceAdjustmentMagenta | 0 |
LuminanceAdjustmentOrange | 0 |
LuminanceAdjustmentPurple | 0 |
LuminanceAdjustmentRed | 0 |
LuminanceAdjustmentYellow | 0 |
LuminanceSmoothing | 0 |
Make | NIKON CORPORATION |
MaxApertureValue | 4.6 |
Megapixels | 0.699 |
MeteringMode | Multi-segment |
Model | NIKON D800 |
ModifyDate (1) | 2012:12:03 20:01:59+01:00 |
ModifyDate | 2012:12:03 20:01:59 |
Orientation | Horizontal (normal) |
ParametricDarks | +40 |
ParametricHighlights | +46 |
ParametricHighlightSplit | 75 |
ParametricLights | +48 |
ParametricMidtoneSplit | 50 |
ParametricShadows | +10 |
ParametricShadowSplit | 25 |
PerspectiveHorizontal | 0 |
PerspectiveRotate | 0.0 |
PerspectiveScale | 100 |
PerspectiveVertical | 0 |
PostCropVignetteAmount | 0 |
ProcessVersion | 6.7 |
ProfileDescription | ProPhoto RGB |
Rating | 0 |
RawFileName | AHT_0851HDR.psd |
RedHue | +97 |
RedSaturation | -100 |
Rights | AHT FOTO Arve Herman Tangen |
Saturation (1) | -75 |
Saturation | Normal |
SaturationAdjustmentAqua | 0 |
SaturationAdjustmentBlue | -7 |
SaturationAdjustmentGreen | 0 |
SaturationAdjustmentMagenta | 0 |
SaturationAdjustmentOrange | 0 |
SaturationAdjustmentPurple | +22 |
SaturationAdjustmentRed | 0 |
SaturationAdjustmentYellow | 0 |
ScaleFactor35efl | 7.2 |
SceneCaptureType | Landscape |
SceneType | Directly photographed |
SensingMethod | One-chip color area |
SensitivityType | Recommended Exposure Index |
SerialNumber | 6065929 |
Shadows2012 | -61 |
ShadowTint | -4 |
SharpenDetail | 25 |
SharpenEdgeMasking | 0 |
SharpenRadius | +1.0 |
Sharpness (1) | 25 |
Sharpness | Normal |
Software | Adobe Photoshop CS6 (Windows) |
SplitToningBalance | 0 |
SplitToningHighlightHue | 0 |
SplitToningHighlightSaturation | 0 |
SplitToningShadowHue | 0 |
SplitToningShadowSaturation | 0 |
SubjectDistanceRange | Unknown |
ToneCurveName2012 | Linear |
ToneCurvePV2012 | 0, 0, 255, 255 |
ToneCurvePV2012Blue | 0, 0, 255, 255 |
ToneCurvePV2012Green | 0, 0, 255, 255 |
ToneCurvePV2012Red | 0, 0, 255, 255 |
URL_List | |
Version | 7.2 |
Vibrance | +38 |
VignetteAmount | 0 |
WhiteBalance (1) | Custom |
WhiteBalance | Auto |
Whites2012 | -87 |