Felt | Verdi |
AlreadyApplied | True |
Aperture | 4.0 |
ApertureValue | 4.0 |
ApproximateFocusDistance | 2.37 |
Artist | GMS |
AutoLateralCA | 0 |
BitsPerSample | 8 |
Blacks2012 | 0 |
BlueHue | -100 |
BlueSaturation | +100 |
By-line | GMS |
CameraProfile | Adobe Standard |
CFAPattern | [Red,Green][Green,Blue] |
CircleOfConfusion | 0.030 mm |
Clarity2012 | +38 |
ColorComponents | 3 |
ColorNoiseReduction | 25 |
ColorNoiseReductionDetail | 50 |
ColorTemperature | 4800 |
Contrast | Normal |
Contrast2012 | 0 |
ConvertToGrayscale | False |
CreateDate (1) | 2012:12:08 18:12:53.73 |
CreateDate | 2012:12:08 18:12:53 |
Creator | GMS |
CreatorTool | Adobe Photoshop Lightroom 4.2 (Windows) |
CustomRendered | Normal |
DateCreated (1) | 2012:12:08 |
DateCreated | 2012:12:08 18:12:53.73 |
DateTimeOriginal | 2012:12:08 18:12:53 |
DefringeGreenAmount | 0 |
DefringeGreenHueHi | 60 |
DefringeGreenHueLo | 40 |
DefringePurpleAmount | 0 |
DefringePurpleHueHi | 70 |
DefringePurpleHueLo | 30 |
DigitalZoomRatio | 1 |
DOF | 0.010 m (2.365 - 2.375 m) |
Exposure2012 | +0.44 |
ExposureCompensation | +1/3 |
ExposureMode | Auto |
ExposureProgram | Aperture-priority AE |
ExposureTime | 1/800 |
Flash | No Flash |
FNumber | 4.0 |
FocalLength | 340.0 mm |
FocalLength35efl | 340.0 mm (35 mm equivalent: 340.0 mm) |
FocalLengthIn35mmFormat | 340 mm |
Format | image/jpeg |
FOV | 6.1 deg |
GainControl | Low gain up |
GrainAmount | 0 |
GreenHue | -2 |
GreenSaturation | -48 |
HasCrop | False |
HasSettings | True |
Highlights2012 | +63 |
HueAdjustmentAqua | 0 |
HueAdjustmentBlue | 0 |
HueAdjustmentGreen | 0 |
HueAdjustmentMagenta | 0 |
HueAdjustmentOrange | +29 |
HueAdjustmentPurple | 0 |
HueAdjustmentRed | +81 |
HueAdjustmentYellow | +5 |
HyperfocalDistance | 961.85 m |
ImageHeight | 1200 |
ImageNumber | 12844 |
ImageSize | 798x1200 |
ImageWidth | 798 |
ISO | 800 |
Keywords | Landskap, natur, snipsøyrvatnet |
Lens | 200.0-400.0 mm f/4.0 |
LensID (1) | 168 |
LensID | AF-S Zoom-Nikkor 200-400mm f/4G IF-ED VR II |
LensInfo | 200-400mm f/4 |
LensManualDistortionAmount | 0 |
LensModel | 200.0-400.0 mm f/4.0 |
LensProfileEnable | 0 |
LensProfileSetup | LensDefaults |
LightSource | Unknown |
LightValue | 10.6 |
LuminanceAdjustmentAqua | +100 |
LuminanceAdjustmentBlue | -100 |
LuminanceAdjustmentGreen | +100 |
LuminanceAdjustmentMagenta | 0 |
LuminanceAdjustmentOrange | +40 |
LuminanceAdjustmentPurple | 0 |
LuminanceAdjustmentRed | -36 |
LuminanceAdjustmentYellow | 0 |
LuminanceNoiseReductionContrast | 0 |
LuminanceNoiseReductionDetail | 50 |
LuminanceSmoothing | 47 |
Make | NIKON CORPORATION |
MaxApertureValue | 4.0 |
Megapixels | 0.958 |
MeteringMode | Center-weighted average |
Model | NIKON D3S |
ModifyDate (1) | 2012:12:09 15:27:15+01:00 |
ModifyDate | 2012:12:09 15:27:15 |
ParametricDarks | 0 |
ParametricHighlights | 0 |
ParametricHighlightSplit | 75 |
ParametricLights | +39 |
ParametricMidtoneSplit | 50 |
ParametricShadows | -21 |
ParametricShadowSplit | 25 |
PerspectiveHorizontal | 0 |
PerspectiveRotate | 0.0 |
PerspectiveScale | 100 |
PerspectiveVertical | 0 |
PostCropVignetteAmount | 0 |
ProcessVersion | 6.7 |
ProfileDescription | sRGB IEC61966-2.1 |
RedHue | +100 |
RedSaturation | -50 |
Saturation (1) | +100 |
Saturation | Normal |
SaturationAdjustmentAqua | -100 |
SaturationAdjustmentBlue | -83 |
SaturationAdjustmentGreen | +45 |
SaturationAdjustmentMagenta | -100 |
SaturationAdjustmentOrange | -74 |
SaturationAdjustmentPurple | -100 |
SaturationAdjustmentRed | -100 |
SaturationAdjustmentYellow | +45 |
ScaleFactor35efl | 1.0 |
SceneCaptureType | Standard |
SceneType | Directly photographed |
SensingMethod | One-chip color area |
SerialNumber | 2007197 |
Shadows2012 | 0 |
ShadowTint | +100 |
SharpenDetail | 25 |
SharpenEdgeMasking | 22 |
SharpenRadius | +1.0 |
Sharpness (1) | 66 |
Sharpness | Hard |
ShutterSpeed | 1/800 |
ShutterSpeedValue | 1/800 |
Software | Adobe Photoshop Lightroom 4.2 (Windows) |
SplitToningBalance | 0 |
SplitToningHighlightHue | 51 |
SplitToningHighlightSaturation | 29 |
SplitToningShadowHue | 43 |
SplitToningShadowSaturation | 5 |
Subject | Landskap, natur, snipsøyrvatnet |
SubjectDistanceRange | Unknown |
Tint | 0 |
ToneCurveName2012 | Linear |
ToneCurvePV2012 | 0, 0, 255, 255 |
ToneCurvePV2012Blue | 0, 0, 255, 255 |
ToneCurvePV2012Green | 0, 0, 255, 255 |
ToneCurvePV2012Red | 0, 0, 255, 255 |
Version | 7.2 |
Vibrance | +29 |
VignetteAmount | -14 |
VignetteMidpoint | 64 |
WhiteBalance (1) | Custom |
WhiteBalance | Auto |
Whites2012 | 0 |