Felt | Verdi |
AlreadyApplied | True |
Aperture | 4.5 |
ApertureValue | 4.5 |
Artist | Torstein Johansen |
BitsPerSample | 8 |
BlueHue | 0 |
BlueSaturation | 0 |
Brightness | +74 |
By-line | Torstein Johansen |
CameraProfile | ACR 2.4 |
ChromaticAberrationB | 0 |
ChromaticAberrationR | 0 |
Clarity | +61 |
ColorComponents | 1 |
ColorNoiseReduction | 25 |
ColorTemperature | 6100 |
Contrast | +59 |
ConvertToGrayscale | True |
CreateDate (1) | 2008:03:29 21:52:24+01:00 |
CreateDate | 2008:03:29 21:52:24 |
Creator | Torstein Johansen |
CreatorTool | Adobe Photoshop Lightroom 3.6 (Windows) |
CropAngle | 0 |
CropBottom | 0.953226 |
CropConstrainToWarp | 0 |
CropHeight | 683 |
CropLeft | 0.120968 |
CropRight | 0.943548 |
CropTop | 0.130645 |
CropUnit | pixels |
CropWidth | 1024 |
DateCreated (1) | 2008:03:29 |
DateCreated | 2008:03:29 21:52:24+01:00 |
DateTimeOriginal | 2008:03:29 21:52:24 |
Defringe | 0 |
Exposure | -0.23 |
ExposureCompensation | 0 |
ExposureProgram | Manual |
ExposureTime | 8 |
FillLight | 52 |
Firmware | 2.0.1 |
Flash | No Flash |
FNumber | 4.5 |
FocalLength | 35.0 mm |
FocalLength35efl | 35.0 mm |
Format | image/jpeg |
GrainAmount | 0 |
GrayMixerAqua | -19 |
GrayMixerBlue | +43 |
GrayMixerGreen | +14 |
GrayMixerMagenta | +4 |
GrayMixerOrange | +20 |
GrayMixerPurple | +13 |
GrayMixerRed | +75 |
GrayMixerYellow | +45 |
GreenHue | 0 |
GreenSaturation | 0 |
HasCrop | True |
HasSettings | True |
HighlightRecovery | 31 |
ImageHeight | 683 |
ImageSize | 1024x683 |
ImageWidth | 1024 |
ISO | 200 |
Lens | 28.0-105.0 mm |
LensInfo | 28-105mm f/? |
LensManualDistortionAmount | 0 |
LensModel | 28.0-105.0 mm |
LensProfileEnable | 0 |
LensProfileSetup | LensDefaults |
LightValue | 0.3 |
LuminanceSmoothing | 0 |
Make | Canon |
MaxApertureValue | 3.5 |
Megapixels | 0.699 |
MeteringMode | Multi-segment |
Model | Canon EOS 10D |
ModifyDate (1) | 2012:12:10 19:55:02+01:00 |
ModifyDate | 2012:12:10 19:55:02 |
OwnerName | Torstein Johansen |
ParametricDarks | 0 |
ParametricHighlights | 0 |
ParametricHighlightSplit | 75 |
ParametricLights | 0 |
ParametricMidtoneSplit | 50 |
ParametricShadows | 0 |
ParametricShadowSplit | 25 |
PerspectiveHorizontal | 0 |
PerspectiveRotate | 0.0 |
PerspectiveScale | 100 |
PerspectiveVertical | 0 |
PostCropVignetteAmount | 0 |
ProcessVersion | 5.0 |
ProfileDescription | sRGB IEC61966-2.1 |
RedHue | 0 |
RedSaturation | 0 |
SerialNumber | 0430208404 |
Shadows | 17 |
ShadowTint | 0 |
SharpenDetail | 25 |
SharpenEdgeMasking | 0 |
SharpenRadius | +1.0 |
Sharpness | 69 |
ShutterSpeed | 8 |
ShutterSpeedValue | 8 |
Software | Adobe Photoshop Lightroom 3.6 (Windows) |
SplitToningBalance | 0 |
SplitToningHighlightHue | 0 |
SplitToningHighlightSaturation | 0 |
SplitToningShadowHue | 0 |
SplitToningShadowSaturation | 0 |
Tint | -60 |
ToneCurve | 0, 0, 32, 22, 77, 44, 124, 71, 221, 166, 255, 255 |
ToneCurveName | Custom |
Version | 6.6 |
VignetteAmount | 0 |
WhiteBalance | Custom |