Felt | Verdi |
AlreadyApplied | True |
Aperture | 5.6 |
ApertureValue | 5.6 |
ApproximateFocusDistance | 4294967295 |
Artist | GMS |
AutoLateralCA | 0 |
BitsPerSample (1) | 8 8 8 |
BitsPerSample | 8 |
Blacks2012 | 0 |
BlueHue | 0 |
BlueSaturation | 0 |
By-line | GMS |
CameraProfile | Adobe Standard |
CFAPattern | [Red,Green][Green,Blue] |
CircleOfConfusion | 0.030 mm |
Clarity2012 | +40 |
ColorComponents | 3 |
ColorMode | RGB |
ColorNoiseReduction | 25 |
ColorNoiseReductionDetail | 50 |
ColorSpace | sRGB |
ColorTemperature | 3165 |
Contrast | Normal |
Contrast2012 | +36 |
ConvertToGrayscale | False |
CreateDate (1) | 2012:12:14 02:40:12.37 |
CreateDate | 2012:12:14 02:40:12 |
Creator | GMS |
CreatorTool | Adobe Photoshop CS5 Windows |
CropAngle | 0 |
CropBottom | 0.943873 |
CropConstrainToWarp | 0 |
CropHeight | 798 |
CropLeft | 0.056127 |
CropRight | 1 |
CropTop | 0 |
CropUnit | pixels |
CropWidth | 1200 |
CustomRendered | Normal |
DateCreated (1) | 2012:12:14 |
DateCreated | 2012:12:14 02:40:12.037 |
DateTimeOriginal | 2012:12:14 02:40:12 |
DefringeGreenAmount | 0 |
DefringeGreenHueHi | 60 |
DefringeGreenHueLo | 40 |
DefringePurpleAmount | 0 |
DefringePurpleHueHi | 70 |
DefringePurpleHueLo | 30 |
DigitalZoomRatio | 1 |
DOF | inf (1.52 m - inf) |
ExifImageHeight | 798 |
ExifImageWidth | 1200 |
Exposure2012 | +1.02 |
ExposureCompensation | 0 |
ExposureMode | Manual |
ExposureProgram | Manual |
ExposureTime | 110 |
Flash | No Flash |
FNumber | 5.6 |
FocalLength | 16.0 mm |
FocalLength35efl | 16.0 mm (35 mm equivalent: 16.0 mm) |
FocalLengthIn35mmFormat | 16 mm |
Format | image/jpeg |
FOV | 96.7 deg |
GainControl | None |
GradientBasedCorrActive | true |
GradientBasedCorrAmount | 1.000000 |
GradientBasedCorrBrightness | 0.000000 |
GradientBasedCorrClarity2012 | 0.000000 |
GradientBasedCorrContrast2012 | 0.000000 |
GradientBasedCorrDefringe | 0.000000 |
GradientBasedCorrExposure2012 | -0.243250 |
GradientBasedCorrHighlights2012 | 0.000000 |
GradientBasedCorrHue | 53.000000 |
GradientBasedCorrLuminanceNoise | 0.000000 |
GradientBasedCorrMaskFullX | 0.358222 |
GradientBasedCorrMaskFullY | 0.799869 |
GradientBasedCorrMaskValue | 1.000000 |
GradientBasedCorrMaskWhat | Mask/Gradient |
GradientBasedCorrMaskZeroX | 0.352723 |
GradientBasedCorrMaskZeroY | 0.463140 |
GradientBasedCorrMoire | 0.000000 |
GradientBasedCorrSaturation | 0.000000 |
GradientBasedCorrShadows2012 | 0.000000 |
GradientBasedCorrSharpness | 0.000000 |
GradientBasedCorrTemperature | 0.000000 |
GradientBasedCorrTint | 0.000000 |
GradientBasedCorrWhat | Correction |
GrainAmount | 0 |
GreenHue | 0 |
GreenSaturation | 0 |
HasCrop | True |
HasSettings | True |
Highlights2012 | 0 |
HueAdjustmentAqua | 0 |
HueAdjustmentBlue | 0 |
HueAdjustmentGreen | 0 |
HueAdjustmentMagenta | 0 |
HueAdjustmentOrange | 0 |
HueAdjustmentPurple | 0 |
HueAdjustmentRed | 0 |
HueAdjustmentYellow | 0 |
HyperfocalDistance | 1.52 m |
ICCProfileName | sRGB IEC61966-2.1 |
ImageHeight | 798 |
ImageNumber | 12960 |
ImageSize | 1200x798 |
ImageWidth | 1200 |
ISO | 200 |
Keywords | Landskap |
Lens | 14.0-24.0 mm f/2.8 |
LensID (1) | 146 |
LensID | AF-S Zoom-Nikkor 14-24mm f/2.8G ED |
LensInfo | 14-24mm f/2.8 |
LensManualDistortionAmount | 0 |
LensModel | 14.0-24.0 mm f/2.8 |
LensProfileEnable | 0 |
LensProfileSetup | LensDefaults |
LightSource | Unknown |
LightValue | -2.8 |
LuminanceAdjustmentAqua | 0 |
LuminanceAdjustmentBlue | 0 |
LuminanceAdjustmentGreen | 0 |
LuminanceAdjustmentMagenta | 0 |
LuminanceAdjustmentOrange | +93 |
LuminanceAdjustmentPurple | 0 |
LuminanceAdjustmentRed | 0 |
LuminanceAdjustmentYellow | +63 |
LuminanceSmoothing | 0 |
Make | NIKON CORPORATION |
MaxApertureValue | 2.8 |
Megapixels | 0.958 |
MeteringMode | Center-weighted average |
Model | NIKON D3S |
ModifyDate (1) | 2012:12:21 18:33:45+01:00 |
ModifyDate | 2012:12:21 18:33:45 |
Orientation | Horizontal (normal) |
PaintCorrectionActive | true |
PaintCorrectionAmount | 1.000000 |
PaintCorrectionBrightness | 0.000000 |
PaintCorrectionClarity2012 | 0.000000 |
PaintCorrectionContrast2012 | 0.000000 |
PaintCorrectionDefringe | 0.000000 |
PaintCorrectionExposure2012 (1) | -0.099000 |
PaintCorrectionExposure2012 (2) | -0.117000 |
PaintCorrectionExposure2012 | 0.207250 |
PaintCorrectionHighlights2012 | 0.000000 |
PaintCorrectionHue | 53.000000 |
PaintCorrectionLuminanceNoise | 0.000000 |
PaintCorrectionMaskCenterWeight | 0.051304 |
PaintCorrectionMaskFlow | 0.874000 |
PaintCorrectionMaskRadius (1) | 0.144444 |
PaintCorrectionMaskRadius (5) | 0.047976 |
PaintCorrectionMaskRadius | 0.073418 |
PaintCorrectionMaskValue | 1.000000 |
PaintCorrectionMaskWhat | Mask/Paint |
PaintCorrectionMoire | 0.000000 |
PaintCorrectionSaturation (3) | -0.315320 |
PaintCorrectionSaturation | 0.000000 |
PaintCorrectionShadows2012 | 0.000000 |
PaintCorrectionSharpness | 0.000000 |
PaintCorrectionTemperature | 0.000000 |
PaintCorrectionTint | 0.000000 |
PaintCorrectionWhat | Correction |
ParametricDarks | +1 |
ParametricHighlights | 0 |
ParametricHighlightSplit | 75 |
ParametricLights | +29 |
ParametricMidtoneSplit | 50 |
ParametricShadows | +11 |
ParametricShadowSplit | 25 |
PerspectiveHorizontal | 0 |
PerspectiveRotate | 0.0 |
PerspectiveScale | 100 |
PerspectiveVertical | 0 |
PhotometricInterpretation | RGB |
PostCropVignetteAmount | 0 |
ProcessVersion | 6.7 |
ProfileDescription | sRGB IEC61966-2.1 |
RedHue | 0 |
RedSaturation | 0 |
Saturation (1) | 0 |
Saturation | Normal |
SaturationAdjustmentAqua | 0 |
SaturationAdjustmentBlue | 0 |
SaturationAdjustmentGreen | 0 |
SaturationAdjustmentMagenta | 0 |
SaturationAdjustmentOrange | 0 |
SaturationAdjustmentPurple | 0 |
SaturationAdjustmentRed | 0 |
SaturationAdjustmentYellow | 0 |
ScaleFactor35efl | 1.0 |
SceneCaptureType | Standard |
SceneType | Directly photographed |
SensingMethod | One-chip color area |
SerialNumber | 2007197 |
Shadows2012 | +100 |
ShadowTint | 0 |
SharpenDetail | 25 |
SharpenEdgeMasking | 0 |
SharpenRadius | +1.0 |
Sharpness (1) | 25 |
Sharpness | Hard |
ShutterSpeed | 110 |
ShutterSpeedValue | 110 |
Software | Adobe Photoshop CS5 Windows |
SplitToningBalance | 0 |
SplitToningHighlightHue | 0 |
SplitToningHighlightSaturation | 0 |
SplitToningShadowHue | 0 |
SplitToningShadowSaturation | 0 |
Subject | Landskap |
SubjectDistanceRange | Unknown |
Tint | +3 |
ToneCurveName2012 | Linear |
ToneCurvePV2012 | 0, 0, 255, 255 |
ToneCurvePV2012Blue | 0, 0, 255, 255 |
ToneCurvePV2012Green | 0, 0, 255, 255 |
ToneCurvePV2012Red | 0, 0, 255, 255 |
URL_List | |
Version | 7.2 |
Vibrance | +34 |
VignetteAmount | 0 |
WhiteBalance (1) | Custom |
WhiteBalance | Auto |
Whites2012 | 0 |