Felt | Verdi |
AlreadyApplied | True |
Aperture | 4.0 |
ApertureValue | 4.0 |
Artist | Bengt Mathisen |
AutoLateralCA | 0 |
BitsPerSample | 8 |
Blacks2012 | -86 |
BlueHue | 0 |
BlueSaturation | 0 |
By-line | Bengt Mathisen |
CameraProfile | Embedded |
CircleOfConfusion | 0.019 mm |
Clarity2012 | +94 |
ColorComponents | 1 |
ColorNoiseReduction | 0 |
Contrast2012 | +100 |
ConvertToGrayscale | True |
Copyright | Bengt Mathisen |
CopyrightNotice | Bengt Mathisen |
CreateDate (1) | 2012:08:17 09:32:38.00 |
CreateDate | 2012:08:17 09:32:38 |
Creator | Bengt Mathisen |
CreatorCity | Melsomvik |
CreatorRegion | Norway |
CreatorTool | Adobe Photoshop Lightroom 4.2 (Windows) |
CropAngle | 0 |
CropBottom | 0.728507 |
CropConstrainToWarp | 0 |
CropHeight | 1157 |
CropLeft | 0.312217 |
CropRight | 0.669683 |
CropTop | 0.393666 |
CropUnit | pixels |
CropWidth | 1853 |
CustomRendered | Normal |
DateAcquired | 2012:08:17 14:24:16 |
DateCreated (1) | 2012:08:17 |
DateCreated | 2012:08:17 09:32:38.00 |
DateTimeOriginal | 2012:08:17 09:32:38 |
Exposure2012 | -1.21 |
ExposureCompensation | 0 |
ExposureMode | Manual |
ExposureProgram | Manual |
ExposureTime | 1/100 |
Flash | Off, Did not fire |
FNumber | 4.0 |
FocalLength | 300.0 mm |
FocalLength35efl | 300.0 mm (35 mm equivalent: 471.8 mm) |
Format | image/jpeg |
FOV | 4.4 deg |
GrainAmount | 0 |
GrayMixerAqua | -26 |
GrayMixerBlue | -4 |
GrayMixerGreen | -26 |
GrayMixerMagenta | +7 |
GrayMixerOrange | -65 |
GrayMixerPurple | +11 |
GrayMixerRed | -8 |
GrayMixerYellow | -18 |
GreenHue | 0 |
GreenSaturation | 0 |
HasCrop | True |
HasSettings | True |
Highlights2012 | -5 |
HyperfocalDistance | 1177.75 m |
ImageHeight | 1157 |
ImageSize | 1853x1157 |
ImageWidth | 1853 |
IncrementalTemperature | -5 |
IncrementalTint | -17 |
ISO | 200 |
Keywords | Veidnes |
LastKeywordXMP | Veidnes |
Lens | EF300mm f/4L IS USM |
LensInfo | 300mm f/? |
LensManualDistortionAmount | 0 |
LensModel | EF300mm f/4L IS USM |
LensProfileChromaticAberrationScale | 100 |
LensProfileDistortionScale | 100 |
LensProfileEnable | 1 |
LensProfileFilename | Canon EOS-1Ds Mark III (Canon EF 70-300mm f4-5.6 IS USM).lcp |
LensProfileName | Adobe (Canon EF 70-300mm f/4-5.6 IS USM) |
LensProfileSetup | Custom |
LensProfileVignettingScale | 100 |
LensSerialNumber | 0000000000 |
LightValue | 9.6 |
LuminanceSmoothing | 0 |
Make | Canon |
Megapixels | 2.1 |
MeteringMode | Multi-segment |
Model | Canon EOS 600D |
ModifyDate (1) | 2012:12:17 16:43:20+01:00 |
ModifyDate | 2012:12:17 16:43:20 |
ParametricDarks | -22 |
ParametricHighlights | +13 |
ParametricHighlightSplit | 75 |
ParametricLights | -6 |
ParametricMidtoneSplit | 50 |
ParametricShadows | -29 |
ParametricShadowSplit | 25 |
PerspectiveHorizontal | 0 |
PerspectiveRotate | 0.0 |
PerspectiveScale | 100 |
PerspectiveVertical | 0 |
PostCropVignetteAmount | -63 |
PostCropVignetteFeather | 50 |
PostCropVignetteHighlightContrast | 3 |
PostCropVignetteMidpoint | 51 |
PostCropVignetteRoundness | +7 |
PostCropVignetteStyle | 1 |
ProcessVersion | 6.7 |
ProfileDescription | sRGB IEC61966-2.1 |
RecommendedExposureIndex | 200 |
RedHue | 0 |
RedSaturation | 0 |
Rights | Bengt Mathisen |
ScaleFactor35efl | 1.6 |
SceneCaptureType | Standard |
SensitivityType | Recommended Exposure Index |
SerialNumber | 123063002594 |
Shadows2012 | -100 |
ShadowTint | 0 |
SharpenDetail | 25 |
SharpenEdgeMasking | 0 |
SharpenRadius | +1.0 |
Sharpness | 0 |
ShutterSpeed | 1/100 |
ShutterSpeedValue | 1/100 |
Software | Adobe Photoshop Lightroom 4.2 (Windows) |
SplitToningBalance | 0 |
SplitToningHighlightHue | 0 |
SplitToningHighlightSaturation | 0 |
SplitToningShadowHue | 0 |
SplitToningShadowSaturation | 0 |
Subject | Veidnes |
ToneCurveName2012 | Linear |
ToneCurvePV2012 | 0, 0, 255, 255 |
ToneCurvePV2012Blue | 0, 0, 255, 255 |
ToneCurvePV2012Green | 0, 0, 255, 255 |
ToneCurvePV2012Red | 0, 0, 255, 255 |
Version | 7.2 |
VignetteAmount | 0 |
WhiteBalance (1) | Custom |
WhiteBalance | Manual |
Whites2012 | -5 |