Felt | Verdi |
AlreadyApplied | True |
Aperture | 1.8 |
ApertureValue | 1.8 |
ApproximateFocusDistance | 2 |
Artist | ANDREBIRK |
BitsPerSample (1) | 8 8 8 |
BitsPerSample | 8 |
BlueHue | 0 |
BlueSaturation | 0 |
Brightness | +48 |
By-line | ANDREBIRK |
CameraProfile | Adobe Standard |
CFAPattern | [Red,Green][Green,Blue] |
ChromaticAberrationB | 0 |
ChromaticAberrationR | 0 |
CircleOfConfusion | 0.020 mm |
Clarity | 0 |
ColorComponents | 1 |
ColorMode | RGB |
ColorNoiseReduction | 25 |
ColorNoiseReductionDetail | 50 |
ColorSpace | sRGB |
ColorTemperature | 7250 |
Contrast (1) | +48 |
Contrast | Normal |
ConvertToGrayscale | True |
Copyright | ANDREBIRK (C) 2011 WWW.ANDREBIRK.NO |
CopyrightNotice | ANDREBIRK (C) 2011 WWW.ANDREBIRK.NO |
CreateDate (1) | 2011:08:30 18:48:54.16 |
CreateDate | 2011:08:30 18:48:54 |
Creator | ANDREBIRK |
CreatorTool | Adobe Photoshop CS5.1 Windows |
CropAngle | 2.817984 |
CropBottom | 1 |
CropConstrainToWarp | 1 |
CropLeft | 0.039013 |
CropRight | 0.965787 |
CropTop | 0 |
CustomRendered | Normal |
DateCreated (1) | 2011:08:30 |
DateCreated | 2011:08:30 18:48:54.016 |
DateTimeOriginal | 2011:08:30 18:48:54 |
Defringe | 0 |
DigitalZoomRatio | 1 |
DOF | 0.11 m (1.95 - 2.06 m) |
ExifImageHeight | 3575 |
ExifImageWidth | 2554 |
Exposure | -1.05 |
ExposureCompensation | 0 |
ExposureMode | Auto |
ExposureProgram | Aperture-priority AE |
ExposureTime | 1/640 |
FillLight | 0 |
Flash | No Flash |
FNumber | 1.8 |
FocalLength | 50.0 mm |
FocalLength35efl | 50.0 mm (35 mm equivalent: 75.0 mm) |
FocalLengthIn35mmFormat | 75 mm |
Format | image/jpeg |
FOV | 27.0 deg |
GainControl | Low gain up |
GrainAmount | 0 |
GrayMixerAqua | -16 |
GrayMixerBlue | +14 |
GrayMixerGreen | -27 |
GrayMixerMagenta | +4 |
GrayMixerOrange | -48 |
GrayMixerPurple | +18 |
GrayMixerRed | -33 |
GrayMixerYellow | -36 |
GreenHue | 0 |
GreenSaturation | 0 |
HasCrop | True |
HasSettings | True |
HighlightRecovery | 0 |
HyperfocalDistance | 69.34 m |
ICCProfileName | sRGB IEC61966-2.1 |
ImageHeight (1) | 4109 |
ImageHeight | 3575 |
ImageNumber | 13994 |
ImageSize | 2554x3575 |
ImageWidth (1) | 2649 |
ImageWidth | 2554 |
ISO | 400 |
Lens | 50.0 mm f/1.4 |
LensID (1) | 222 |
LensID | Sigma 50mm F1.4 EX DG HSM |
LensInfo | 50mm f/1.4 |
LensManualDistortionAmount | 0 |
LensModel | 50.0 mm f/1.4 |
LensProfileEnable | 0 |
LensProfileSetup | LensDefaults |
LightSource | Unknown |
LightValue | 9.0 |
LuminanceSmoothing | 0 |
Make | NIKON CORPORATION |
MaxApertureValue | 1.4 |
Megapixels | 9.1 |
MeteringMode | Multi-segment |
Model | NIKON D300S |
ModifyDate (1) | 2013:01:02 14:18:27+01:00 |
ModifyDate | 2013:01:02 14:18:27 |
Orientation | Horizontal (normal) |
ParametricDarks | -18 |
ParametricHighlights | -5 |
ParametricHighlightSplit | 75 |
ParametricLights | -8 |
ParametricMidtoneSplit | 50 |
ParametricShadows | -14 |
ParametricShadowSplit | 25 |
PerspectiveHorizontal | 0 |
PerspectiveRotate | 0.0 |
PerspectiveScale | 100 |
PerspectiveVertical | 0 |
PhotometricInterpretation | RGB |
PostCropVignetteAmount | 0 |
ProcessVersion | 5.7 |
ProfileDescription | sRGB IEC61966-2.1 |
Rating | 0 |
RawFileName | _NLT8064.NEF |
RedHue | 0 |
RedSaturation | 0 |
Rights | ANDREBIRK (C) 2011 WWW.ANDREBIRK.NO |
Saturation | Normal |
ScaleFactor35efl | 1.5 |
SceneCaptureType | Standard |
SceneType | Directly photographed |
SensingMethod | One-chip color area |
SerialNumber | 3014882 |
Shadows | 6 |
ShadowTint | 0 |
SharpenDetail | 25 |
SharpenEdgeMasking | 0 |
SharpenRadius | +1.0 |
Sharpness (1) | 25 |
Sharpness | Normal |
ShutterSpeed | 1/640 |
ShutterSpeedValue | 1/640 |
Software | Adobe Photoshop CS5.1 Windows |
SplitToningBalance | 0 |
SplitToningHighlightHue | 0 |
SplitToningHighlightSaturation | 0 |
SplitToningShadowHue | 0 |
SplitToningShadowSaturation | 0 |
SubjectDistance | 2 m |
SubjectDistanceRange | Unknown |
Tint | +10 |
ToneCurve | 0, 0, 32, 22, 64, 56, 128, 128, 192, 196, 255, 255 |
ToneCurveName | Medium Contrast |
URL_List | |
UserComment | NANDOR TAMAS (C) 2011 www.digg.no |
Version | 6.4.1 |
VignetteAmount | 0 |
WhiteBalance (1) | Custom |
WhiteBalance | Auto |