Felt | Verdi |
AlreadyApplied | True |
AutoLateralCA | 0 |
BitsPerSample | 8 |
Blacks2012 | 0 |
BlueHue | 0 |
BlueSaturation | 0 |
CameraProfile | Embedded |
Clarity2012 | 0 |
ColorComponents | 1 |
ColorMode | RGB |
ColorNoiseReduction | 0 |
ColorSpace | sRGB |
Contrast2012 | +69 |
ConvertToGrayscale | True |
CreateDate | 2013:01:07 08:04:27+01:00 |
CreatorTool | Adobe Photoshop Lightroom 4.1 (Windows) |
ExifImageHeight | 850 |
ExifImageWidth | 1245 |
Exposure2012 | 0.00 |
Format | image/jpeg |
GrainAmount | 0 |
GrayMixerAqua | -19 |
GrayMixerBlue | +5 |
GrayMixerGreen | -23 |
GrayMixerMagenta | +4 |
GrayMixerOrange | -14 |
GrayMixerPurple | +12 |
GrayMixerRed | -6 |
GrayMixerYellow | -17 |
GreenHue | 0 |
GreenSaturation | 0 |
HasCrop | False |
HasSettings | True |
Highlights2012 | 0 |
ICCProfileName | sRGB IEC61966-2.1 |
ImageHeight | 850 |
ImageSize | 1245x850 |
ImageWidth | 1245 |
IncrementalTemperature | 0 |
IncrementalTint | 0 |
LensManualDistortionAmount | 0 |
LensProfileEnable | 0 |
LensProfileSetup | LensDefaults |
LuminanceNoiseReductionContrast | 34 |
LuminanceNoiseReductionDetail | 65 |
LuminanceSmoothing | 12 |
Make | Nikon |
Megapixels | 1.1 |
Model | Nikon COOLSCAN V ED |
ModifyDate (1) | 2013:01:07 09:19:40+01:00 |
ModifyDate | 2013:01:07 09:19:40 |
Orientation | Horizontal (normal) |
ParametricDarks | -9 |
ParametricHighlights | +26 |
ParametricHighlightSplit | 75 |
ParametricLights | -14 |
ParametricMidtoneSplit | 50 |
ParametricShadows | +3 |
ParametricShadowSplit | 25 |
PerspectiveHorizontal | 0 |
PerspectiveRotate | 0.0 |
PerspectiveScale | 100 |
PerspectiveVertical | 0 |
PostCropVignetteAmount | -17 |
PostCropVignetteFeather | 50 |
PostCropVignetteHighlightContrast | 0 |
PostCropVignetteMidpoint | 50 |
PostCropVignetteRoundness | 0 |
PostCropVignetteStyle | 1 |
ProcessVersion | 6.7 |
ProfileDescription | sRGB IEC61966-2.1 |
RedHue | 0 |
RedSaturation | 0 |
Shadows2012 | 0 |
ShadowTint | 0 |
SharpenDetail | 85 |
SharpenEdgeMasking | 47 |
SharpenRadius | +1.8 |
Sharpness | 87 |
Software | Adobe Photoshop Elements 9.0 Windows |
SplitToningBalance | 0 |
SplitToningHighlightHue | 0 |
SplitToningHighlightSaturation | 0 |
SplitToningShadowHue | 0 |
SplitToningShadowSaturation | 0 |
ToneCurveName2012 | Linear |
ToneCurvePV2012 | 0, 0, 255, 255 |
ToneCurvePV2012Blue | 0, 0, 255, 255 |
ToneCurvePV2012Green | 0, 0, 255, 255 |
ToneCurvePV2012Red | 0, 0, 255, 255 |
URL_List | |
Version | 7.1 |
VignetteAmount | 0 |
WhiteBalance | As Shot |
Whites2012 | 0 |