Felt | Verdi |
AlreadyApplied | True |
Aperture | 8.0 |
ApertureValue | 8.0 |
ApproximateFocusDistance | 4294967295 |
Artist | K.JUVLAND |
BitsPerSample | 8 |
BlueHue | 0 |
BlueSaturation | 0 |
Brightness | +26 |
By-line | K.JUVLAND |
CameraProfile | Adobe Standard |
ChromaticAberrationB | 0 |
ChromaticAberrationR | 0 |
CircleOfConfusion | 0.019 mm |
Clarity | +6 |
ColorComponents | 3 |
ColorMode | RGB |
ColorNoiseReduction | 25 |
ColorNoiseReductionDetail | 50 |
ColorSpace | sRGB |
ColorTemperature | 4850 |
Contrast | +51 |
ConvertToGrayscale | False |
CreateDate (1) | 2012:12:11 12:25:14.91+01:00 |
CreateDate | 2012:12:11 12:25:14 |
Creator | K.JUVLAND |
CropAngle | 0 |
CropBottom | 0.834679 |
CropConstrainToWarp | 1 |
CropLeft | 0.315403 |
CropRight | 0.603877 |
CropTop | 0.312573 |
CustomRendered | Normal |
DateTimeDigitized | 2012:12:11 12:25:14+01:00 |
DateTimeOriginal (1) | 2012:12:11 12:25:14+01:00 |
DateTimeOriginal | 2012:12:11 12:25:14 |
Defringe | 0 |
DOF | inf (588.87 m - inf) |
ExifImageHeight | 1804 |
ExifImageWidth | 1495 |
Exposure | +0.45 |
ExposureCompensation | 0 |
ExposureMode | Manual |
ExposureProgram | Manual |
ExposureTime | 1/1000 |
FillLight | 15 |
Firmware | 1.0.6 |
Flash | Off, Did not fire |
FlashCompensation | 0 |
FlashFired | False |
FlashFunction | False |
FlashMode | Off |
FlashRedEyeMode | False |
FlashReturn | No return detection |
FNumber | 8.0 |
FocalLength | 300.0 mm |
FocalLength35efl | 300.0 mm (35 mm equivalent: 471.8 mm) |
Format | image/jpeg |
FOV | 4.4 deg |
GrainAmount | 0 |
GreenHue | 0 |
GreenSaturation | 0 |
HasCrop | True |
HasSettings | True |
HighlightRecovery | 5 |
HueAdjustmentAqua | 0 |
HueAdjustmentBlue | 0 |
HueAdjustmentGreen | 0 |
HueAdjustmentMagenta | 0 |
HueAdjustmentOrange | 0 |
HueAdjustmentPurple | 0 |
HueAdjustmentRed | 0 |
HueAdjustmentYellow | 0 |
HyperfocalDistance | 588.87 m |
ICCProfileName | sRGB IEC61966-2.1 |
ImageHeight | 1804 |
ImageNumber | 0 |
ImageSize | 1495x1804 |
ImageWidth | 1495 |
ISO | 800 |
Lens | EF300mm f/4L IS USM |
LensID (1) | 177 |
LensID | Canon EF 300mm f/4L IS USM |
LensInfo | 300mm f/? |
LensManualDistortionAmount | 0 |
LensModel | EF300mm f/4L IS USM |
LensProfileEnable | 0 |
LensProfileSetup | LensDefaults |
LightValue | 13.0 |
LuminanceAdjustmentAqua | 0 |
LuminanceAdjustmentBlue | 0 |
LuminanceAdjustmentGreen | 0 |
LuminanceAdjustmentMagenta | 0 |
LuminanceAdjustmentOrange | 0 |
LuminanceAdjustmentPurple | 0 |
LuminanceAdjustmentRed | 0 |
LuminanceAdjustmentYellow | 0 |
LuminanceSmoothing | 0 |
Make | Canon |
MaxApertureValue | 4.0 |
Megapixels | 2.7 |
MeteringMode | Spot |
Model | Canon EOS 550D |
ModifyDate (1) | 2012:12:15 12:01:25+01:00 |
ModifyDate | 2012:12:15 12:01:25 |
Orientation | Horizontal (normal) |
ParametricDarks | 0 |
ParametricHighlights | 0 |
ParametricHighlightSplit | 75 |
ParametricLights | 0 |
ParametricMidtoneSplit | 50 |
ParametricShadows | 0 |
ParametricShadowSplit | 25 |
PerspectiveHorizontal | 0 |
PerspectiveRotate | 0.0 |
PerspectiveScale | 100 |
PerspectiveVertical | 0 |
PostCropVignetteAmount | 0 |
ProcessVersion | 5.7 |
ProfileDescription | sRGB IEC61966-2.1 |
Rating | 0 |
RawFileName | IMG_6027.CR2 |
RedHue | 0 |
RedSaturation | 0 |
Saturation | +11 |
SaturationAdjustmentAqua | 0 |
SaturationAdjustmentBlue | 0 |
SaturationAdjustmentGreen | 0 |
SaturationAdjustmentMagenta | 0 |
SaturationAdjustmentOrange | 0 |
SaturationAdjustmentPurple | 0 |
SaturationAdjustmentRed | 0 |
SaturationAdjustmentYellow | 0 |
ScaleFactor35efl | 1.6 |
SceneCaptureType | Standard |
SensitivityType | Unknown |
SerialNumber | 431204587 |
Shadows | 34 |
ShadowTint | 0 |
SharpenDetail | 33 |
SharpenEdgeMasking | 0 |
SharpenRadius | +1.0 |
Sharpness | 56 |
ShutterSpeed | 1/1000 |
ShutterSpeedValue | 1/1000 |
SidecarForExtension | CR2 |
Software | Adobe Photoshop Elements 9.0 Windows |
SplitToningBalance | 0 |
SplitToningHighlightHue | 0 |
SplitToningHighlightSaturation | 0 |
SplitToningShadowHue | 0 |
SplitToningShadowSaturation | 0 |
SubjectDistance | 4294967295 m |
Tint | +5 |
ToneCurve | 0, 0, 32, 22, 64, 56, 128, 128, 192, 196, 255, 255 |
ToneCurveName | Medium Contrast |
URL_List | |
Version | 6.3 |
Vibrance | 0 |
VignetteAmount | 0 |
WhiteBalance (2) | As Shot |
WhiteBalance | Auto |