Felt | Verdi |
AlreadyApplied | True |
Aperture | 5.6 |
ApertureValue | 5.6 |
AutoLateralCA | 0 |
BitsPerSample | 8 |
Blacks2012 | 0 |
BlueHue | 0 |
BlueSaturation | 0 |
CameraProfile | Adobe Standard |
CircleOfConfusion | 0.031 mm |
Clarity2012 | +60 |
ColorComponents | 1 |
ColorNoiseReduction | 25 |
ColorNoiseReductionDetail | 50 |
ColorTemperature | 4400 |
Contrast2012 | -39 |
ConvertToGrayscale | True |
CreateDate (1) | 2012:07:31 20:29:59.14 |
CreateDate | 2012:07:31 20:29:59 |
CreatorTool | Adobe Photoshop Lightroom 4.3 (Windows) |
CropAngle | 0.512064 |
CropBottom | 1 |
CropConstrainToWarp | 0 |
CropHeight | 3373 |
CropLeft | 0.050805 |
CropRight | 0.990446 |
CropTop | 0.086403 |
CropUnit | pixels |
CropWidth | 5307 |
CustomRendered | Normal |
DateCreated (1) | 2012:07:31 |
DateCreated | 2012:07:31 20:29:59.14 |
DateTimeOriginal | 2012:07:31 20:29:59 |
Exposure2012 | 0.00 |
ExposureCompensation | 0 |
ExposureMode | Manual |
ExposureProgram | Manual |
ExposureTime | 1/250 |
Firmware | 1.0.6 |
Flash | Off, Did not fire |
FlashCompensation | 0 |
FNumber | 5.6 |
FocalLength | 21.0 mm |
FocalLength35efl | 21.0 mm (35 mm equivalent: 20.5 mm) |
Format | image/jpeg |
FOV | 82.6 deg |
GradientBasedCorrActive | true |
GradientBasedCorrAmount | 1.000000 |
GradientBasedCorrBrightness | 0.000000 |
GradientBasedCorrClarity2012 (1) | 1.000000 |
GradientBasedCorrClarity2012 | 0.472530 |
GradientBasedCorrContrast2012 (1) | 0.692310 |
GradientBasedCorrContrast2012 | 0.230770 |
GradientBasedCorrDefringe | 0.000000 |
GradientBasedCorrExposure2012 (1) | 0.000000 |
GradientBasedCorrExposure2012 | -0.077000 |
GradientBasedCorrHighlights2012 (1) | -0.648350 |
GradientBasedCorrHighlights2012 | 0.208790 |
GradientBasedCorrHue | 0.000000 |
GradientBasedCorrLuminanceNoise | 0.000000 |
GradientBasedCorrMaskFullX (1) | 0.637725 |
GradientBasedCorrMaskFullX | 0.666489 |
GradientBasedCorrMaskFullY (1) | -0.024029 |
GradientBasedCorrMaskFullY | 0.070842 |
GradientBasedCorrMaskValue | 1.000000 |
GradientBasedCorrMaskWhat | Mask/Gradient |
GradientBasedCorrMaskZeroX (1) | 0.637626 |
GradientBasedCorrMaskZeroX | 0.665651 |
GradientBasedCorrMaskZeroY (1) | 1.543750 |
GradientBasedCorrMaskZeroY | 1.437930 |
GradientBasedCorrMoire | 0.000000 |
GradientBasedCorrSaturation | 0.000000 |
GradientBasedCorrShadows2012 (1) | 0.000000 |
GradientBasedCorrShadows2012 | -0.274730 |
GradientBasedCorrSharpness (1) | 0.692310 |
GradientBasedCorrSharpness | 0.560440 |
GradientBasedCorrTemperature | 0.000000 |
GradientBasedCorrTint | 0.000000 |
GradientBasedCorrWhat | Correction |
GrainAmount | 40 |
GrainFrequency | 50 |
GrainSize | 25 |
GrayMixerAqua | -18 |
GrayMixerBlue | +7 |
GrayMixerGreen | -24 |
GrayMixerMagenta | +3 |
GrayMixerOrange | -16 |
GrayMixerPurple | +13 |
GrayMixerRed | -8 |
GrayMixerYellow | -19 |
GreenHue | 0 |
GreenSaturation | 0 |
HasCrop | True |
HasSettings | True |
Highlights2012 | -40 |
HyperfocalDistance | 2.56 m |
ImageHeight | 3373 |
ImageNumber | 0 |
ImageSize | 5307x3373 |
ImageWidth | 5307 |
ISO | 100 |
Lens | Zeiss Distagon T* 2.8/21 ZE |
LensID (1) | 33 |
LensID | Carl Zeiss Distagon T* 21mm f/2.8 ZE |
LensInfo | 21mm f/? |
LensManualDistortionAmount | 0 |
LensModel | Zeiss Distagon T* 2.8/21 ZE |
LensProfileEnable | 0 |
LensProfileSetup | LensDefaults |
LightValue | 12.9 |
LuminanceSmoothing | 0 |
Make | Canon |
MaxApertureValue | 2.8 |
Megapixels | 17.9 |
MeteringMode | Multi-segment |
Model | Canon EOS 5D Mark II |
ModifyDate (1) | 2013:01:03 03:20:26+01:00 |
ModifyDate | 2013:01:03 03:20:26 |
PaintCorrectionActive | true |
PaintCorrectionAmount | 1.000000 |
PaintCorrectionBrightness | 0.000000 |
PaintCorrectionClarity2012 | 0.000000 |
PaintCorrectionContrast2012 | 0.000000 |
PaintCorrectionDefringe | 0.000000 |
PaintCorrectionExposure2012 (1) | 1.000000 |
PaintCorrectionExposure2012 | 0.956000 |
PaintCorrectionHighlights2012 | 0.000000 |
PaintCorrectionHue | 0.000000 |
PaintCorrectionLuminanceNoise | 0.000000 |
PaintCorrectionMaskCenterWeight | 0.032726 |
PaintCorrectionMaskFlow | 0.489000 |
PaintCorrectionMaskRadius (1) | 0.027192 |
PaintCorrectionMaskRadius | 0.106420 |
PaintCorrectionMaskValue | 0.187000 |
PaintCorrectionMaskWhat | Mask/Paint |
PaintCorrectionMoire | 0.000000 |
PaintCorrectionSaturation | 0.000000 |
PaintCorrectionShadows2012 (1) | 1.000000 |
PaintCorrectionShadows2012 | 0.000000 |
PaintCorrectionSharpness | 0.000000 |
PaintCorrectionTemperature | 0.000000 |
PaintCorrectionTint | 0.000000 |
PaintCorrectionWhat | Correction |
ParametricDarks | 0 |
ParametricHighlights | 0 |
ParametricHighlightSplit | 75 |
ParametricLights | 0 |
ParametricMidtoneSplit | 50 |
ParametricShadows | 0 |
ParametricShadowSplit | 25 |
PerspectiveHorizontal | 0 |
PerspectiveRotate | 0.0 |
PerspectiveScale | 100 |
PerspectiveVertical | 0 |
PostCropVignetteAmount | +7 |
PostCropVignetteFeather | 100 |
PostCropVignetteMidpoint | 50 |
PostCropVignetteRoundness | 0 |
PostCropVignetteStyle | 1 |
ProcessVersion | 6.7 |
ProfileDescription | sRGB IEC61966-2.1 |
Rating | 2 |
RedHue | 0 |
RedSaturation | 0 |
ScaleFactor35efl | 1.0 |
SceneCaptureType | Standard |
SerialNumber | 330235583 |
Shadows2012 | +38 |
ShadowTint | 0 |
SharpenDetail | 30 |
SharpenEdgeMasking | 26 |
SharpenRadius | +0.5 |
Sharpness | 28 |
ShutterSpeed | 1/250 |
ShutterSpeedValue | 1/250 |
Software | Adobe Photoshop Lightroom 4.3 (Windows) |
SplitToningBalance | 0 |
SplitToningHighlightHue | 0 |
SplitToningHighlightSaturation | 0 |
SplitToningShadowHue | 0 |
SplitToningShadowSaturation | 0 |
Tint | -15 |
ToneCurveName2012 | Medium Contrast |
ToneCurvePV2012 | 0, 0, 32, 22, 64, 56, 128, 128, 192, 196, 255, 255 |
ToneCurvePV2012Blue | 0, 0, 255, 255 |
ToneCurvePV2012Green | 0, 0, 255, 255 |
ToneCurvePV2012Red | 0, 0, 255, 255 |
Version | 7.3 |
VignetteAmount | 0 |
WhiteBalance (1) | As Shot |
WhiteBalance | Manual |
Whites2012 | -30 |