Felt | Verdi |
AlreadyApplied | True |
Aperture | 2.8 |
ApertureValue | 2.8 |
ApproximateFocusDistance | 4294967295 |
Artist | Zoltan Tot |
AutoLateralCA | 0 |
BitsPerSample | 8 |
Blacks2012 | -6 |
BlueHue | 0 |
BlueSaturation | 0 |
By-line | Zoltan Tot |
CameraProfile | Adobe Standard |
CFAPattern | [Red,Green][Green,Blue] |
CircleOfConfusion | 0.030 mm |
Clarity2012 | +25 |
ColorComponents | 3 |
ColorMode | RGB |
ColorNoiseReduction | 25 |
ColorNoiseReductionDetail | 50 |
ColorSpace | Uncalibrated |
ColorTemperature | 5150 |
Contrast | Normal |
Contrast2012 | +5 |
ConvertToGrayscale | False |
Copyright | Zoltan ToT |
CopyrightNotice | Zoltan ToT |
CreateDate | 2013:01:15 21:38:48 |
Creator | Zoltan Tot |
CreatorTool | Ver.1.00 |
CustomRendered | Custom |
DateCreated (1) | 2013:01:15 |
DateCreated | 2013:01:15 21:38:48.006 |
DateTimeOriginal | 2013:01:15 21:38:48 |
DefringeGreenAmount | 0 |
DefringeGreenHueHi | 60 |
DefringeGreenHueLo | 40 |
DefringePurpleAmount | 0 |
DefringePurpleHueHi | 70 |
DefringePurpleHueLo | 30 |
DigitalZoomRatio | 1 |
DOF | inf (2.33 m - inf) |
ExifImageHeight | 1205 |
ExifImageWidth | 1805 |
Exposure2012 | 0.00 |
ExposureCompensation | 0 |
ExposureMode | Manual |
ExposureProgram | Manual |
ExposureTime | 5 |
Flash | Off, Did not fire |
FNumber | 2.8 |
FocalLength | 14.0 mm |
FocalLength35efl | 14.0 mm (35 mm equivalent: 14.0 mm) |
FocalLengthIn35mmFormat | 14 mm |
Format | image/jpeg |
FOV | 104.3 deg |
GainControl | High gain up |
GradientBasedCorrActive | true |
GradientBasedCorrAmount | 1.000000 |
GradientBasedCorrBrightness | 0.000000 |
GradientBasedCorrClarity | 0.000000 |
GradientBasedCorrClarity2012 (2) | 0.390000 |
GradientBasedCorrClarity2012 | 0.210000 |
GradientBasedCorrContrast | 0.000000 |
GradientBasedCorrContrast2012 | 0.270000 |
GradientBasedCorrDefringe | 0.000000 |
GradientBasedCorrExposure | 0.000000 |
GradientBasedCorrExposure2012 (2) | 0.025000 |
GradientBasedCorrExposure2012 | 0.225000 |
GradientBasedCorrHighlights2012 | 0.710000 |
GradientBasedCorrHue (2) | 230.000000 |
GradientBasedCorrHue | 269.000000 |
GradientBasedCorrLuminanceNoise | 0.000000 |
GradientBasedCorrMaskFullX (1) | 0.402043 |
GradientBasedCorrMaskFullX (2) | 0.620241 |
GradientBasedCorrMaskFullX | 0.749304 |
GradientBasedCorrMaskFullY (1) | 0.169680 |
GradientBasedCorrMaskFullY (2) | 0.965229 |
GradientBasedCorrMaskFullY | 0.643950 |
GradientBasedCorrMaskValue | 1.000000 |
GradientBasedCorrMaskWhat | Mask/Gradient |
GradientBasedCorrMaskZeroX (1) | 0.440111 |
GradientBasedCorrMaskZeroX (2) | 0.581244 |
GradientBasedCorrMaskZeroX | 0.666667 |
GradientBasedCorrMaskZeroY (1) | 0.450626 |
GradientBasedCorrMaskZeroY (2) | 0.399166 |
GradientBasedCorrMaskZeroY | 0.364395 |
GradientBasedCorrMoire | 0.000000 |
GradientBasedCorrSaturation (1) | -0.020000 |
GradientBasedCorrSaturation (3) | 0.270000 |
GradientBasedCorrSaturation (4) | 1.000000 |
GradientBasedCorrSaturation (5) | 0.750000 |
GradientBasedCorrSaturation | 0.000000 |
GradientBasedCorrShadows2012 (2) | 0.470000 |
GradientBasedCorrShadows2012 | 0.230000 |
GradientBasedCorrSharpness | 0.000000 |
GradientBasedCorrTemperature (2) | -1.000000 |
GradientBasedCorrTemperature | 0.020000 |
GradientBasedCorrTint (2) | -0.050000 |
GradientBasedCorrTint | 0.240000 |
GradientBasedCorrWhat | Correction |
GrainAmount | 0 |
GreenHue | 0 |
GreenSaturation | 0 |
HasCrop | False |
HasSettings | True |
Highlights2012 | -13 |
HueAdjustmentAqua | 0 |
HueAdjustmentBlue | 0 |
HueAdjustmentGreen | 0 |
HueAdjustmentMagenta | 0 |
HueAdjustmentOrange | 0 |
HueAdjustmentPurple | 0 |
HueAdjustmentRed | 0 |
HueAdjustmentYellow | 0 |
HyperfocalDistance | 2.33 m |
ICCProfileName | Adobe RGB (1998) |
ImageHeight | 1205 |
ImageNumber | 381 |
ImageSize | 1805x1205 |
ImageWidth | 1805 |
ISO | 1250 |
Lens | 14.0 mm f/2.8 |
LensID (1) | 74 |
LensID | Samyang AE 14mm f/2.8 ED AS IF UMC |
LensInfo | 14mm f/2.8-1.4 |
LensManualDistortionAmount | 0 |
LensModel | 14.0 mm f/2.8 |
LensProfileEnable | 0 |
LensProfileSetup | LensDefaults |
LightSource | Cloudy |
LightValue | -3.0 |
LuminanceAdjustmentAqua | 0 |
LuminanceAdjustmentBlue | 0 |
LuminanceAdjustmentGreen | 0 |
LuminanceAdjustmentMagenta | 0 |
LuminanceAdjustmentOrange | 0 |
LuminanceAdjustmentPurple | 0 |
LuminanceAdjustmentRed | 0 |
LuminanceAdjustmentYellow | 0 |
LuminanceNoiseReductionContrast | 0 |
LuminanceNoiseReductionDetail | 33 |
LuminanceSmoothing | 42 |
Make | NIKON CORPORATION |
MaxApertureValue | 2.8 |
Megapixels | 2.2 |
MeteringMode | Center-weighted average |
Model | NIKON D600 |
ModifyDate (1) | 2013:01:15 23:33:37+01:00 |
ModifyDate | 2013:01:15 23:33:37 |
Orientation | Horizontal (normal) |
PaintCorrectionActive | true |
PaintCorrectionAmount | 1.000000 |
PaintCorrectionBrightness | 0.000000 |
PaintCorrectionClarity | 0.000000 |
PaintCorrectionClarity2012 | -0.130000 |
PaintCorrectionContrast | 0.000000 |
PaintCorrectionContrast2012 | 0.270000 |
PaintCorrectionDefringe | 0.000000 |
PaintCorrectionExposure | 0.000000 |
PaintCorrectionExposure2012 | -0.862500 |
PaintCorrectionHighlights2012 | 0.100000 |
PaintCorrectionHue | 269.000000 |
PaintCorrectionLuminanceNoise | 0.000000 |
PaintCorrectionMaskCenterWeight (1) | 0.105656 |
PaintCorrectionMaskCenterWeight (3) | 1.000000 |
PaintCorrectionMaskCenterWeight | 0.362855 |
PaintCorrectionMaskFlow (2) | 0.975037 |
PaintCorrectionMaskFlow | 0.888889 |
PaintCorrectionMaskRadius (2) | 0.056309 |
PaintCorrectionMaskRadius (3) | 0.018657 |
PaintCorrectionMaskRadius | 0.022436 |
PaintCorrectionMaskValue (2) | 1.000000 |
PaintCorrectionMaskValue | 0.000000 |
PaintCorrectionMaskWhat | Mask/Paint |
PaintCorrectionMoire | 0.000000 |
PaintCorrectionSaturation (1) | 0.040000 |
PaintCorrectionSaturation | 0.000000 |
PaintCorrectionShadows2012 | -0.820000 |
PaintCorrectionSharpness | 0.000000 |
PaintCorrectionTemperature | 0.030000 |
PaintCorrectionTint | 0.680000 |
PaintCorrectionWhat | Correction |
ParametricDarks | 0 |
ParametricHighlights | 0 |
ParametricHighlightSplit | 75 |
ParametricLights | 0 |
ParametricMidtoneSplit | 50 |
ParametricShadows | 0 |
ParametricShadowSplit | 25 |
PerspectiveHorizontal | 0 |
PerspectiveRotate | 0.0 |
PerspectiveScale | 100 |
PerspectiveVertical | 0 |
PostCropVignetteAmount | 0 |
ProcessVersion | 6.7 |
ProfileDescription | Adobe RGB (1998) |
Rating | 0 |
RawFileName | _BDS0310.NEF |
RedHue | 0 |
RedSaturation | 0 |
Rights | Zoltan ToT |
Saturation (1) | 0 |
Saturation | Normal |
SaturationAdjustmentAqua | 0 |
SaturationAdjustmentBlue | 0 |
SaturationAdjustmentGreen | 0 |
SaturationAdjustmentMagenta | 0 |
SaturationAdjustmentOrange | 0 |
SaturationAdjustmentPurple | 0 |
SaturationAdjustmentRed | 0 |
SaturationAdjustmentYellow | 0 |
ScaleFactor35efl | 1.0 |
SceneCaptureType | Standard |
SceneType | Directly photographed |
SensingMethod | One-chip color area |
SensitivityType | Recommended Exposure Index |
SerialNumber | 6015639 |
Shadows2012 | +17 |
ShadowTint | 0 |
SharpenDetail | 25 |
SharpenEdgeMasking | 0 |
SharpenRadius | +1.0 |
Sharpness (1) | 8 |
Sharpness | Normal |
ShutterSpeed | 5 |
ShutterSpeedValue | 5 |
Software | Adobe Photoshop CS6 (Macintosh) |
SplitToningBalance | 0 |
SplitToningHighlightHue | 0 |
SplitToningHighlightSaturation | 0 |
SplitToningShadowHue | 0 |
SplitToningShadowSaturation | 0 |
SubjectDistanceRange | Unknown |
Tint | -1 |
ToneCurveName2012 | Linear |
ToneCurvePV2012 | 0, 0, 255, 255 |
ToneCurvePV2012Blue | 0, 0, 255, 255 |
ToneCurvePV2012Green | 0, 0, 255, 255 |
ToneCurvePV2012Red | 0, 0, 255, 255 |
URL_List | |
Version | 7.3 |
Vibrance | +43 |
VignetteAmount | 0 |
WhiteBalance (1) | Custom |
WhiteBalance | Manual |
Whites2012 | 0 |