Felt | Verdi |
AlreadyApplied | True |
Aperture | 2.8 |
ApertureValue | 2.8 |
ApproximateFocusDistance | 0.51 |
Artist | Helge Lund |
AutoLateralCA | 0 |
BitsPerSample | 8 |
Blacks2012 | +32 |
BlueHue | 0 |
BlueSaturation | 0 |
By-line | Helge Lund |
CameraProfile | Adobe Standard |
CircleOfConfusion | 0.019 mm |
Clarity2012 | -100 |
ColorComponents | 3 |
ColorNoiseReduction | 25 |
ColorNoiseReductionDetail | 50 |
ColorTemperature | 3950 |
Contrast2012 | +100 |
ConvertToGrayscale | True |
Copyright | Helge Lund |
CopyrightFlag | True |
CopyrightNotice | Helge Lund |
CreateDate (1) | 2012:11:03 18:07:56.00 |
CreateDate | 2012:11:03 18:07:56 |
Creator | Helge Lund |
CreatorCountry | Norway |
CreatorTool | Adobe Photoshop Lightroom 4.3 (Macintosh) |
CreatorWorkEmail | helu00@gmail.com |
CustomRendered | Normal |
DateCreated (1) | 2012:11:03 |
DateCreated | 2012:11:03 18:07:56.00 |
DateTimeOriginal | 2012:11:03 18:07:56 |
DOF | 0.007 m (0.506 - 0.514 m) |
Exposure2012 | +0.83 |
ExposureCompensation | 0 |
ExposureMode | Auto |
ExposureProgram | Program AE |
ExposureTime | 1/20 |
Firmware | 2.0.0 |
Flash | Off, Did not fire |
FlashCompensation | 0 |
FNumber | 2.8 |
FocalLength | 59.0 mm |
FocalLength35efl | 59.0 mm (35 mm equivalent: 92.6 mm) |
Format | image/jpeg |
FOV | 22.0 deg |
GrainAmount | 0 |
GrayMixerAqua | +88 |
GrayMixerBlue | +45 |
GrayMixerGreen | -13 |
GrayMixerMagenta | +11 |
GrayMixerOrange | +10 |
GrayMixerPurple | +8 |
GrayMixerRed | +24 |
GrayMixerYellow | -6 |
GreenHue | 0 |
GreenSaturation | 0 |
HasCrop | False |
HasSettings | True |
Highlights2012 | -90 |
HyperfocalDistance | 64.98 m |
ImageHeight | 683 |
ImageNumber | 0 |
ImageSize | 1024x683 |
ImageWidth | 1024 |
ISO | 1000 |
Lens | EF24-70mm f/2.8L USM |
LensID (1) | 230 |
LensID | Canon EF 24-70mm f/2.8L USM |
LensInfo | 24-70mm f/? |
LensManualDistortionAmount | 0 |
LensModel | EF24-70mm f/2.8L USM |
LensProfileEnable | 0 |
LensProfileSetup | LensDefaults |
LightValue | 4.0 |
LuminanceNoiseReductionContrast | 0 |
LuminanceNoiseReductionDetail | 50 |
LuminanceSmoothing | 31 |
Make | Canon |
Marked | True |
MaxApertureValue | 2.8 |
Megapixels | 0.699 |
MeteringMode | Multi-segment |
Model | Canon EOS 7D |
ModifyDate (1) | 2012:12:31 21:37:46+01:00 |
ModifyDate | 2012:12:31 21:37:46 |
OwnerName | Helge Lund |
PaintCorrectionActive | true |
PaintCorrectionAmount | 1.000000 |
PaintCorrectionBrightness | 0.000000 |
PaintCorrectionClarity2012 (1) | 0.000000 |
PaintCorrectionClarity2012 | 0.653968 |
PaintCorrectionContrast2012 (1) | 0.492188 |
PaintCorrectionContrast2012 | 0.000000 |
PaintCorrectionDefringe (1) | 0.000000 |
PaintCorrectionDefringe | -1.000000 |
PaintCorrectionExposure2012 (1) | -0.236049 |
PaintCorrectionExposure2012 | 0.000000 |
PaintCorrectionHighlights2012 | 0.000000 |
PaintCorrectionHue | 0.000000 |
PaintCorrectionLuminanceNoise (1) | 0.000000 |
PaintCorrectionLuminanceNoise | 0.749737 |
PaintCorrectionMaskCenterWeight | 0.036450 |
PaintCorrectionMaskFlow | 0.990000 |
PaintCorrectionMaskRadius (1) | 0.044631 |
PaintCorrectionMaskRadius | 0.017510 |
PaintCorrectionMaskValue | 1.000000 |
PaintCorrectionMaskWhat | Mask/Paint |
PaintCorrectionMoire (1) | 0.000000 |
PaintCorrectionMoire | 0.728230 |
PaintCorrectionSaturation | 0.000000 |
PaintCorrectionShadows2012 | 0.000000 |
PaintCorrectionSharpness (1) | 0.042749 |
PaintCorrectionSharpness | -1.000000 |
PaintCorrectionTemperature | 0.000000 |
PaintCorrectionTint | 0.000000 |
PaintCorrectionWhat | Correction |
ParametricDarks | +81 |
ParametricHighlights | 0 |
ParametricHighlightSplit | 75 |
ParametricLights | +100 |
ParametricMidtoneSplit | 50 |
ParametricShadows | +100 |
ParametricShadowSplit | 25 |
PerspectiveHorizontal | 0 |
PerspectiveRotate | 0.0 |
PerspectiveScale | 100 |
PerspectiveVertical | 0 |
PostCropVignetteAmount | -69 |
PostCropVignetteFeather | 95 |
PostCropVignetteHighlightContrast | 0 |
PostCropVignetteMidpoint | 31 |
PostCropVignetteRoundness | 0 |
PostCropVignetteStyle | 1 |
ProcessVersion | 6.7 |
ProfileDescription | sRGB IEC61966-2.1 |
RecommendedExposureIndex | 1000 |
RedHue | 0 |
RedSaturation | 0 |
Rights | Helge Lund |
ScaleFactor35efl | 1.6 |
SceneCaptureType | Standard |
SensitivityType | Recommended Exposure Index |
SerialNumber | 1480820608 |
Shadows2012 | +42 |
ShadowTint | 0 |
SharpenDetail | 25 |
SharpenEdgeMasking | 0 |
SharpenRadius | +1.0 |
Sharpness | 25 |
ShutterSpeed | 1/20 |
ShutterSpeedValue | 1/20 |
Software | Adobe Photoshop Lightroom 4.3 (Macintosh) |
SplitToningBalance | -85 |
SplitToningHighlightHue | 0 |
SplitToningHighlightSaturation | 24 |
SplitToningShadowHue | 54 |
SplitToningShadowSaturation | 24 |
Tint | +2 |
ToneCurveName2012 | Linear |
ToneCurvePV2012 | 0, 0, 255, 255 |
ToneCurvePV2012Blue | 0, 0, 255, 255 |
ToneCurvePV2012Green | 0, 0, 255, 255 |
ToneCurvePV2012Red | 0, 0, 255, 255 |
Version | 7.3 |
VignetteAmount | 0 |
WhiteBalance (1) | As Shot |
WhiteBalance | Auto |
Whites2012 | -13 |