Felt | Verdi |
3731 Skien |
AlreadyApplied | True |
Aperture | 10.0 |
ApertureValue | 10.0 |
Artist | Tormod Malmgren |
AutoLateralCA | 0 |
BitsPerSample | 8 |
Blacks2012 | 0 |
BlueHue | 0 |
BlueSaturation | 0 |
By-line | Tormod Malmgren |
CameraProfile | Adobe Standard |
Caption-Abstract | Photoshoot på julepyntet kjøkken med min datter Malin og svigersønn Andreas. Testing av nyinnkjøpt softbox |
CircleOfConfusion | 0.019 mm |
City | Skien |
Clarity2012 | -8 |
ColorClass | 1 (Winner) |
ColorComponents | 3 |
ColorNoiseReduction | 25 |
ColorNoiseReductionDetail | 50 |
ColorTemperature | 6900 |
Contrast2012 | +7 |
ConvertToGrayscale | False |
Copyright | All rights: Tormod Malmgren |
CopyrightFlag | True |
CopyrightNotice | All rights: Tormod Malmgren |
Country | Norway |
Country-PrimaryLocationName | Norway |
CreateDate (1) | 2012:12:13 23:07:27.00 |
CreateDate | 2012:12:13 23:07:27 |
Creator | Tormod Malmgren |
CreatorAddress | Åfossringen 11,
CreatorCity | Skien |
CreatorCountry | Norway |
CreatorTool | Adobe Photoshop Camera Raw 7.2 (Macintosh) |
CreatorWorkEmail | tormod.malmgren@gmail.com |
CreatorWorkTelephone | +4792221621 |
CreatorWorkURL | http://tormodmalmgren.zenfolio.com
CropAngle | 0 |
CropBottom | 1 |
CropConstrainToWarp | 0 |
CropImageHeight | 3456 |
CropImageWidth | 5184 |
CropLeft | 0.003071 |
CropRight | 0.957217 |
CropTop | 0.003104 |
CustomRendered | Normal |
DateCreated (1) | 2012:12:13 |
DateCreated | 2012:12:13 23:07:27+01:00 |
DateTimeOriginal | 2012:12:13 23:07:27 |
DefringeGreenAmount | 0 |
DefringeGreenHueHi | 60 |
DefringeGreenHueLo | 40 |
DefringePurpleAmount | 0 |
DefringePurpleHueHi | 70 |
DefringePurpleHueLo | 30 |
Description | Photoshoot på julepyntet kjøkken med min datter Malin og svigersønn Andreas. Testing av nyinnkjøpt softbox |
Event | Test av Softbox |
Exposure2012 | -0.30 |
ExposureCompensation | 0 |
ExposureMode | Manual |
ExposureProgram | Manual |
ExposureTime | 1/100 |
Firmware | 1.0.9 |
Flash | On, Fired |
FlashCompensation | 0 |
FNumber | 10.0 |
FocalLength | 50.0 mm |
FocalLength35efl | 50.0 mm (35 mm equivalent: 78.5 mm) |
Format | image/jpeg |
FOV | 25.8 deg |
GrainAmount | 0 |
GreenHue | 0 |
GreenSaturation | 0 |
HasCrop | True |
HasSettings | True |
Highlights2012 | +32 |
HueAdjustmentAqua | 0 |
HueAdjustmentBlue | 0 |
HueAdjustmentGreen | 0 |
HueAdjustmentMagenta | 0 |
HueAdjustmentOrange | 0 |
HueAdjustmentPurple | 0 |
HueAdjustmentRed | 0 |
HueAdjustmentYellow | 0 |
HyperfocalDistance | 13.07 m |
ImageDescription | Photoshoot på julepyntet kjøkken med min datter Malin og svigersønn Andreas. Testing av nyinnkjøpt softbox |
ImageHeight | 3445 |
ImageNumber | 0 |
ImageSize | 4946x3445 |
ImageWidth | 4946 |
ISO | 200 |
Keywords | face, portret |
Label | Winner 1 |
Lens | EF50mm f/1.4 USM |
LensID (1) | 198 |
LensID | Canon EF 50mm f/1.4 USM |
LensInfo | 50mm f/? |
LensManualDistortionAmount | 0 |
LensModel | EF50mm f/1.4 USM |
LensProfileEnable | 0 |
LensProfileSetup | LensDefaults |
LightValue | 12.3 |
Location | Åfossringen 11 |
LuminanceAdjustmentAqua | 0 |
LuminanceAdjustmentBlue | 0 |
LuminanceAdjustmentGreen | 0 |
LuminanceAdjustmentMagenta | 0 |
LuminanceAdjustmentOrange | 0 |
LuminanceAdjustmentPurple | 0 |
LuminanceAdjustmentRed | 0 |
LuminanceAdjustmentYellow | 0 |
LuminanceSmoothing | 0 |
Make | Canon |
Marked | True |
MaxApertureValue | 1.4 |
Megapixels | 17.0 |
MeteringMode | Spot |
Model | Canon EOS 7D |
ModifyDate (1) | 2012:12:12 23:53:08+01:00 |
ModifyDate | 2012:12:12 23:53:08 |
ParametricDarks | 0 |
ParametricHighlights | 0 |
ParametricHighlightSplit | 75 |
ParametricLights | 0 |
ParametricMidtoneSplit | 50 |
ParametricShadows | 0 |
ParametricShadowSplit | 25 |
PersonInImage | Malin og Andreas MAlmgren Johannessen |
PerspectiveHorizontal | 0 |
PerspectiveRotate | 0.0 |
PerspectiveScale | 100 |
PerspectiveVertical | 0 |
PMVersion | PM5 |
PostCropVignetteAmount | 0 |
Prefs | Tagged:0, ColorClass:1, Rating:4, FrameNum:001139 |
ProcessVersion | 6.7 |
ProfileDescription | sRGB IEC61966-2.1 |
Rating | 4 |
RawFileName | IMG_1139.CR2 |
RedHue | 0 |
RedSaturation | 0 |
Rights | All rights: Tormod Malmgren |
Saturation | 0 |
SaturationAdjustmentAqua | 0 |
SaturationAdjustmentBlue | 0 |
SaturationAdjustmentGreen | 0 |
SaturationAdjustmentMagenta | 0 |
SaturationAdjustmentOrange | 0 |
SaturationAdjustmentPurple | 0 |
SaturationAdjustmentRed | 0 |
SaturationAdjustmentYellow | 0 |
ScaleFactor35efl | 1.6 |
SceneCaptureType | Standard |
SerialNumber | 280318944 |
Shadows2012 | +8 |
ShadowTint | 0 |
SharpenDetail | 25 |
SharpenEdgeMasking | 0 |
SharpenRadius | +1.1 |
Sharpness | 78 |
ShutterSpeed | 1/100 |
ShutterSpeedValue | 1/100 |
Software | Adobe Photoshop Camera Raw 7.2 (Macintosh) |
SplitToningBalance | 0 |
SplitToningHighlightHue | 0 |
SplitToningHighlightSaturation | 0 |
SplitToningShadowHue | 0 |
SplitToningShadowSaturation | 0 |
Sub-location | Åfossringen 11 |
Subject | face, portret |
Tagged | No |
Tint | +10 |
ToneCurveName2012 | Custom |
ToneCurvePV2012 | 0, 0, 67, 62, 255, 255 |
ToneCurvePV2012Blue | 0, 0, 255, 255 |
ToneCurvePV2012Green | 0, 0, 255, 255 |
ToneCurvePV2012Red | 0, 0, 255, 255 |
Version | 7.2 |
Vibrance | -4 |
VignetteAmount | 0 |
WhiteBalance (1) | Custom |
WhiteBalance | Manual |
Whites2012 | +4 |