Felt | Verdi |
AlreadyApplied | True |
Aperture | 5.6 |
ApertureValue | 5.6 |
ApproximateFocusDistance | 4294967295 |
AutoLateralCA | 0 |
BitsPerSample | 8 |
Blacks2012 | 0 |
BlueHue | 0 |
BlueSaturation | 0 |
CameraProfile | Adobe Standard |
CFAPattern | [Red,Green][Green,Blue] |
CircleOfConfusion | 0.030 mm |
Clarity2012 | +36 |
ColorComponents | 3 |
ColorNoiseReduction | 25 |
ColorNoiseReductionDetail | 50 |
ColorTemperature | 3651 |
Contrast | Normal |
Contrast2012 | 0 |
ConvertToGrayscale | False |
CreateDate (1) | 2013:01:18 23:40:07.00 |
CreateDate | 2013:01:18 23:40:07 |
CreatorTool | Adobe Photoshop Lightroom 4.3 (Windows) |
CropAngle | -0.125312 |
CropBottom | 0.996734 |
CropConstrainToWarp | 0 |
CropHeight | 801 |
CropLeft | 0.000906 |
CropRight | 0.999094 |
CropTop | 0.003266 |
CropUnit | pixels |
CropWidth | 1200 |
CustomRendered | Normal |
DateCreated (1) | 2013:01:18 |
DateCreated | 2013:01:18 23:40:07.00 |
DateTimeOriginal | 2013:01:18 23:40:07 |
DefringeGreenAmount | 0 |
DefringeGreenHueHi | 60 |
DefringeGreenHueLo | 40 |
DefringePurpleAmount | 0 |
DefringePurpleHueHi | 70 |
DefringePurpleHueLo | 30 |
DigitalZoomRatio | 1 |
DOF | inf (1.16 m - inf) |
Exposure2012 | 0.00 |
ExposureCompensation | -5/3 |
ExposureMode | Manual |
ExposureProgram | Manual |
ExposureTime | 842 |
Flash | Off, Did not fire |
FNumber | 5.6 |
FocalLength | 14.0 mm |
FocalLength35efl | 14.0 mm (35 mm equivalent: 14.0 mm) |
FocalLengthIn35mmFormat | 14 mm |
Format | image/jpeg |
FOV | 104.3 deg |
GainControl | Low gain up |
GradientBasedCorrActive | true |
GradientBasedCorrAmount | 1.000000 |
GradientBasedCorrBrightness | 0.000000 |
GradientBasedCorrClarity2012 (1) | 0.370370 |
GradientBasedCorrClarity2012 | 0.407410 |
GradientBasedCorrContrast2012 (1) | 0.277780 |
GradientBasedCorrContrast2012 (2) | 0.000000 |
GradientBasedCorrContrast2012 | 0.462960 |
GradientBasedCorrDefringe | 0.000000 |
GradientBasedCorrExposure2012 (1) | -0.092500 |
GradientBasedCorrExposure2012 (2) | 0.092500 |
GradientBasedCorrExposure2012 | 0.037000 |
GradientBasedCorrHighlights2012 (1) | -0.055560 |
GradientBasedCorrHighlights2012 | 0.000000 |
GradientBasedCorrHue | 37.000000 |
GradientBasedCorrLuminanceNoise | 0.000000 |
GradientBasedCorrMaskFullX (1) | 0.280612 |
GradientBasedCorrMaskFullX (2) | 0.438007 |
GradientBasedCorrMaskFullX | 0.191621 |
GradientBasedCorrMaskFullY (1) | 0.524665 |
GradientBasedCorrMaskFullY (2) | 0.735788 |
GradientBasedCorrMaskFullY | 0.258809 |
GradientBasedCorrMaskValue | 1.000000 |
GradientBasedCorrMaskWhat | Mask/Gradient |
GradientBasedCorrMaskZeroX (1) | 0.280780 |
GradientBasedCorrMaskZeroX (2) | 0.436015 |
GradientBasedCorrMaskZeroX | 0.158888 |
GradientBasedCorrMaskZeroY (1) | 0.731668 |
GradientBasedCorrMaskZeroY (2) | 0.512655 |
GradientBasedCorrMaskZeroY | 0.526156 |
GradientBasedCorrMoire | 0.000000 |
GradientBasedCorrSaturation (1) | 0.351850 |
GradientBasedCorrSaturation (3) | 0.111110 |
GradientBasedCorrSaturation | 0.000000 |
GradientBasedCorrShadows2012 (2) | 0.759260 |
GradientBasedCorrShadows2012 | 0.000000 |
GradientBasedCorrSharpness | 0.000000 |
GradientBasedCorrTemperature (1) | 0.092590 |
GradientBasedCorrTemperature (2) | 0.148150 |
GradientBasedCorrTemperature | 0.000000 |
GradientBasedCorrTint | 0.000000 |
GradientBasedCorrWhat | Correction |
GrainAmount | 0 |
GreenHue | 0 |
GreenSaturation | 0 |
HasCrop | True |
HasSettings | True |
Highlights2012 | 0 |
HueAdjustmentAqua | 0 |
HueAdjustmentBlue | +10 |
HueAdjustmentGreen | 0 |
HueAdjustmentMagenta | 0 |
HueAdjustmentOrange | 0 |
HueAdjustmentPurple | 0 |
HueAdjustmentRed | 0 |
HueAdjustmentYellow | 0 |
HyperfocalDistance | 1.16 m |
ImageHeight | 801 |
ImageNumber | 87 |
ImageSize | 1200x801 |
ImageWidth | 1200 |
ISO | 400 |
Lens | 14.0-24.0 mm f/2.8 |
LensID (1) | 146 |
LensID | AF-S Zoom-Nikkor 14-24mm f/2.8G ED |
LensInfo | 14-24mm f/2.8 |
LensManualDistortionAmount | 0 |
LensModel | 14.0-24.0 mm f/2.8 |
LensProfileChromaticAberrationScale | 100 |
LensProfileDistortionScale | 100 |
LensProfileEnable | 1 |
LensProfileFilename | NIKON D3X (Nikon FX 14-24mm f2.8 G ED) - RAW.lcp |
LensProfileName | Adobe (Nikon AF-S NIKKOR 14-24mm f/2.8G ED) |
LensProfileSetup | LensDefaults |
LensProfileVignettingScale | 100 |
LightSource | Unknown |
LightValue | -6.7 |
LuminanceAdjustmentAqua | 0 |
LuminanceAdjustmentBlue | -21 |
LuminanceAdjustmentGreen | 0 |
LuminanceAdjustmentMagenta | 0 |
LuminanceAdjustmentOrange | 0 |
LuminanceAdjustmentPurple | 0 |
LuminanceAdjustmentRed | 0 |
LuminanceAdjustmentYellow | 0 |
LuminanceNoiseReductionContrast | 0 |
LuminanceNoiseReductionDetail | 50 |
LuminanceSmoothing | 20 |
Make | NIKON CORPORATION |
MaxApertureValue | 2.8 |
Megapixels | 0.961 |
MeteringMode | Multi-segment |
Model | NIKON D800 |
ModifyDate (1) | 2013:01:19 11:32:02+01:00 |
ModifyDate | 2013:01:19 11:32:02 |
PaintCorrectionActive | true |
PaintCorrectionAmount | 1.000000 |
PaintCorrectionBrightness | 0.000000 |
PaintCorrectionClarity2012 | 0.000000 |
PaintCorrectionContrast2012 | 0.000000 |
PaintCorrectionDefringe | 0.000000 |
PaintCorrectionExposure2012 (1) | -0.018500 |
PaintCorrectionExposure2012 (3) | 0.129750 |
PaintCorrectionExposure2012 | 0.000000 |
PaintCorrectionHighlights2012 | 0.000000 |
PaintCorrectionHue | 37.000000 |
PaintCorrectionLuminanceNoise | 0.000000 |
PaintCorrectionMaskCenterWeight | 0.007274 |
PaintCorrectionMaskFlow | 0.874000 |
PaintCorrectionMaskRadius (10) | 0.056491 |
PaintCorrectionMaskRadius (11) | 0.054289 |
PaintCorrectionMaskRadius (12) | 0.056641 |
PaintCorrectionMaskRadius (13) | 0.038913 |
PaintCorrectionMaskRadius (14) | 0.038305 |
PaintCorrectionMaskRadius (15) | 0.030550 |
PaintCorrectionMaskRadius (16) | 0.021375 |
PaintCorrectionMaskRadius (2) | 0.025051 |
PaintCorrectionMaskRadius (3) | 0.062790 |
PaintCorrectionMaskRadius (4) | 0.142295 |
PaintCorrectionMaskRadius (7) | 0.130675 |
PaintCorrectionMaskRadius (8) | 0.137102 |
PaintCorrectionMaskRadius (9) | 0.139596 |
PaintCorrectionMaskRadius | 0.021179 |
PaintCorrectionMaskValue | 1.000000 |
PaintCorrectionMaskWhat | Mask/Paint |
PaintCorrectionMoire | 0.000000 |
PaintCorrectionSaturation (1) | -0.185190 |
PaintCorrectionSaturation (3) | 0.222220 |
PaintCorrectionSaturation | 0.000000 |
PaintCorrectionShadows2012 (3) | 0.000000 |
PaintCorrectionShadows2012 | 0.259260 |
PaintCorrectionSharpness | 0.000000 |
PaintCorrectionTemperature (1) | -0.388890 |
PaintCorrectionTemperature (3) | 0.000000 |
PaintCorrectionTemperature | -0.055560 |
PaintCorrectionTint | 0.000000 |
PaintCorrectionWhat | Correction |
ParametricDarks | 0 |
ParametricHighlights | 0 |
ParametricHighlightSplit | 75 |
ParametricLights | 0 |
ParametricMidtoneSplit | 50 |
ParametricShadows | 0 |
ParametricShadowSplit | 25 |
PerspectiveHorizontal | 0 |
PerspectiveRotate | 0.0 |
PerspectiveScale | 100 |
PerspectiveVertical | 0 |
PostCropVignetteAmount | 0 |
ProcessVersion | 6.7 |
ProfileDescription | sRGB IEC61966-2.1 |
RedHue | 0 |
RedSaturation | 0 |
Saturation (1) | 0 |
Saturation | Normal |
SaturationAdjustmentAqua | 0 |
SaturationAdjustmentBlue | 0 |
SaturationAdjustmentGreen | 0 |
SaturationAdjustmentMagenta | 0 |
SaturationAdjustmentOrange | 0 |
SaturationAdjustmentPurple | 0 |
SaturationAdjustmentRed | 0 |
SaturationAdjustmentYellow | 0 |
ScaleFactor35efl | 1.0 |
SceneCaptureType | Standard |
SceneType | Directly photographed |
SensingMethod | One-chip color area |
SensitivityType | Recommended Exposure Index |
SerialNumber | 6084072 |
Shadows2012 | 0 |
ShadowTint | 0 |
SharpenDetail | 25 |
SharpenEdgeMasking | 21 |
SharpenRadius | +1.0 |
Sharpness (1) | 96 |
Sharpness | Normal |
ShutterSpeed | 842 |
ShutterSpeedValue | 842 |
Software | Adobe Photoshop Lightroom 4.3 (Windows) |
SplitToningBalance | 0 |
SplitToningHighlightHue | 0 |
SplitToningHighlightSaturation | 0 |
SplitToningShadowHue | 0 |
SplitToningShadowSaturation | 0 |
SubjectDistanceRange | Unknown |
Tint | +10 |
ToneCurveName2012 | Linear |
ToneCurvePV2012 | 0, 0, 255, 255 |
ToneCurvePV2012Blue | 0, 0, 255, 255 |
ToneCurvePV2012Green | 0, 0, 255, 255 |
ToneCurvePV2012Red | 0, 0, 255, 255 |
Version | 7.3 |
Vibrance | +28 |
VignetteAmount | 0 |
WhiteBalance (1) | Custom |
WhiteBalance | Auto |
Whites2012 | 0 |