Felt | Verdi |
AlreadyApplied | True |
Aperture | 14.0 |
ApertureValue | 14.0 |
ApproximateFocusDistance | 3.72 |
Artist | Photographer: Tobias Maethlau |
BitsPerSample | 8 |
BlueHue | 0 |
BlueSaturation | 0 |
Brightness | +13 |
By-line | Photographer: Tobias Maethlau
CameraProfile | Adobe Standard |
ChromaticAberrationB | 0 |
ChromaticAberrationR | 0 |
CircleOfConfusion | 0.031 mm |
Clarity | +78 |
ColorComponents | 3 |
ColorNoiseReduction | 79 |
ColorNoiseReductionDetail | 50 |
ColorTemperature | 4839 |
Contrast | +34 |
ConvertToGrayscale | True |
Copyright | Copyright: Tobias Maethlau |
CopyrightNotice | Copyright: Tobias Maethlau |
CreateDate (1) | 2011:12:28 16:54:37.09 |
CreateDate | 2011:12:28 16:54:37 |
Creator | Photographer: Tobias Maethlau
CreatorTool | Adobe Photoshop Lightroom 3.6 (Windows) |
CropAngle | -1.8 |
CropBottom | 0.741723 |
CropConstrainToWarp | 0 |
CropHeight | 893 |
CropLeft | 0 |
CropRight | 0.998315 |
CropTop | 0.128982 |
CropUnit | pixels |
CropWidth | 2000 |
CustomRendered | Normal |
DateCreated (1) | 2011:12:28 |
DateCreated | 2011:12:28 16:54:37.09 |
DateTimeOriginal | 2011:12:28 16:54:37 |
Defringe | 0 |
DOF | inf (0.57 m - inf) |
Exposure | -0.03 |
ExposureCompensation | +5/3 |
ExposureMode | Auto |
ExposureProgram | Aperture-priority AE |
ExposureTime | 13 |
FillLight | 12 |
Firmware | 2.1.1 |
Flash | Off, Did not fire |
FlashCompensation | 0 |
FNumber | 14.0 |
FocalLength | 17.0 mm |
FocalLength35efl | 17.0 mm (35 mm equivalent: 16.6 mm) |
Format | image/jpeg |
FOV | 94.7 deg |
GradientBasedCorrActive | true |
GradientBasedCorrAmount | 1.000000 |
GradientBasedCorrBrightness | -0.112500 |
GradientBasedCorrClarity | 0.887500 |
GradientBasedCorrContrast | 0.600000 |
GradientBasedCorrExposure | -0.425000 |
GradientBasedCorrHue | 240.000000 |
GradientBasedCorrMaskFullX | 0.417975 |
GradientBasedCorrMaskFullY | 0.340115 |
GradientBasedCorrMaskValue | 1.000000 |
GradientBasedCorrMaskWhat | Mask/Gradient |
GradientBasedCorrMaskZeroX | 0.423304 |
GradientBasedCorrMaskZeroY | 0.629411 |
GradientBasedCorrSaturation | 0.000000 |
GradientBasedCorrSharpness | 0.687500 |
GradientBasedCorrWhat | Correction |
GrainAmount | 0 |
GrayMixerAqua | -14 |
GrayMixerBlue | +16 |
GrayMixerGreen | -27 |
GrayMixerMagenta | +2 |
GrayMixerOrange | -21 |
GrayMixerPurple | +18 |
GrayMixerRed | -12 |
GrayMixerYellow | -25 |
GreenHue | 0 |
GreenSaturation | 0 |
HasCrop | True |
HasSettings | True |
HighlightRecovery | 70 |
HyperfocalDistance | 0.67 m |
ImageHeight | 893 |
ImageNumber | 0 |
ImageSize | 2000x893 |
ImageWidth | 2000 |
ISO | 160 |
Lens | EF17-40mm f/4L USM |
LensID (1) | 231 |
LensID | Canon EF 17-40mm f/4L USM |
LensInfo | 17-40mm f/? |
LensManualDistortionAmount | 0 |
LensModel | EF17-40mm f/4L USM |
LensProfileChromaticAberrationScale | 100 |
LensProfileDistortionScale | 100 |
LensProfileEnable | 1 |
LensProfileFilename | Canon EOS-1D Mark III (Canon EF 17-40mm f4 L USM) - RAW.lcp |
LensProfileName | Canon EOS-1D Mark III (Canon EF 17-40mm f/4 L USM) |
LensProfileSetup | Custom |
LensProfileVignettingScale | 100 |
LightValue | 3.2 |
LuminanceNoiseReductionContrast | 85 |
LuminanceNoiseReductionDetail | 50 |
LuminanceSmoothing | 12 |
Make | Canon |
MaxApertureValue | 4.0 |
Megapixels | 1.8 |
MeteringMode | Multi-segment |
Model | Canon EOS 5D Mark II |
ModifyDate (1) | 2012:01:28 13:53:01+01:00 |
ModifyDate | 2012:01:28 13:53:01 |
OwnerName | Tobias Maethlau |
ParametricDarks | +41 |
ParametricHighlights | +47 |
ParametricHighlightSplit | 75 |
ParametricLights | -11 |
ParametricMidtoneSplit | 50 |
ParametricShadows | +71 |
ParametricShadowSplit | 25 |
PerspectiveHorizontal | 0 |
PerspectiveRotate | 0.0 |
PerspectiveScale | 100 |
PerspectiveVertical | 0 |
PostCropVignetteAmount | 0 |
ProcessVersion | 5.7 |
ProfileDescription | sRGB IEC61966-2.1 |
RedHue | 0 |
RedSaturation | 0 |
Rights | Copyright: Tobias Maethlau |
ScaleFactor35efl | 1.0 |
SceneCaptureType | Standard |
SerialNumber | 3431625079 |
Shadows | 5 |
ShadowTint | 0 |
SharpenDetail | 25 |
SharpenEdgeMasking | 0 |
SharpenRadius | +1.0 |
Sharpness | 63 |
ShutterSpeed | 13 |
ShutterSpeedValue | 13 |
Software | Adobe Photoshop Lightroom 3.6 (Windows) |
SplitToningBalance | -66 |
SplitToningHighlightHue | 65 |
SplitToningHighlightSaturation | 77 |
SplitToningShadowHue | 0 |
SplitToningShadowSaturation | 0 |
SubjectDistance | 3.72 m |
Tint | -45 |
ToneCurve | 0, 0, 32, 22, 64, 56, 128, 128, 192, 196, 255, 255 |
ToneCurveName | Medium Contrast |
Version | 6.6 |
VignetteAmount | 0 |
WhiteBalance (1) | Custom |
WhiteBalance | Auto |