Felt | Verdi |
AlreadyApplied | True |
BitsPerSample | 8 |
BlueHue | 0 |
BlueSaturation | +10 |
Brightness | 0 |
CameraProfile | Embedded |
ChromaticAberrationB | 0 |
ChromaticAberrationR | 0 |
Clarity | +66 |
ColorComponents | 1 |
ColorNoiseReduction | 0 |
ColorSpace | Uncalibrated |
Contrast | 0 |
ConvertToGrayscale | True |
CreateDate (1) | 2010:07:11 18:11:31.26+02:00 |
CreateDate | 2010:07:11 18:11:31 |
CreatorTool | Adobe Photoshop Lightroom 3.4 |
CropAngle | 0 |
CropBottom | 0.893462 |
CropConstrainToWarp | 0 |
CropHeight | 2984 |
CropLeft | 0 |
CropRight | 1 |
CropTop | 0.125908 |
CropUnit | pixels |
CropWidth | 2592 |
DateCreated (1) | 2010:07:11 |
DateCreated | 2010:07:11 16:11:31Z |
DateTimeOriginal | 2010:07:11 16:11:31 |
Defringe | 0 |
Exposure | +0.32 |
FillLight | 66 |
Firmware | 1.0.6 |
Flash | Off, Did not fire |
FlashCompensation | 0 |
GrainAmount | 0 |
GrayMixerAqua | -19 |
GrayMixerBlue | +6 |
GrayMixerGreen | -24 |
GrayMixerMagenta | +5 |
GrayMixerOrange | -15 |
GrayMixerPurple | +13 |
GrayMixerRed | -6 |
GrayMixerYellow | -19 |
GreenHue | 0 |
GreenSaturation | -6 |
HasCrop | True |
HasSettings | True |
HighlightRecovery | 0 |
ImageHeight | 2984 |
ImageNumber | 0 |
ImageSize | 2592x2984 |
ImageWidth | 2592 |
IncrementalTemperature | 0 |
IncrementalTint | 0 |
Lens | 18-270mm |
LensInfo | 18-270mm f/? |
LensManualDistortionAmount | 0 |
LensModel | 18-270mm |
LensProfileEnable | 0 |
LensProfileSetup | LensDefaults |
LuminanceSmoothing | 0 |
Megapixels | 7.7 |
ModifyDate (1) | 2013:01:06 00:02:25+01:00 |
ModifyDate | 2013:01:06 00:02:25 |
ParametricDarks | 0 |
ParametricHighlights | -1 |
ParametricHighlightSplit | 75 |
ParametricLights | -33 |
ParametricMidtoneSplit | 50 |
ParametricShadows | 0 |
ParametricShadowSplit | 25 |
PerspectiveHorizontal | 0 |
PerspectiveRotate | 0.0 |
PerspectiveScale | 100 |
PerspectiveVertical | 0 |
PostCropVignetteAmount | 0 |
ProcessVersion | 5.7 |
ProfileDescription | Adobe RGB (1998) |
RedHue | 0 |
RedSaturation | -3 |
SerialNumber | 2050445612 |
Shadows | 70 |
ShadowTint | 0 |
SharpenDetail | 25 |
SharpenEdgeMasking | 0 |
SharpenRadius | +1.0 |
Sharpness | 0 |
Software | Adobe Photoshop Lightroom 3.4 |
SplitToningBalance | 0 |
SplitToningHighlightHue | 0 |
SplitToningHighlightSaturation | 0 |
SplitToningShadowHue | 0 |
SplitToningShadowSaturation | 0 |
ToneCurve | 0, 0, 255, 255 |
ToneCurveName | Linear |
Version | 6.4 |
VignetteAmount | 0 |
WhiteBalance | As Shot |