Felt | Verdi |
AlreadyApplied | True |
Aperture | 6.3 |
ApertureValue | 6.3 |
ApproximateFocusDistance | 38.8 |
Artist | Thor Arne Fredriksen |
AuthorsPosition | Frilans |
AutoLateralCA | 0 |
BitsPerSample | 8 |
Blacks2012 | -30 |
BlueHue | 0 |
BlueSaturation | 0 |
By-line | Thor Arne Fredriksen |
By-lineTitle | Frilans |
CameraProfile | Adobe Standard |
Caption-Abstract | Samme i gammel stil |
CircleOfConfusion | 0.019 mm |
Clarity2012 | 0 |
ColorComponents | 3 |
ColorNoiseReduction | 25 |
ColorNoiseReductionDetail | 50 |
ColorTemperature | 4850 |
Contrast2012 | -50 |
ConvertToGrayscale | True |
Copyright | © Thor Arne Fredriksen |
CopyrightFlag | True |
CopyrightNotice | © Thor Arne Fredriksen |
CreateDate (1) | 2012:12:30 04:51:20.00 |
CreateDate | 2012:12:30 04:51:20 |
Creator | Thor Arne Fredriksen |
CreatorAddress | Grava Terrasse 13F |
CreatorCity | Porsgrunn |
CreatorCountry | Norge |
CreatorPostalCode | N-3940 |
CreatorTool | Adobe Photoshop Lightroom 4.3 (Macintosh) |
CreatorWorkEmail | ta-fred@online.no |
CreatorWorkTelephone | +47 478 35 770 |
CreatorWorkURL | www.flickr.com/photos/thorarnef/ |
CustomRendered | Normal |
DateCreated (1) | 2012:12:30 |
DateCreated | 2012:12:30 04:51:20.00 |
DateTimeOriginal | 2012:12:30 04:51:20 |
Description | Samme i gammel stil |
DOF | 11.65 m (33.83 - 45.48 m) |
Exposure2012 | 0.00 |
ExposureCompensation | 0 |
ExposureMode | Auto |
ExposureProgram | Aperture-priority AE |
ExposureTime | 1/250 |
Firmware | 1.2.5 |
Flash | Off, Did not fire |
FlashCompensation | 0 |
FNumber | 6.3 |
FocalLength | 178.0 mm |
FocalLength35efl | 178.0 mm (35 mm equivalent: 279.5 mm) |
Format | image/jpeg |
FOV | 7.4 deg |
GrainAmount | 0 |
GrayMixerAqua | +66 |
GrayMixerBlue | +32 |
GrayMixerGreen | +34 |
GrayMixerMagenta | +66 |
GrayMixerOrange | 0 |
GrayMixerPurple | 0 |
GrayMixerRed | 0 |
GrayMixerYellow | +68 |
GreenHue | 0 |
GreenSaturation | 0 |
HasCrop | False |
HasSettings | True |
Highlights2012 | 0 |
HyperfocalDistance | 262.85 m |
ImageDescription | Samme i gammel stil |
ImageHeight | 1000 |
ImageNumber | 0 |
ImageSize | 1500x1000 |
ImageWidth | 1500 |
ISO | 100 |
Lens | EF-S18-200mm f/3.5-5.6 IS |
LensID (1) | 50 |
LensID | Canon EF-S 18-200mm f/3.5-5.6 IS |
LensInfo | 18-200mm f/? |
LensManualDistortionAmount | 0 |
LensModel | EF-S18-200mm f/3.5-5.6 IS |
LensProfileEnable | 0 |
LensProfileSetup | LensDefaults |
LightValue | 13.3 |
LuminanceSmoothing | 0 |
Make | Canon |
Marked | True |
MaxApertureValue | 5.7 |
Megapixels | 1.5 |
MeteringMode | Multi-segment |
Model | Canon EOS 7D |
ModifyDate (1) | 2013:01:29 19:44:35+01:00 |
ModifyDate | 2013:01:29 19:44:35 |
ParametricDarks | 0 |
ParametricHighlights | 0 |
ParametricHighlightSplit | 75 |
ParametricLights | 0 |
ParametricMidtoneSplit | 50 |
ParametricShadows | 0 |
ParametricShadowSplit | 25 |
PerspectiveHorizontal | 0 |
PerspectiveRotate | 0.0 |
PerspectiveScale | 100 |
PerspectiveVertical | 0 |
PostCropVignetteAmount | 0 |
ProcessVersion | 6.7 |
ProfileDescription | sRGB IEC61966-2.1 |
Rating | 5 |
RedHue | 0 |
RedSaturation | 0 |
Rights | © Thor Arne Fredriksen |
ScaleFactor35efl | 1.6 |
SceneCaptureType | Standard |
SerialNumber | 2481226276 |
Shadows2012 | 0 |
ShadowTint | 0 |
SharpenDetail | 25 |
SharpenEdgeMasking | 0 |
SharpenRadius | +1.0 |
Sharpness | 25 |
ShutterSpeed | 1/250 |
ShutterSpeedValue | 1/250 |
Software | Adobe Photoshop Lightroom 4.3 (Macintosh) |
SplitToningBalance | 0 |
SplitToningHighlightHue | 52 |
SplitToningHighlightSaturation | 64 |
SplitToningShadowHue | 37 |
SplitToningShadowSaturation | 22 |
Tint | +16 |
ToneCurveName2012 | Linear |
ToneCurvePV2012 | 0, 0, 255, 255 |
ToneCurvePV2012Blue | 0, 0, 255, 255 |
ToneCurvePV2012Green | 0, 0, 255, 255 |
ToneCurvePV2012Red | 0, 0, 255, 255 |
Version | 7.3 |
VignetteAmount | 0 |
WhiteBalance (1) | As Shot |
WhiteBalance | Auto |
Whites2012 | 0 |