Felt | Verdi |
AlreadyApplied | True |
Aperture | 7.1 |
ApertureValue | 7.1 |
ApproximateFocusDistance | 1.97 |
AutoLateralCA | 0 |
BitsPerSample | 8 |
Blacks2012 | -67 |
BlueHue | 0 |
BlueSaturation | 0 |
CameraProfile | Embedded |
CircleOfConfusion | 0.019 mm |
Clarity2012 | +26 |
ColorComponents | 3 |
ColorNoiseReduction | 0 |
Contrast2012 | +61 |
ConvertToGrayscale | False |
CreateDate (1) | 2009:03:07 12:03:25.00 |
CreateDate | 2009:03:07 12:03:25 |
CreatorTool | Adobe Photoshop Lightroom 4.3 (Windows) |
CropAngle | -0.435701 |
CropBottom | 0.988722 |
CropConstrainToWarp | 0 |
CropHeight | 3132 |
CropLeft | 0.003133 |
CropRight | 0.996867 |
CropTop | 0.011278 |
CropUnit | pixels |
CropWidth | 4698 |
CustomRendered | Normal |
DateCreated (1) | 2009:03:07 |
DateCreated | 2009:03:07 12:03:25.00 |
DateTimeOriginal | 2009:03:07 12:03:25 |
DefringeGreenAmount | 0 |
DefringeGreenHueHi | 60 |
DefringeGreenHueLo | 40 |
DefringePurpleAmount | 0 |
DefringePurpleHueHi | 70 |
DefringePurpleHueLo | 30 |
DOF | 20.81 m (1.03 - 21.84 m) |
Exposure2012 | +0.73 |
ExposureCompensation | 0 |
ExposureMode | Auto |
ExposureProgram | Program AE |
ExposureTime | 1/100 |
Firmware | 1.0.3 |
Flash | Off, Did not fire |
FlashCompensation | 0 |
FNumber | 7.1 |
FocalLength | 17.0 mm |
FocalLength35efl | 17.0 mm (35 mm equivalent: 26.9 mm) |
Format | image/jpeg |
FOV | 67.5 deg |
GrainAmount | 0 |
GreenHue | 0 |
GreenSaturation | 0 |
HasCrop | True |
HasSettings | True |
Highlights2012 | -100 |
HueAdjustmentAqua | 0 |
HueAdjustmentBlue | 0 |
HueAdjustmentGreen | 0 |
HueAdjustmentMagenta | 0 |
HueAdjustmentOrange | 0 |
HueAdjustmentPurple | 0 |
HueAdjustmentRed | 0 |
HueAdjustmentYellow | 0 |
HyperfocalDistance | 2.15 m |
ImageHeight | 3132 |
ImageNumber | 0 |
ImageSize | 4698x3132 |
ImageWidth | 4698 |
IncrementalTemperature | 0 |
IncrementalTint | +1 |
ISO | 400 |
Lens | EF-S17-85mm f/4-5.6 IS USM |
LensID (1) | 234 |
LensID | Canon EF-S 17-85mm f/4-5.6 IS USM |
LensInfo | 17-85mm f/? |
LensManualDistortionAmount | 0 |
LensModel | EF-S17-85mm f/4-5.6 IS USM |
LensProfileEnable | 0 |
LensProfileSetup | LensDefaults |
LightValue | 10.3 |
LuminanceAdjustmentAqua | 0 |
LuminanceAdjustmentBlue | 0 |
LuminanceAdjustmentGreen | 0 |
LuminanceAdjustmentMagenta | 0 |
LuminanceAdjustmentOrange | 0 |
LuminanceAdjustmentPurple | 0 |
LuminanceAdjustmentRed | 0 |
LuminanceAdjustmentYellow | 0 |
LuminanceSmoothing | 0 |
Make | Canon |
MaxApertureValue | 4.0 |
Megapixels | 14.7 |
MeteringMode | Spot |
Model | Canon EOS 50D |
ModifyDate (1) | 2013:02:16 10:32:51+01:00 |
ModifyDate | 2013:02:16 10:32:51 |
ParametricDarks | 0 |
ParametricHighlights | 0 |
ParametricHighlightSplit | 75 |
ParametricLights | 0 |
ParametricMidtoneSplit | 50 |
ParametricShadows | 0 |
ParametricShadowSplit | 25 |
PerspectiveHorizontal | 0 |
PerspectiveRotate | 0.0 |
PerspectiveScale | 100 |
PerspectiveVertical | 0 |
PostCropVignetteAmount | 0 |
ProcessVersion | 6.7 |
ProfileDescription | sRGB IEC61966-2.1 |
RedHue | 0 |
RedSaturation | 0 |
Saturation | +83 |
SaturationAdjustmentAqua | 0 |
SaturationAdjustmentBlue | 0 |
SaturationAdjustmentGreen | 0 |
SaturationAdjustmentMagenta | 0 |
SaturationAdjustmentOrange | 0 |
SaturationAdjustmentPurple | 0 |
SaturationAdjustmentRed | 0 |
SaturationAdjustmentYellow | 0 |
ScaleFactor35efl | 1.6 |
SceneCaptureType | Standard |
SerialNumber | 430340505 |
Shadows2012 | 0 |
ShadowTint | 0 |
SharpenDetail | 14 |
SharpenEdgeMasking | 0 |
SharpenRadius | +2.3 |
Sharpness | 114 |
ShutterSpeed | 1/100 |
ShutterSpeedValue | 1/100 |
Software | Adobe Photoshop Lightroom 4.3 (Windows) |
SplitToningBalance | 0 |
SplitToningHighlightHue | 0 |
SplitToningHighlightSaturation | 0 |
SplitToningShadowHue | 0 |
SplitToningShadowSaturation | 0 |
ToneCurveName2012 | Linear |
ToneCurvePV2012 | 0, 0, 255, 255 |
ToneCurvePV2012Blue | 0, 0, 255, 255 |
ToneCurvePV2012Green | 0, 0, 255, 255 |
ToneCurvePV2012Red | 0, 0, 255, 255 |
Version | 7.3 |
Vibrance | 0 |
VignetteAmount | 0 |
WhiteBalance (1) | Custom |
WhiteBalance | Auto |
Whites2012 | -100 |