Felt | Verdi |
AlreadyApplied | True |
Aperture | 11.0 |
ApertureValue | 11.0 |
BitsPerSample | 8 |
BlueHue | 0 |
BlueSaturation | 0 |
Brightness | +30 |
By-line | Joachim Hillestad |
CameraProfile | Embedded |
Caption-Abstract | Sunrise over Charong |
ChromaticAberrationB | 0 |
ChromaticAberrationR | 0 |
Clarity | +38 |
ColorComponents | 3 |
ColorNoiseReduction | 0 |
ColorSpace | Uncalibrated |
Contrast | +50 |
ConvertToGrayscale | False |
Copyright | Joachim Hillestad |
CopyrightFlag | True |
CopyrightNotice | Joachim Hillestad |
CreateDate | 2009:04:16 06:18:18+02:00 |
Creator | Joachim Hillestad |
CreatorAddress | Heddekroken 1 |
CreatorCity | Stavanger |
CreatorCountry | Norway |
CreatorPostalCode | 4034 |
CreatorRegion | Rogaland |
CreatorTool | Adobe Photoshop Lightroom |
CreatorWorkEmail | jhillest@lyse.net |
CreatorWorkTelephone | +4740203893 |
CreatorWorkURL | http://joahill.net |
DateTimeOriginal (1) | 2009:04:16 06:18:18+02:00 |
DateTimeOriginal | 2009:04:16 06:18:18 |
Defringe | 0 |
Description | Sunrise over Charong |
ExifImageHeight | 2983 |
ExifImageWidth | 6215 |
Exposure | 0.00 |
ExposureTime | 1/6 |
FillLight | 75 |
FNumber | 11.0 |
FocalLength | 28.0 mm |
FocalLength35efl | 28.0 mm |
Format | image/tiff |
GreenHue | 0 |
GreenSaturation | 0 |
HasCrop | False |
HasSettings | True |
HighlightRecovery | 16 |
HueAdjustmentAqua | 0 |
HueAdjustmentBlue | 0 |
HueAdjustmentGreen | 0 |
HueAdjustmentMagenta | +31 |
HueAdjustmentOrange | +16 |
HueAdjustmentPurple | -28 |
HueAdjustmentRed | 0 |
HueAdjustmentYellow | 0 |
ImageDescription | Sunrise over Charong |
ImageHeight | 2983 |
ImageSize | 6215x2983 |
ImageWidth | 6215 |
IncrementalTemperature | 0 |
IncrementalTint | 0 |
ISO | 200 |
Keywords | Panorama, Sunrise |
LightValue | 8.5 |
LuminanceAdjustmentAqua | 0 |
LuminanceAdjustmentBlue | 0 |
LuminanceAdjustmentGreen | 0 |
LuminanceAdjustmentMagenta | 0 |
LuminanceAdjustmentOrange | -3 |
LuminanceAdjustmentPurple | 0 |
LuminanceAdjustmentRed | 0 |
LuminanceAdjustmentYellow | 0 |
LuminanceSmoothing | 0 |
Make | Canon |
Marked | True |
Megapixels | 18.5 |
Model | Canon EOS 10D |
ModifyDate (1) | 2010:07:18 23:29:13+02:00 |
ModifyDate | 2010:07:18 23:29:13 |
ObjectName | Sunrise over Charong |
ParametricDarks | 0 |
ParametricHighlights | 0 |
ParametricHighlightSplit | 75 |
ParametricLights | 0 |
ParametricMidtoneSplit | 50 |
ParametricShadows | 0 |
ParametricShadowSplit | 25 |
PostCropVignetteAmount | 0 |
ProfileDescription | sRGB IEC61966-2.1 |
RedHue | 0 |
RedSaturation | 0 |
Rights | Joachim Hillestad |
Saturation | 0 |
SaturationAdjustmentAqua | 0 |
SaturationAdjustmentBlue | 0 |
SaturationAdjustmentGreen | +46 |
SaturationAdjustmentMagenta | -14 |
SaturationAdjustmentOrange | -17 |
SaturationAdjustmentPurple | -38 |
SaturationAdjustmentRed | 0 |
SaturationAdjustmentYellow | +3 |
Shadows | 8 |
ShadowTint | 0 |
SharpenDetail | 25 |
SharpenEdgeMasking | 0 |
SharpenRadius | +1.0 |
Sharpness | 0 |
ShutterSpeed | 1/6 |
ShutterSpeedValue | 1/6 |
Software | LIBFORMAT (c) Pierre-e Gougelet |
SplitToningBalance | 0 |
SplitToningHighlightHue | 0 |
SplitToningHighlightSaturation | 0 |
SplitToningShadowHue | 0 |
SplitToningShadowSaturation | 0 |
Subject | Panorama, Sunrise |
Title | Sunrise over Charong |
ToneCurve | 0, 0, 255, 255 |
ToneCurveName | Linear |
UserComment | Kolor stitching | 9 pictures | Size: 6215 x 2983 | FOV: 60.42 x 29.01 ~ 18.88 | RMS: 2.90 | Lens: Standard | Projection: Spherical | Color: LDR | |
Version | 5.7 |
Vibrance | +30 |
VignetteAmount | 0 |
WhiteBalance | As Shot |