Felt | Verdi |
AlreadyApplied | True |
Aperture | 18.0 |
ApertureValue | 18.0 |
ApproximateFocusDistance | 1.76 |
BitsPerSample | 8 |
BlueHue | 0 |
BlueSaturation | 0 |
Brightness | +40 |
CameraProfile | Adobe Standard |
ChromaticAberrationB | 0 |
ChromaticAberrationR | 0 |
CircleOfConfusion | 0.031 mm |
Clarity | -15 |
ColorComponents | 3 |
ColorMode | RGB |
ColorNoiseReduction | 25 |
ColorNoiseReductionDetail | 50 |
ColorSpace | Uncalibrated |
ColorTemperature | 3400 |
Contrast | +24 |
ConvertToGrayscale | False |
CreateDate (1) | 2012:03:04 14:56:39.34+01:00 |
CreateDate | 2012:03:04 14:56:39 |
CreatorTool | Adobe Photoshop CS5.1 Windows |
CropAngle | 0 |
CropBottom | 0.959494 |
CropConstrainToWarp | 1 |
CropLeft | 0.067568 |
CropRight | 0.981419 |
CropTop | 0.010127 |
CustomRendered | Normal |
DateCreated (1) | 2012:03:04 |
DateCreated | 2012:03:04 14:56:39.034 |
DateTimeOriginal | 2012:03:04 14:56:39 |
Defringe | 0 |
DOF | 0.09 m (1.72 - 1.81 m) |
ExifImageHeight | 1000 |
ExifImageWidth | 873 |
Exposure | +1.30 |
ExposureCompensation | 0 |
ExposureMode | Manual |
ExposureProgram | Manual |
ExposureTime | 1/125 |
FillLight | 0 |
Firmware | 2.0.8 |
Flash | Off, Did not fire |
FlashCompensation | 0 |
FNumber | 18.0 |
FocalLength | 185.0 mm |
FocalLength35efl | 185.0 mm (35 mm equivalent: 180.5 mm) |
Format | image/jpeg |
FOV | 11.4 deg |
GrainAmount | 0 |
GreenHue | 0 |
GreenSaturation | 0 |
HasCrop | True |
HasSettings | True |
HighlightRecovery | 0 |
HueAdjustmentAqua | 0 |
HueAdjustmentBlue | 0 |
HueAdjustmentGreen | 0 |
HueAdjustmentMagenta | 0 |
HueAdjustmentOrange | 0 |
HueAdjustmentPurple | 0 |
HueAdjustmentRed | 0 |
HueAdjustmentYellow | 0 |
HyperfocalDistance | 61.76 m |
ICCProfileName | Adobe RGB (1998) |
ImageHeight | 1000 |
ImageNumber | 0 |
ImageSize | 873x1000 |
ImageWidth | 873 |
ISO | 100 |
Lens | EF70-200mm f/2.8L IS USM |
LensID (1) | 224 |
LensID | Canon EF 70-200mm f/2.8L IS USM |
LensInfo | 70-200mm f/? |
LensManualDistortionAmount | 0 |
LensModel | EF70-200mm f/2.8L IS USM |
LensProfileEnable | 0 |
LensProfileSetup | LensDefaults |
LightValue | 15.3 |
LuminanceAdjustmentAqua | 0 |
LuminanceAdjustmentBlue | 0 |
LuminanceAdjustmentGreen | 0 |
LuminanceAdjustmentMagenta | 0 |
LuminanceAdjustmentOrange | +4 |
LuminanceAdjustmentPurple | 0 |
LuminanceAdjustmentRed | +6 |
LuminanceAdjustmentYellow | 0 |
LuminanceSmoothing | 0 |
Make | Canon |
MaxApertureValue | 2.8 |
Megapixels | 0.873 |
MeteringMode | Spot |
Model | Canon EOS 5D Mark II |
ModifyDate (1) | 2013:03:21 13:31:57+01:00 |
ModifyDate | 2013:03:21 13:31:57 |
Orientation | Horizontal (normal) |
ParametricDarks | 0 |
ParametricHighlights | 0 |
ParametricHighlightSplit | 75 |
ParametricLights | 0 |
ParametricMidtoneSplit | 50 |
ParametricShadows | 0 |
ParametricShadowSplit | 25 |
PerspectiveHorizontal | 0 |
PerspectiveRotate | 0.0 |
PerspectiveScale | 100 |
PerspectiveVertical | 0 |
PostCropVignetteAmount | -33 |
PostCropVignetteFeather | 50 |
PostCropVignetteHighlightContrast | 0 |
PostCropVignetteMidpoint | 50 |
PostCropVignetteRoundness | 0 |
PostCropVignetteStyle | 1 |
ProcessVersion | 5.7 |
ProfileDescription | Adobe RGB (1998) |
Rating | 0 |
RawFileName | IMG_6532.CR2 |
RedHue | 0 |
RedSaturation | -1 |
Saturation | 0 |
SaturationAdjustmentAqua | +23 |
SaturationAdjustmentBlue | +8 |
SaturationAdjustmentGreen | 0 |
SaturationAdjustmentMagenta | -8 |
SaturationAdjustmentOrange | -55 |
SaturationAdjustmentPurple | -61 |
SaturationAdjustmentRed | -56 |
SaturationAdjustmentYellow | -43 |
ScaleFactor35efl | 1.0 |
SceneCaptureType | Standard |
SensitivityType | Unknown |
SerialNumber | 2531518135 |
Shadows | 5 |
ShadowTint | -1 |
SharpenDetail | 25 |
SharpenEdgeMasking | 0 |
SharpenRadius | +1.0 |
Sharpness | 25 |
ShutterSpeed | 1/125 |
ShutterSpeedValue | 1/125 |
SidecarForExtension | CR2 |
Software | Adobe Photoshop CS5.1 Windows |
SplitToningBalance | 0 |
SplitToningHighlightHue | 0 |
SplitToningHighlightSaturation | 0 |
SplitToningShadowHue | 0 |
SplitToningShadowSaturation | 0 |
SubjectDistance | 1.76 m |
Tint | -7 |
ToneCurve | 0, 0, 32, 22, 64, 56, 128, 128, 192, 196, 255, 255 |
ToneCurveName | Medium Contrast |
URL_List | |
Version | 6.3 |
Vibrance | 0 |
VignetteAmount | 0 |
WhiteBalance (1) | Custom |
WhiteBalance | Manual |