Felt | Verdi |
AlreadyApplied | True |
Aperture | 5.6 |
ApertureValue | 5.6 |
ApproximateFocusDistance | 3.98 |
AutoLateralCA | 0 |
BitsPerSample | 8 |
Blacks2012 | 0 |
BlueHue | 0 |
BlueSaturation | 0 |
Brightness | +50 |
CameraProfile | Adobe Standard |
CFAPattern | [Red,Green][Green,Blue] |
CircleOfConfusion | 0.030 mm |
Clarity | 0 |
Clarity2012 | +7 |
ColorComponents | 3 |
ColorNoiseReduction | 25 |
ColorNoiseReductionDetail | 50 |
ColorTemperature | 8610 |
Contrast (1) | +25 |
Contrast | Normal |
Contrast2012 | 0 |
ConvertToGrayscale | False |
CreateDate (1) | 2012:12:08 09:13:06.00 |
CreateDate | 2012:12:08 09:13:06 |
CreatorTool | Adobe Photoshop Lightroom 4.0 (Macintosh) |
CropAngle | 0 |
CropBottom | 0.787834 |
CropConstrainToWarp | 0 |
CropHeight | 1223 |
CropLeft | 0.316669 |
CropRight | 0.748549 |
CropTop | 0.355954 |
CropUnit | pixels |
CropWidth | 1838 |
CustomRendered | Normal |
DateCreated (1) | 2012:12:08 |
DateCreated | 2012:12:08 09:13:06.00 |
DateTimeOriginal | 2012:12:08 09:13:06 |
Defringe | 0 |
DigitalZoomRatio | 1 |
DOF | 0.03 m (3.97 - 4.00 m) |
Exposure | 0.00 |
Exposure2012 | +0.99 |
ExposureCompensation | 0 |
ExposureMode | Manual |
ExposureProgram | Manual |
ExposureTime | 1/200 |
FillLight | 0 |
Flash | No Flash |
FNumber | 5.6 |
FocalLength | 400.0 mm |
FocalLength35efl | 400.0 mm (35 mm equivalent: 400.0 mm) |
FocalLengthIn35mmFormat | 400 mm |
Format | image/jpeg |
FOV | 5.2 deg |
GainControl | Low gain up |
GradientBasedCorrActive | true |
GradientBasedCorrAmount | 1.000000 |
GradientBasedCorrBrightness | 0.320225 |
GradientBasedCorrClarity2012 (1) | -0.011236 |
GradientBasedCorrClarity2012 (2) | 0.797753 |
GradientBasedCorrClarity2012 | 0.056180 |
GradientBasedCorrContrast2012 | 0.011236 |
GradientBasedCorrExposure2012 (1) | -0.233848 |
GradientBasedCorrExposure2012 (2) | -0.085323 |
GradientBasedCorrExposure2012 | -0.191011 |
GradientBasedCorrHighlights2012 | 0.000000 |
GradientBasedCorrHue | 233.000000 |
GradientBasedCorrLuminanceNoise (1) | 0.123596 |
GradientBasedCorrLuminanceNoise (2) | 0.752809 |
GradientBasedCorrLuminanceNoise | 0.056180 |
GradientBasedCorrMaskFullX (1) | 0.653345 |
GradientBasedCorrMaskFullX (2) | 0.523135 |
GradientBasedCorrMaskFullX | 0.507074 |
GradientBasedCorrMaskFullY (1) | 0.770288 |
GradientBasedCorrMaskFullY (2) | 0.810820 |
GradientBasedCorrMaskFullY | 0.296835 |
GradientBasedCorrMaskValue | 1.000000 |
GradientBasedCorrMaskWhat | Mask/Gradient |
GradientBasedCorrMaskZeroX (1) | 0.619502 |
GradientBasedCorrMaskZeroX (2) | 0.522561 |
GradientBasedCorrMaskZeroX | 0.508794 |
GradientBasedCorrMaskZeroY (1) | 0.705608 |
GradientBasedCorrMaskZeroY (2) | 0.765976 |
GradientBasedCorrMaskZeroY | 0.327018 |
GradientBasedCorrMoire | 0.127019 |
GradientBasedCorrSaturation (5) | 0.056180 |
GradientBasedCorrSaturation | 0.000000 |
GradientBasedCorrShadows2012 | 0.011236 |
GradientBasedCorrSharpness (1) | 0.078652 |
GradientBasedCorrSharpness (2) | 0.842697 |
GradientBasedCorrSharpness | 0.056180 |
GradientBasedCorrTemperature | -0.033708 |
GradientBasedCorrTint | -0.017907 |
GradientBasedCorrWhat | Correction |
GrainAmount | 0 |
GreenHue | 0 |
GreenSaturation | 0 |
HasCrop | True |
HasSettings | True |
HighlightRecovery | 0 |
Highlights2012 | 0 |
HueAdjustmentAqua | 0 |
HueAdjustmentBlue | 0 |
HueAdjustmentGreen | 0 |
HueAdjustmentMagenta | 0 |
HueAdjustmentOrange | 0 |
HueAdjustmentPurple | 0 |
HueAdjustmentRed | 0 |
HueAdjustmentYellow | 0 |
HyperfocalDistance | 950.91 m |
ImageHeight | 1223 |
ImageNumber | 50077 |
ImageSize | 1838x1223 |
ImageWidth | 1838 |
ISO | 640 |
Lens | 70.0-200.0 mm f/2.8 |
LensID (1) | 162 |
LensID | AF-S Nikkor 70-200mm f/2.8G ED VR II |
LensInfo | 70-200mm f/2.8 |
LensManualDistortionAmount | 0 |
LensModel | 70.0-200.0 mm f/2.8 |
LensProfileEnable | 0 |
LensProfileSetup | LensDefaults |
LightSource | Fine Weather |
LightValue | 9.9 |
LuminanceAdjustmentAqua | 0 |
LuminanceAdjustmentBlue | 0 |
LuminanceAdjustmentGreen | 0 |
LuminanceAdjustmentMagenta | 0 |
LuminanceAdjustmentOrange | 0 |
LuminanceAdjustmentPurple | 0 |
LuminanceAdjustmentRed | 0 |
LuminanceAdjustmentYellow | 0 |
LuminanceNoiseReductionContrast | 32 |
LuminanceNoiseReductionDetail | 60 |
LuminanceSmoothing | 39 |
Make | NIKON CORPORATION |
MaxApertureValue | 5.7 |
Megapixels | 2.2 |
MeteringMode | Multi-segment |
Model | NIKON D3S |
ModifyDate (1) | 2013:03:23 00:07:57+01:00 |
ModifyDate | 2013:03:23 00:07:57 |
PaintCorrectionActive | true |
PaintCorrectionAmount | 1.000000 |
PaintCorrectionBrightness | 0.320225 |
PaintCorrectionClarity2012 (1) | 0.662921 |
PaintCorrectionClarity2012 | 0.528090 |
PaintCorrectionContrast2012 (1) | 0.095067 |
PaintCorrectionContrast2012 | 0.033708 |
PaintCorrectionExposure2012 (1) | 0.011236 |
PaintCorrectionExposure2012 | -0.030460 |
PaintCorrectionHighlights2012 (1) | 0.573034 |
PaintCorrectionHighlights2012 | 0.050562 |
PaintCorrectionHue | 233.000000 |
PaintCorrectionLuminanceNoise (1) | 0.390976 |
PaintCorrectionLuminanceNoise | 0.101124 |
PaintCorrectionMaskCenterWeight (1) | 0.000000 |
PaintCorrectionMaskCenterWeight | 0.383579 |
PaintCorrectionMaskFlow | 1.000000 |
PaintCorrectionMaskRadius (2) | 0.007923 |
PaintCorrectionMaskRadius | 0.010541 |
PaintCorrectionMaskValue | 1.000000 |
PaintCorrectionMaskWhat | Mask/Paint |
PaintCorrectionMoire (1) | 0.000000 |
PaintCorrectionMoire | 0.068381 |
PaintCorrectionSaturation (1) | 0.078652 |
PaintCorrectionSaturation (3) | 0.033708 |
PaintCorrectionSaturation | 0.000000 |
PaintCorrectionShadows2012 (1) | 0.011236 |
PaintCorrectionShadows2012 | 0.056180 |
PaintCorrectionSharpness (1) | 0.393258 |
PaintCorrectionSharpness | 0.078652 |
PaintCorrectionTemperature (1) | 0.033708 |
PaintCorrectionTemperature | -0.054951 |
PaintCorrectionTint | -0.017907 |
PaintCorrectionWhat | Correction |
ParametricDarks | 0 |
ParametricHighlights | 0 |
ParametricHighlightSplit | 75 |
ParametricLights | 0 |
ParametricMidtoneSplit | 50 |
ParametricShadows | 0 |
ParametricShadowSplit | 25 |
PerspectiveHorizontal | 0 |
PerspectiveRotate | 0.0 |
PerspectiveScale | 100 |
PerspectiveVertical | 0 |
PostCropVignetteAmount | -59 |
PostCropVignetteFeather | 88 |
PostCropVignetteHighlightContrast | 0 |
PostCropVignetteMidpoint | 50 |
PostCropVignetteRoundness | +58 |
PostCropVignetteStyle | 1 |
ProcessVersion | 6.7 |
ProfileDescription | sRGB IEC61966-2.1 |
Rating | 5 |
RedHue | 0 |
RedSaturation | 0 |
Saturation (1) | +12 |
Saturation | Normal |
SaturationAdjustmentAqua | 0 |
SaturationAdjustmentBlue | 0 |
SaturationAdjustmentGreen | 0 |
SaturationAdjustmentMagenta | 0 |
SaturationAdjustmentOrange | 0 |
SaturationAdjustmentPurple | 0 |
SaturationAdjustmentRed | 0 |
SaturationAdjustmentYellow | 0 |
ScaleFactor35efl | 1.0 |
SceneCaptureType | Standard |
SceneType | Directly photographed |
SensingMethod | One-chip color area |
SerialNumber | 2058033 |
Shadows | 5 |
Shadows2012 | 0 |
ShadowTint | 0 |
SharpenDetail | 43 |
SharpenEdgeMasking | 32 |
SharpenRadius | +1.6 |
Sharpness (1) | 70 |
Sharpness | Normal |
ShutterSpeed | 1/200 |
ShutterSpeedValue | 1/200 |
Software | Adobe Photoshop Lightroom 4.0 (Macintosh) |
SplitToningBalance | 0 |
SplitToningHighlightHue | 0 |
SplitToningHighlightSaturation | 0 |
SplitToningShadowHue | 0 |
SplitToningShadowSaturation | 0 |
SubjectDistanceRange | Unknown |
Tint | +10 |
ToneCurve | 0, 0, 255, 255 |
ToneCurveBlue | 0, 0, 255, 255 |
ToneCurveGreen | 0, 0, 255, 255 |
ToneCurveName | Linear |
ToneCurveName2012 | Linear |
ToneCurvePV2012 | 0, 0, 255, 255 |
ToneCurvePV2012Blue | 0, 0, 255, 255 |
ToneCurvePV2012Green | 0, 0, 255, 255 |
ToneCurvePV2012Red | 0, 0, 255, 255 |
ToneCurveRed | 0, 0, 255, 255 |
Version | 7.0 |
Vibrance | 0 |
VignetteAmount | 0 |
WhiteBalance (1) | Custom |
WhiteBalance | Manual |
Whites2012 | 0 |